BEGIN:VCALENDAR
VERSION:2.0
PRODID:-//Clayton Bocce League
METHOD:PUBLISH
BEGIN:VTIMEZONE
TZID:America/Los_Angeles
X-LIC-LOCATION:America/Los_Angeles
BEGIN:DAYLIGHT
TZOFFSETFROM:-0800
TZOFFSETTO:-0700
TZNAME:PDT
DTSTART:20070311T020000
RRULE:FREQ=YEARLY;BYMONTH=3;BYDAY=2SU
END:DAYLIGHT
BEGIN:STANDARD
TZOFFSETFROM:-0700
TZOFFSETTO:-0800
TZNAME:PST
DTSTART:20071104T020000
RRULE:FREQ=YEARLY;BYMONTH=11;BYDAY=1SU
END:STANDARD
END:VTIMEZONE
BEGIN:VEVENT
DTSTAMP:20260426T000000Z
UID:6c43575b-e849-4fb2-a55f-eeece9ae4ee8@ClaytonBocce
DTSTART;TZID=America/Los_Angeles:20260501T183000
DTEND;TZID=America/Los_Angeles:20260501T210000
STATUS:CONFIRMED
SUMMARY:Deboccery vs Eat Drink Bocce
URL:/League/Schedule/3258
DESCRIPTION:Regular Season match: Deboccery vs Eat Drink Boc
 ce
LOCATION:Newhall Court 8
END:VEVENT
BEGIN:VEVENT
DTSTAMP:20260426T000000Z
UID:55a6a3fa-c8da-4b89-9774-604ffb69050b@ClaytonBocce
DTSTART;TZID=America/Los_Angeles:20260508T183000
DTEND;TZID=America/Los_Angeles:20260508T210000
STATUS:CONFIRMED
SUMMARY:Deboccery vs The Crew
URL:/League/Schedule/3258
DESCRIPTION:Regular Season match: Deboccery vs The Crew
LOCATION:Newhall Court 6
END:VEVENT
BEGIN:VEVENT
DTSTAMP:20260426T000000Z
UID:96cc26a5-d700-43f2-9ff4-ba4cf8c9cce0@ClaytonBocce
DTSTART;TZID=America/Los_Angeles:20260522T183000
DTEND;TZID=America/Los_Angeles:20260522T210000
STATUS:CONFIRMED
SUMMARY:Deboccery vs Mangia Bene
URL:/League/Schedule/3258
DESCRIPTION:Regular Season match: Deboccery vs Mangia Bene
LOCATION:Newhall Court 1
END:VEVENT
BEGIN:VEVENT
DTSTAMP:20260426T000000Z
UID:041c76cc-3cd8-49a9-81de-c9cebb25b8ff@ClaytonBocce
DTSTART;TZID=America/Los_Angeles:20260529T183000
DTEND;TZID=America/Los_Angeles:20260529T210000
STATUS:CONFIRMED
SUMMARY:Deboccery vs Out 4 Fun
URL:/League/Schedule/3258
DESCRIPTION:Regular Season match: Deboccery vs Out 4 Fun
LOCATION:Newhall Court 4
END:VEVENT
BEGIN:VEVENT
DTSTAMP:20260426T000000Z
UID:675b4305-292c-41f7-98c9-3906afd8a5c2@ClaytonBocce
DTSTART;TZID=America/Los_Angeles:20260605T183000
DTEND;TZID=America/Los_Angeles:20260605T210000
STATUS:CONFIRMED
SUMMARY:Deboccery vs WHABSAB
URL:/League/Schedule/3258
DESCRIPTION:Regular Season match: Deboccery vs WHABSAB
LOCATION:Newhall Court 7
END:VEVENT
BEGIN:VEVENT
DTSTAMP:20260426T000000Z
UID:7d80c38e-1c87-407a-a416-275049350fd6@ClaytonBocce
DTSTART;TZID=America/Los_Angeles:20260612T183000
DTEND;TZID=America/Los_Angeles:20260612T210000
STATUS:CONFIRMED
SUMMARY:Deboccery vs Bad Bocce
URL:/League/Schedule/3258
DESCRIPTION:Regular Season match: Deboccery vs Bad Bocce
LOCATION:Newhall Court 6
END:VEVENT
BEGIN:VEVENT
DTSTAMP:20260426T000000Z
UID:074b7563-c290-4903-9f86-3f64f166df0a@ClaytonBocce
DTSTART;TZID=America/Los_Angeles:20260619T183000
DTEND;TZID=America/Los_Angeles:20260619T210000
STATUS:CONFIRMED
SUMMARY:Deboccery vs Slow Your Roll
URL:/League/Schedule/3258
DESCRIPTION:Regular Season match: Deboccery vs Slow Your Rol
 l
LOCATION:Newhall Court 3
END:VEVENT
BEGIN:VEVENT
DTSTAMP:20260426T000000Z
UID:1c71a0c0-83a9-4cd6-9bab-54fbe1cd5b1c@ClaytonBocce
DTSTART;TZID=America/Los_Angeles:20260626T183000
DTEND;TZID=America/Los_Angeles:20260626T210000
STATUS:CONFIRMED
SUMMARY:Deboccery vs No Place Like Roll'em
URL:/League/Schedule/3258
DESCRIPTION:Regular Season match: Deboccery vs No Place Like
  Roll'em
LOCATION:Newhall Court 5
END:VEVENT
BEGIN:VEVENT
DTSTAMP:20260426T000000Z
UID:867b8649-7952-46d9-a947-33df8a6d0a5a@ClaytonBocce
DTSTART;TZID=America/Los_Angeles:20260710T183000
DTEND;TZID=America/Los_Angeles:20260710T210000
STATUS:CONFIRMED
SUMMARY:Deboccery vs Eat Drink Bocce
URL:/League/Schedule/3258
DESCRIPTION:Regular Season match: Deboccery vs Eat Drink Boc
 ce
LOCATION:Newhall Court 1
END:VEVENT
BEGIN:VEVENT
DTSTAMP:20260426T000000Z
UID:72cdcc2f-634b-4f40-ab02-c85b09d7d5db@ClaytonBocce
DTSTART;TZID=America/Los_Angeles:20260717T183000
DTEND;TZID=America/Los_Angeles:20260717T210000
STATUS:CONFIRMED
SUMMARY:Deboccery vs The Crew
URL:/League/Schedule/3258
DESCRIPTION:Regular Season match: Deboccery vs The Crew
LOCATION:Newhall Court 7
END:VEVENT
BEGIN:VEVENT
DTSTAMP:20260426T000000Z
UID:c27488ad-9fad-4aff-86b0-c64c8df451f5@ClaytonBocce
DTSTART;TZID=America/Los_Angeles:20260731T183000
DTEND;TZID=America/Los_Angeles:20260731T210000
STATUS:CONFIRMED
SUMMARY:Deboccery vs Mangia Bene
URL:/League/Schedule/3258
DESCRIPTION:Regular Season match: Deboccery vs Mangia Bene
LOCATION:Newhall Court 2
END:VEVENT
BEGIN:VEVENT
DTSTAMP:20260426T000000Z
UID:8c7411ce-7eda-4c60-9ec6-51c8c138a3fe@ClaytonBocce
DTSTART;TZID=America/Los_Angeles:20260807T183000
DTEND;TZID=America/Los_Angeles:20260807T210000
STATUS:CONFIRMED
SUMMARY:Deboccery vs Out 4 Fun
URL:/League/Schedule/3258
DESCRIPTION:Regular Season match: Deboccery vs Out 4 Fun
LOCATION:Newhall Court 8
END:VEVENT
BEGIN:VEVENT
DTSTAMP:20260426T000000Z
UID:7e564815-0ca7-4aa5-813c-07accc31a94c@ClaytonBocce
DTSTART;TZID=America/Los_Angeles:20260814T183000
DTEND;TZID=America/Los_Angeles:20260814T210000
STATUS:CONFIRMED
SUMMARY:Deboccery vs WHABSAB
URL:/League/Schedule/3258
DESCRIPTION:Regular Season match: Deboccery vs WHABSAB
LOCATION:Newhall Court 4
END:VEVENT
BEGIN:VEVENT
DTSTAMP:20260426T000000Z
UID:126a9aa7-4169-430f-a2c6-dfe146819f16@ClaytonBocce
DTSTART;TZID=America/Los_Angeles:20260821T183000
DTEND;TZID=America/Los_Angeles:20260821T210000
STATUS:CONFIRMED
SUMMARY:Deboccery vs Bad Bocce
URL:/League/Schedule/3258
DESCRIPTION:Regular Season match: Deboccery vs Bad Bocce
LOCATION:Newhall Court 7
END:VEVENT
BEGIN:VEVENT
DTSTAMP:20260426T000000Z
UID:4dedcbfc-9324-4fe1-9587-b8d87d692444@ClaytonBocce
DTSTART;TZID=America/Los_Angeles:20260828T183000
DTEND;TZID=America/Los_Angeles:20260828T210000
STATUS:CONFIRMED
SUMMARY:Deboccery vs Slow Your Roll
URL:/League/Schedule/3258
DESCRIPTION:Regular Season match: Deboccery vs Slow Your Rol
 l
LOCATION:Newhall Court 8
END:VEVENT
BEGIN:VEVENT
DTSTAMP:20260426T000000Z
UID:f7e6bf42-d6be-464d-8e03-6d575ca35e76@ClaytonBocce
DTSTART;TZID=America/Los_Angeles:20260904T183000
DTEND;TZID=America/Los_Angeles:20260904T210000
STATUS:CONFIRMED
SUMMARY:Deboccery vs No Place Like Roll'em
URL:/League/Schedule/3258
DESCRIPTION:Regular Season match: Deboccery vs No Place Like
  Roll'em
LOCATION:Newhall Court 5
END:VEVENT
END:VCALENDAR
