BEGIN:VCALENDAR
VERSION:2.0
PRODID:-//Clayton Bocce League
METHOD:PUBLISH
BEGIN:VTIMEZONE
TZID:America/Los_Angeles
X-LIC-LOCATION:America/Los_Angeles
BEGIN:DAYLIGHT
TZOFFSETFROM:-0800
TZOFFSETTO:-0700
TZNAME:PDT
DTSTART:20070311T020000
RRULE:FREQ=YEARLY;BYMONTH=3;BYDAY=2SU
END:DAYLIGHT
BEGIN:STANDARD
TZOFFSETFROM:-0700
TZOFFSETTO:-0800
TZNAME:PST
DTSTART:20071104T020000
RRULE:FREQ=YEARLY;BYMONTH=11;BYDAY=1SU
END:STANDARD
END:VTIMEZONE
BEGIN:VEVENT
DTSTAMP:20260426T000000Z
UID:6c43575b-e849-4fb2-a55f-eeece9ae4ee8@ClaytonBocce
DTSTART;TZID=America/Los_Angeles:20260501T183000
DTEND;TZID=America/Los_Angeles:20260501T210000
STATUS:CONFIRMED
SUMMARY:Eat Drink Bocce vs Deboccery
URL:/League/Schedule/3254
DESCRIPTION:Regular Season match: Eat Drink Bocce vs Debocce
 ry
LOCATION:Newhall Court 8
END:VEVENT
BEGIN:VEVENT
DTSTAMP:20260426T000000Z
UID:62e83a60-23a0-42bb-8b08-95d7123c9eaf@ClaytonBocce
DTSTART;TZID=America/Los_Angeles:20260508T183000
DTEND;TZID=America/Los_Angeles:20260508T210000
STATUS:CONFIRMED
SUMMARY:Eat Drink Bocce vs Mangia Bene
URL:/League/Schedule/3254
DESCRIPTION:Regular Season match: Eat Drink Bocce vs Mangia 
 Bene
LOCATION:Newhall Court 2
END:VEVENT
BEGIN:VEVENT
DTSTAMP:20260426T000000Z
UID:72d06681-7c7f-4faa-9237-305e8e1221fb@ClaytonBocce
DTSTART;TZID=America/Los_Angeles:20260515T183000
DTEND;TZID=America/Los_Angeles:20260515T210000
STATUS:CONFIRMED
SUMMARY:Eat Drink Bocce vs Out 4 Fun
URL:/League/Schedule/3254
DESCRIPTION:Regular Season match: Eat Drink Bocce vs Out 4 F
 un
LOCATION:Newhall Court 1
END:VEVENT
BEGIN:VEVENT
DTSTAMP:20260426T000000Z
UID:33d10e69-742c-42bd-a7c9-1e9ae1ec4c7b@ClaytonBocce
DTSTART;TZID=America/Los_Angeles:20260522T183000
DTEND;TZID=America/Los_Angeles:20260522T210000
STATUS:CONFIRMED
SUMMARY:Eat Drink Bocce vs WHABSAB
URL:/League/Schedule/3254
DESCRIPTION:Regular Season match: Eat Drink Bocce vs WHABSAB
LOCATION:Newhall Court 6
END:VEVENT
BEGIN:VEVENT
DTSTAMP:20260426T000000Z
UID:d7118735-5102-42d9-9711-442cc962c574@ClaytonBocce
DTSTART;TZID=America/Los_Angeles:20260529T183000
DTEND;TZID=America/Los_Angeles:20260529T210000
STATUS:CONFIRMED
SUMMARY:Eat Drink Bocce vs Bad Bocce
URL:/League/Schedule/3254
DESCRIPTION:Regular Season match: Eat Drink Bocce vs Bad Boc
 ce
LOCATION:Newhall Court 7
END:VEVENT
BEGIN:VEVENT
DTSTAMP:20260426T000000Z
UID:558b4e1c-4fb9-44ed-ac88-d88712f2cbc5@ClaytonBocce
DTSTART;TZID=America/Los_Angeles:20260605T183000
DTEND;TZID=America/Los_Angeles:20260605T210000
STATUS:CONFIRMED
SUMMARY:Eat Drink Bocce vs Slow Your Roll
URL:/League/Schedule/3254
DESCRIPTION:Regular Season match: Eat Drink Bocce vs Slow Yo
 ur Roll
LOCATION:Newhall Court 1
END:VEVENT
BEGIN:VEVENT
DTSTAMP:20260426T000000Z
UID:3cdd59ae-01f7-47cb-acf6-f945dc87d9a2@ClaytonBocce
DTSTART;TZID=America/Los_Angeles:20260612T183000
DTEND;TZID=America/Los_Angeles:20260612T210000
STATUS:CONFIRMED
SUMMARY:Eat Drink Bocce vs No Place Like Roll'em
URL:/League/Schedule/3254
DESCRIPTION:Regular Season match: Eat Drink Bocce vs No Plac
 e Like Roll'em
LOCATION:Newhall Court 2
END:VEVENT
BEGIN:VEVENT
DTSTAMP:20260426T000000Z
UID:19a38281-bded-4080-9b86-9e35196cda3b@ClaytonBocce
DTSTART;TZID=America/Los_Angeles:20260626T183000
DTEND;TZID=America/Los_Angeles:20260626T210000
STATUS:CONFIRMED
SUMMARY:Eat Drink Bocce vs The Crew
URL:/League/Schedule/3254
DESCRIPTION:Regular Season match: Eat Drink Bocce vs The Cre
 w
LOCATION:Newhall Court 3
END:VEVENT
BEGIN:VEVENT
DTSTAMP:20260426T000000Z
UID:867b8649-7952-46d9-a947-33df8a6d0a5a@ClaytonBocce
DTSTART;TZID=America/Los_Angeles:20260710T183000
DTEND;TZID=America/Los_Angeles:20260710T210000
STATUS:CONFIRMED
SUMMARY:Eat Drink Bocce vs Deboccery
URL:/League/Schedule/3254
DESCRIPTION:Regular Season match: Eat Drink Bocce vs Debocce
 ry
LOCATION:Newhall Court 1
END:VEVENT
BEGIN:VEVENT
DTSTAMP:20260426T000000Z
UID:4dddf9fb-077b-4590-90b9-6b10d47cd8c7@ClaytonBocce
DTSTART;TZID=America/Los_Angeles:20260717T183000
DTEND;TZID=America/Los_Angeles:20260717T210000
STATUS:CONFIRMED
SUMMARY:Eat Drink Bocce vs Mangia Bene
URL:/League/Schedule/3254
DESCRIPTION:Regular Season match: Eat Drink Bocce vs Mangia 
 Bene
LOCATION:Newhall Court 8
END:VEVENT
BEGIN:VEVENT
DTSTAMP:20260426T000000Z
UID:2354f01d-1bcc-4e8e-a1c2-850764a72175@ClaytonBocce
DTSTART;TZID=America/Los_Angeles:20260724T183000
DTEND;TZID=America/Los_Angeles:20260724T210000
STATUS:CONFIRMED
SUMMARY:Eat Drink Bocce vs Out 4 Fun
URL:/League/Schedule/3254
DESCRIPTION:Regular Season match: Eat Drink Bocce vs Out 4 F
 un
LOCATION:Newhall Court 7
END:VEVENT
BEGIN:VEVENT
DTSTAMP:20260426T000000Z
UID:654bc5ff-ec17-41f3-b723-90035544e42e@ClaytonBocce
DTSTART;TZID=America/Los_Angeles:20260731T183000
DTEND;TZID=America/Los_Angeles:20260731T210000
STATUS:CONFIRMED
SUMMARY:Eat Drink Bocce vs WHABSAB
URL:/League/Schedule/3254
DESCRIPTION:Regular Season match: Eat Drink Bocce vs WHABSAB
LOCATION:Newhall Court 5
END:VEVENT
BEGIN:VEVENT
DTSTAMP:20260426T000000Z
UID:f88db2d8-59b2-4001-be15-04e3845a740e@ClaytonBocce
DTSTART;TZID=America/Los_Angeles:20260807T183000
DTEND;TZID=America/Los_Angeles:20260807T210000
STATUS:CONFIRMED
SUMMARY:Eat Drink Bocce vs Bad Bocce
URL:/League/Schedule/3254
DESCRIPTION:Regular Season match: Eat Drink Bocce vs Bad Boc
 ce
LOCATION:Newhall Court 4
END:VEVENT
BEGIN:VEVENT
DTSTAMP:20260426T000000Z
UID:5bea25ef-7d9e-4a3f-99db-46fcba40c8b2@ClaytonBocce
DTSTART;TZID=America/Los_Angeles:20260814T183000
DTEND;TZID=America/Los_Angeles:20260814T210000
STATUS:CONFIRMED
SUMMARY:Eat Drink Bocce vs Slow Your Roll
URL:/League/Schedule/3254
DESCRIPTION:Regular Season match: Eat Drink Bocce vs Slow Yo
 ur Roll
LOCATION:Newhall Court 3
END:VEVENT
BEGIN:VEVENT
DTSTAMP:20260426T000000Z
UID:30541292-386e-42aa-94a6-98cad6c39b61@ClaytonBocce
DTSTART;TZID=America/Los_Angeles:20260821T183000
DTEND;TZID=America/Los_Angeles:20260821T210000
STATUS:CONFIRMED
SUMMARY:Eat Drink Bocce vs No Place Like Roll'em
URL:/League/Schedule/3254
DESCRIPTION:Regular Season match: Eat Drink Bocce vs No Plac
 e Like Roll'em
LOCATION:Newhall Court 4
END:VEVENT
BEGIN:VEVENT
DTSTAMP:20260426T000000Z
UID:c2e35778-b21f-4560-a3ce-264332ec12cf@ClaytonBocce
DTSTART;TZID=America/Los_Angeles:20260904T183000
DTEND;TZID=America/Los_Angeles:20260904T210000
STATUS:CONFIRMED
SUMMARY:Eat Drink Bocce vs The Crew
URL:/League/Schedule/3254
DESCRIPTION:Regular Season match: Eat Drink Bocce vs The Cre
 w
LOCATION:Newhall Court 2
END:VEVENT
END:VCALENDAR
