BEGIN:VCALENDAR
VERSION:2.0
PRODID:-//Clayton Bocce League
METHOD:PUBLISH
BEGIN:VTIMEZONE
TZID:America/Los_Angeles
X-LIC-LOCATION:America/Los_Angeles
BEGIN:DAYLIGHT
TZOFFSETFROM:-0800
TZOFFSETTO:-0700
TZNAME:PDT
DTSTART:20070311T020000
RRULE:FREQ=YEARLY;BYMONTH=3;BYDAY=2SU
END:DAYLIGHT
BEGIN:STANDARD
TZOFFSETFROM:-0700
TZOFFSETTO:-0800
TZNAME:PST
DTSTART:20071104T020000
RRULE:FREQ=YEARLY;BYMONTH=11;BYDAY=1SU
END:STANDARD
END:VTIMEZONE
BEGIN:VEVENT
DTSTAMP:20260426T000000Z
UID:2de85599-24c9-42ca-b0c0-9850d8ccabd4@ClaytonBocce
DTSTART;TZID=America/Los_Angeles:20260501T183000
DTEND;TZID=America/Los_Angeles:20260501T210000
STATUS:CONFIRMED
SUMMARY:Team Badabing vs Stone Rollers
URL:/League/Schedule/3251
DESCRIPTION:Regular Season match: Team Badabing vs Stone Rol
 lers
LOCATION:Newhall Court 4
END:VEVENT
BEGIN:VEVENT
DTSTAMP:20260426T000000Z
UID:bbb52d57-84a9-41e8-8ddd-83eb88e695d4@ClaytonBocce
DTSTART;TZID=America/Los_Angeles:20260508T183000
DTEND;TZID=America/Los_Angeles:20260508T210000
STATUS:CONFIRMED
SUMMARY:Team Badabing vs Ballsagna
URL:/League/Schedule/3251
DESCRIPTION:Regular Season match: Team Badabing vs Ballsagna
LOCATION:Newhall Court 7
END:VEVENT
BEGIN:VEVENT
DTSTAMP:20260426T000000Z
UID:34a77228-65ea-4ef6-a990-4189ac0ed26a@ClaytonBocce
DTSTART;TZID=America/Los_Angeles:20260515T183000
DTEND;TZID=America/Los_Angeles:20260515T210000
STATUS:CONFIRMED
SUMMARY:Team Badabing vs Team Rehab
URL:/League/Schedule/3251
DESCRIPTION:Regular Season match: Team Badabing vs Team Reha
 b
LOCATION:Newhall Court 6
END:VEVENT
BEGIN:VEVENT
DTSTAMP:20260426T000000Z
UID:677ce4f1-775e-4ff8-a76b-cee556a65564@ClaytonBocce
DTSTART;TZID=America/Los_Angeles:20260522T183000
DTEND;TZID=America/Los_Angeles:20260522T210000
STATUS:CONFIRMED
SUMMARY:Team Badabing vs Bossy Balls
URL:/League/Schedule/3251
DESCRIPTION:Regular Season match: Team Badabing vs Bossy Bal
 ls
LOCATION:Newhall Court 2
END:VEVENT
BEGIN:VEVENT
DTSTAMP:20260426T000000Z
UID:205b8257-396f-4837-9bb9-8cc7c6db037f@ClaytonBocce
DTSTART;TZID=America/Los_Angeles:20260529T183000
DTEND;TZID=America/Los_Angeles:20260529T210000
STATUS:CONFIRMED
SUMMARY:Team Badabing vs Gli Stranneri
URL:/League/Schedule/3251
DESCRIPTION:Regular Season match: Team Badabing vs Gli Stran
 neri
LOCATION:Newhall Court 8
END:VEVENT
BEGIN:VEVENT
DTSTAMP:20260426T000000Z
UID:97f199a8-db08-49c3-912d-a5f0746784cf@ClaytonBocce
DTSTART;TZID=America/Los_Angeles:20260612T183000
DTEND;TZID=America/Los_Angeles:20260612T210000
STATUS:CONFIRMED
SUMMARY:Team Badabing vs Vechio Amicos
URL:/League/Schedule/3251
DESCRIPTION:Regular Season match: Team Badabing vs Vechio Am
 icos
LOCATION:Newhall Court 5
END:VEVENT
BEGIN:VEVENT
DTSTAMP:20260426T000000Z
UID:fd134150-b3c6-44ee-b923-7c8ccf3ccbf6@ClaytonBocce
DTSTART;TZID=America/Los_Angeles:20260619T183000
DTEND;TZID=America/Los_Angeles:20260619T210000
STATUS:CONFIRMED
SUMMARY:Team Badabing vs Whine Time
URL:/League/Schedule/3251
DESCRIPTION:Regular Season match: Team Badabing vs Whine Tim
 e
LOCATION:Newhall Court 4
END:VEVENT
BEGIN:VEVENT
DTSTAMP:20260426T000000Z
UID:29bcca5e-1d93-44bf-824b-996a9435c0dc@ClaytonBocce
DTSTART;TZID=America/Los_Angeles:20260626T183000
DTEND;TZID=America/Los_Angeles:20260626T210000
STATUS:CONFIRMED
SUMMARY:Team Badabing vs Bella Sera
URL:/League/Schedule/3251
DESCRIPTION:Regular Season match: Team Badabing vs Bella Ser
 a
LOCATION:Newhall Court 1
END:VEVENT
BEGIN:VEVENT
DTSTAMP:20260426T000000Z
UID:fefec883-2ce5-402e-9f63-1434ab07ef23@ClaytonBocce
DTSTART;TZID=America/Los_Angeles:20260710T183000
DTEND;TZID=America/Los_Angeles:20260710T210000
STATUS:CONFIRMED
SUMMARY:Team Badabing vs Stone Rollers
URL:/League/Schedule/3251
DESCRIPTION:Regular Season match: Team Badabing vs Stone Rol
 lers
LOCATION:Newhall Court 2
END:VEVENT
BEGIN:VEVENT
DTSTAMP:20260426T000000Z
UID:7d76923c-e8d8-4d6b-9e57-51ccbd9a679e@ClaytonBocce
DTSTART;TZID=America/Los_Angeles:20260717T183000
DTEND;TZID=America/Los_Angeles:20260717T210000
STATUS:CONFIRMED
SUMMARY:Team Badabing vs Ballsagna
URL:/League/Schedule/3251
DESCRIPTION:Regular Season match: Team Badabing vs Ballsagna
LOCATION:Newhall Court 6
END:VEVENT
BEGIN:VEVENT
DTSTAMP:20260426T000000Z
UID:99698316-4c58-4106-a8bc-773eae7d7b22@ClaytonBocce
DTSTART;TZID=America/Los_Angeles:20260724T183000
DTEND;TZID=America/Los_Angeles:20260724T210000
STATUS:CONFIRMED
SUMMARY:Team Badabing vs Team Rehab
URL:/League/Schedule/3251
DESCRIPTION:Regular Season match: Team Badabing vs Team Reha
 b
LOCATION:Newhall Court 5
END:VEVENT
BEGIN:VEVENT
DTSTAMP:20260426T000000Z
UID:db080ffe-53b7-426a-9019-03996e89b9e2@ClaytonBocce
DTSTART;TZID=America/Los_Angeles:20260731T183000
DTEND;TZID=America/Los_Angeles:20260731T210000
STATUS:CONFIRMED
SUMMARY:Team Badabing vs Bossy Balls
URL:/League/Schedule/3251
DESCRIPTION:Regular Season match: Team Badabing vs Bossy Bal
 ls
LOCATION:Newhall Court 4
END:VEVENT
BEGIN:VEVENT
DTSTAMP:20260426T000000Z
UID:89e76950-6648-4ea7-acbf-5db3deed80ba@ClaytonBocce
DTSTART;TZID=America/Los_Angeles:20260807T183000
DTEND;TZID=America/Los_Angeles:20260807T210000
STATUS:CONFIRMED
SUMMARY:Team Badabing vs Gli Stranneri
URL:/League/Schedule/3251
DESCRIPTION:Regular Season match: Team Badabing vs Gli Stran
 neri
LOCATION:Newhall Court 7
END:VEVENT
BEGIN:VEVENT
DTSTAMP:20260426T000000Z
UID:b2747e26-3dbc-445c-a8f7-ff957b8b28f9@ClaytonBocce
DTSTART;TZID=America/Los_Angeles:20260821T183000
DTEND;TZID=America/Los_Angeles:20260821T210000
STATUS:CONFIRMED
SUMMARY:Team Badabing vs Vechio Amicos
URL:/League/Schedule/3251
DESCRIPTION:Regular Season match: Team Badabing vs Vechio Am
 icos
LOCATION:Newhall Court 5
END:VEVENT
BEGIN:VEVENT
DTSTAMP:20260426T000000Z
UID:fdec0612-adfa-4b1d-837b-dccbd8bf8bc0@ClaytonBocce
DTSTART;TZID=America/Los_Angeles:20260828T183000
DTEND;TZID=America/Los_Angeles:20260828T210000
STATUS:CONFIRMED
SUMMARY:Team Badabing vs Whine Time
URL:/League/Schedule/3251
DESCRIPTION:Regular Season match: Team Badabing vs Whine Tim
 e
LOCATION:Newhall Court 3
END:VEVENT
BEGIN:VEVENT
DTSTAMP:20260426T000000Z
UID:a8afe879-6e74-45a5-a94b-40bc6ec3d77e@ClaytonBocce
DTSTART;TZID=America/Los_Angeles:20260904T183000
DTEND;TZID=America/Los_Angeles:20260904T210000
STATUS:CONFIRMED
SUMMARY:Team Badabing vs Bella Sera
URL:/League/Schedule/3251
DESCRIPTION:Regular Season match: Team Badabing vs Bella Ser
 a
LOCATION:Newhall Court 8
END:VEVENT
END:VCALENDAR
