BEGIN:VCALENDAR
VERSION:2.0
PRODID:-//Clayton Bocce League
METHOD:PUBLISH
BEGIN:VTIMEZONE
TZID:America/Los_Angeles
X-LIC-LOCATION:America/Los_Angeles
BEGIN:DAYLIGHT
TZOFFSETFROM:-0800
TZOFFSETTO:-0700
TZNAME:PDT
DTSTART:20070311T020000
RRULE:FREQ=YEARLY;BYMONTH=3;BYDAY=2SU
END:DAYLIGHT
BEGIN:STANDARD
TZOFFSETFROM:-0700
TZOFFSETTO:-0800
TZNAME:PST
DTSTART:20071104T020000
RRULE:FREQ=YEARLY;BYMONTH=11;BYDAY=1SU
END:STANDARD
END:VTIMEZONE
BEGIN:VEVENT
DTSTAMP:20260426T000000Z
UID:2de85599-24c9-42ca-b0c0-9850d8ccabd4@ClaytonBocce
DTSTART;TZID=America/Los_Angeles:20260501T183000
DTEND;TZID=America/Los_Angeles:20260501T210000
STATUS:CONFIRMED
SUMMARY:Stone Rollers vs Team Badabing
URL:/League/Schedule/3261
DESCRIPTION:Regular Season match: Stone Rollers vs Team Bada
 bing
LOCATION:Newhall Court 4
END:VEVENT
BEGIN:VEVENT
DTSTAMP:20260426T000000Z
UID:cccd3f12-c0f0-423c-9a49-eb4cfa5509a5@ClaytonBocce
DTSTART;TZID=America/Los_Angeles:20260508T183000
DTEND;TZID=America/Los_Angeles:20260508T210000
STATUS:CONFIRMED
SUMMARY:Stone Rollers vs Vechio Amicos
URL:/League/Schedule/3261
DESCRIPTION:Regular Season match: Stone Rollers vs Vechio Am
 icos
LOCATION:Newhall Court 1
END:VEVENT
BEGIN:VEVENT
DTSTAMP:20260426T000000Z
UID:21ec84f6-5b08-4330-b76e-ed519450dd69@ClaytonBocce
DTSTART;TZID=America/Los_Angeles:20260515T183000
DTEND;TZID=America/Los_Angeles:20260515T210000
STATUS:CONFIRMED
SUMMARY:Stone Rollers vs Whine Time
URL:/League/Schedule/3261
DESCRIPTION:Regular Season match: Stone Rollers vs Whine Tim
 e
LOCATION:Newhall Court 3
END:VEVENT
BEGIN:VEVENT
DTSTAMP:20260426T000000Z
UID:fd78c7e7-4cb7-4fd7-aafc-cf34ef785526@ClaytonBocce
DTSTART;TZID=America/Los_Angeles:20260522T183000
DTEND;TZID=America/Los_Angeles:20260522T210000
STATUS:CONFIRMED
SUMMARY:Stone Rollers vs Bella Sera
URL:/League/Schedule/3261
DESCRIPTION:Regular Season match: Stone Rollers vs Bella Ser
 a
LOCATION:Newhall Court 7
END:VEVENT
BEGIN:VEVENT
DTSTAMP:20260426T000000Z
UID:f655958b-d798-4a53-b64b-7f73c6006146@ClaytonBocce
DTSTART;TZID=America/Los_Angeles:20260605T183000
DTEND;TZID=America/Los_Angeles:20260605T210000
STATUS:CONFIRMED
SUMMARY:Stone Rollers vs Ballsagna
URL:/League/Schedule/3261
DESCRIPTION:Regular Season match: Stone Rollers vs Ballsagna
LOCATION:Newhall Court 2
END:VEVENT
BEGIN:VEVENT
DTSTAMP:20260426T000000Z
UID:78bc4dfb-be7e-4d0c-a4a8-f401d049d3e6@ClaytonBocce
DTSTART;TZID=America/Los_Angeles:20260612T183000
DTEND;TZID=America/Los_Angeles:20260612T210000
STATUS:CONFIRMED
SUMMARY:Stone Rollers vs Team Rehab
URL:/League/Schedule/3261
DESCRIPTION:Regular Season match: Stone Rollers vs Team Reha
 b
LOCATION:Newhall Court 8
END:VEVENT
BEGIN:VEVENT
DTSTAMP:20260426T000000Z
UID:36c4752d-6937-495b-b00a-b48b7f35ed9e@ClaytonBocce
DTSTART;TZID=America/Los_Angeles:20260619T183000
DTEND;TZID=America/Los_Angeles:20260619T210000
STATUS:CONFIRMED
SUMMARY:Stone Rollers vs Bossy Balls
URL:/League/Schedule/3261
DESCRIPTION:Regular Season match: Stone Rollers vs Bossy Bal
 ls
LOCATION:Newhall Court 5
END:VEVENT
BEGIN:VEVENT
DTSTAMP:20260426T000000Z
UID:3ebcd261-387e-4f4f-8b8c-735fe4190114@ClaytonBocce
DTSTART;TZID=America/Los_Angeles:20260626T183000
DTEND;TZID=America/Los_Angeles:20260626T210000
STATUS:CONFIRMED
SUMMARY:Stone Rollers vs Gli Stranneri
URL:/League/Schedule/3261
DESCRIPTION:Regular Season match: Stone Rollers vs Gli Stran
 neri
LOCATION:Newhall Court 6
END:VEVENT
BEGIN:VEVENT
DTSTAMP:20260426T000000Z
UID:fefec883-2ce5-402e-9f63-1434ab07ef23@ClaytonBocce
DTSTART;TZID=America/Los_Angeles:20260710T183000
DTEND;TZID=America/Los_Angeles:20260710T210000
STATUS:CONFIRMED
SUMMARY:Stone Rollers vs Team Badabing
URL:/League/Schedule/3261
DESCRIPTION:Regular Season match: Stone Rollers vs Team Bada
 bing
LOCATION:Newhall Court 2
END:VEVENT
BEGIN:VEVENT
DTSTAMP:20260426T000000Z
UID:4ec01ea4-c55d-4c7d-9982-aa8ff4d3bcfb@ClaytonBocce
DTSTART;TZID=America/Los_Angeles:20260717T183000
DTEND;TZID=America/Los_Angeles:20260717T210000
STATUS:CONFIRMED
SUMMARY:Stone Rollers vs Vechio Amicos
URL:/League/Schedule/3261
DESCRIPTION:Regular Season match: Stone Rollers vs Vechio Am
 icos
LOCATION:Newhall Court 3
END:VEVENT
BEGIN:VEVENT
DTSTAMP:20260426T000000Z
UID:582b3ee7-ba01-46d3-aa6b-d03e6a14dd60@ClaytonBocce
DTSTART;TZID=America/Los_Angeles:20260724T183000
DTEND;TZID=America/Los_Angeles:20260724T210000
STATUS:CONFIRMED
SUMMARY:Stone Rollers vs Whine Time
URL:/League/Schedule/3261
DESCRIPTION:Regular Season match: Stone Rollers vs Whine Tim
 e
LOCATION:Newhall Court 4
END:VEVENT
BEGIN:VEVENT
DTSTAMP:20260426T000000Z
UID:9541df7e-3971-4d96-96e9-4f18a7a35625@ClaytonBocce
DTSTART;TZID=America/Los_Angeles:20260731T183000
DTEND;TZID=America/Los_Angeles:20260731T210000
STATUS:CONFIRMED
SUMMARY:Stone Rollers vs Bella Sera
URL:/League/Schedule/3261
DESCRIPTION:Regular Season match: Stone Rollers vs Bella Ser
 a
LOCATION:Newhall Court 7
END:VEVENT
BEGIN:VEVENT
DTSTAMP:20260426T000000Z
UID:ea494032-23eb-4f6d-bee4-e29be381be87@ClaytonBocce
DTSTART;TZID=America/Los_Angeles:20260814T183000
DTEND;TZID=America/Los_Angeles:20260814T210000
STATUS:CONFIRMED
SUMMARY:Stone Rollers vs Ballsagna
URL:/League/Schedule/3261
DESCRIPTION:Regular Season match: Stone Rollers vs Ballsagna
LOCATION:Newhall Court 1
END:VEVENT
BEGIN:VEVENT
DTSTAMP:20260426T000000Z
UID:45fdac09-ca45-4380-a7d8-02d0aa847ca7@ClaytonBocce
DTSTART;TZID=America/Los_Angeles:20260821T183000
DTEND;TZID=America/Los_Angeles:20260821T210000
STATUS:CONFIRMED
SUMMARY:Stone Rollers vs Team Rehab
URL:/League/Schedule/3261
DESCRIPTION:Regular Season match: Stone Rollers vs Team Reha
 b
LOCATION:Newhall Court 8
END:VEVENT
BEGIN:VEVENT
DTSTAMP:20260426T000000Z
UID:cddc2e7c-bce6-4661-9e6c-b7fa4bb5a147@ClaytonBocce
DTSTART;TZID=America/Los_Angeles:20260828T183000
DTEND;TZID=America/Los_Angeles:20260828T210000
STATUS:CONFIRMED
SUMMARY:Stone Rollers vs Bossy Balls
URL:/League/Schedule/3261
DESCRIPTION:Regular Season match: Stone Rollers vs Bossy Bal
 ls
LOCATION:Newhall Court 6
END:VEVENT
BEGIN:VEVENT
DTSTAMP:20260426T000000Z
UID:1f9334b4-a162-43a0-a332-f67e56b55d17@ClaytonBocce
DTSTART;TZID=America/Los_Angeles:20260904T183000
DTEND;TZID=America/Los_Angeles:20260904T210000
STATUS:CONFIRMED
SUMMARY:Stone Rollers vs Gli Stranneri
URL:/League/Schedule/3261
DESCRIPTION:Regular Season match: Stone Rollers vs Gli Stran
 neri
LOCATION:Newhall Court 1
END:VEVENT
END:VCALENDAR
