BEGIN:VCALENDAR
VERSION:2.0
PRODID:-//Clayton Bocce League
METHOD:PUBLISH
BEGIN:VTIMEZONE
TZID:America/Los_Angeles
X-LIC-LOCATION:America/Los_Angeles
BEGIN:DAYLIGHT
TZOFFSETFROM:-0800
TZOFFSETTO:-0700
TZNAME:PDT
DTSTART:20070311T020000
RRULE:FREQ=YEARLY;BYMONTH=3;BYDAY=2SU
END:DAYLIGHT
BEGIN:STANDARD
TZOFFSETFROM:-0700
TZOFFSETTO:-0800
TZNAME:PST
DTSTART:20071104T020000
RRULE:FREQ=YEARLY;BYMONTH=11;BYDAY=1SU
END:STANDARD
END:VTIMEZONE
BEGIN:VEVENT
DTSTAMP:20260426T000000Z
UID:826cc53d-47cc-4510-b23b-71d94652b6ee@ClaytonBocce
DTSTART;TZID=America/Los_Angeles:20260501T183000
DTEND;TZID=America/Los_Angeles:20260501T210000
STATUS:CONFIRMED
SUMMARY:Out 4 Fun vs Slow Your Roll
URL:/League/Schedule/3250
DESCRIPTION:Regular Season match: Out 4 Fun vs Slow Your Rol
 l
LOCATION:Newhall Court 7
END:VEVENT
BEGIN:VEVENT
DTSTAMP:20260426T000000Z
UID:a37d1e80-6657-496e-9b62-a5b64686d38c@ClaytonBocce
DTSTART;TZID=America/Los_Angeles:20260508T183000
DTEND;TZID=America/Los_Angeles:20260508T210000
STATUS:CONFIRMED
SUMMARY:Out 4 Fun vs No Place Like Roll'em
URL:/League/Schedule/3250
DESCRIPTION:Regular Season match: Out 4 Fun vs No Place Like
  Roll'em
LOCATION:Newhall Court 4
END:VEVENT
BEGIN:VEVENT
DTSTAMP:20260426T000000Z
UID:72d06681-7c7f-4faa-9237-305e8e1221fb@ClaytonBocce
DTSTART;TZID=America/Los_Angeles:20260515T183000
DTEND;TZID=America/Los_Angeles:20260515T210000
STATUS:CONFIRMED
SUMMARY:Out 4 Fun vs Eat Drink Bocce
URL:/League/Schedule/3250
DESCRIPTION:Regular Season match: Out 4 Fun vs Eat Drink Boc
 ce
LOCATION:Newhall Court 1
END:VEVENT
BEGIN:VEVENT
DTSTAMP:20260426T000000Z
UID:73ddd83f-2ed0-44d0-93a1-e51cd7e87b52@ClaytonBocce
DTSTART;TZID=America/Los_Angeles:20260522T183000
DTEND;TZID=America/Los_Angeles:20260522T210000
STATUS:CONFIRMED
SUMMARY:Out 4 Fun vs The Crew
URL:/League/Schedule/3250
DESCRIPTION:Regular Season match: Out 4 Fun vs The Crew
LOCATION:Newhall Court 5
END:VEVENT
BEGIN:VEVENT
DTSTAMP:20260426T000000Z
UID:041c76cc-3cd8-49a9-81de-c9cebb25b8ff@ClaytonBocce
DTSTART;TZID=America/Los_Angeles:20260529T183000
DTEND;TZID=America/Los_Angeles:20260529T210000
STATUS:CONFIRMED
SUMMARY:Out 4 Fun vs Deboccery
URL:/League/Schedule/3250
DESCRIPTION:Regular Season match: Out 4 Fun vs Deboccery
LOCATION:Newhall Court 4
END:VEVENT
BEGIN:VEVENT
DTSTAMP:20260426T000000Z
UID:110ba053-70b4-49fe-a959-772b6ccd6360@ClaytonBocce
DTSTART;TZID=America/Los_Angeles:20260605T183000
DTEND;TZID=America/Los_Angeles:20260605T210000
STATUS:CONFIRMED
SUMMARY:Out 4 Fun vs Mangia Bene
URL:/League/Schedule/3250
DESCRIPTION:Regular Season match: Out 4 Fun vs Mangia Bene
LOCATION:Newhall Court 8
END:VEVENT
BEGIN:VEVENT
DTSTAMP:20260426T000000Z
UID:e743892a-28fa-47bb-806f-1b6cc3a6d3ae@ClaytonBocce
DTSTART;TZID=America/Los_Angeles:20260619T183000
DTEND;TZID=America/Los_Angeles:20260619T210000
STATUS:CONFIRMED
SUMMARY:Out 4 Fun vs WHABSAB
URL:/League/Schedule/3250
DESCRIPTION:Regular Season match: Out 4 Fun vs WHABSAB
LOCATION:Newhall Court 6
END:VEVENT
BEGIN:VEVENT
DTSTAMP:20260426T000000Z
UID:0c5e8152-16ef-43ce-9039-4232d67efd1d@ClaytonBocce
DTSTART;TZID=America/Los_Angeles:20260626T183000
DTEND;TZID=America/Los_Angeles:20260626T210000
STATUS:CONFIRMED
SUMMARY:Out 4 Fun vs Bad Bocce
URL:/League/Schedule/3250
DESCRIPTION:Regular Season match: Out 4 Fun vs Bad Bocce
LOCATION:Newhall Court 2
END:VEVENT
BEGIN:VEVENT
DTSTAMP:20260426T000000Z
UID:f72caaca-61d9-4bb2-ab40-d77c11a694e7@ClaytonBocce
DTSTART;TZID=America/Los_Angeles:20260710T183000
DTEND;TZID=America/Los_Angeles:20260710T210000
STATUS:CONFIRMED
SUMMARY:Out 4 Fun vs Slow Your Roll
URL:/League/Schedule/3250
DESCRIPTION:Regular Season match: Out 4 Fun vs Slow Your Rol
 l
LOCATION:Newhall Court 8
END:VEVENT
BEGIN:VEVENT
DTSTAMP:20260426T000000Z
UID:1dbaee55-0059-4ae2-97c7-b283c25a779b@ClaytonBocce
DTSTART;TZID=America/Los_Angeles:20260717T183000
DTEND;TZID=America/Los_Angeles:20260717T210000
STATUS:CONFIRMED
SUMMARY:Out 4 Fun vs No Place Like Roll'em
URL:/League/Schedule/3250
DESCRIPTION:Regular Season match: Out 4 Fun vs No Place Like
  Roll'em
LOCATION:Newhall Court 1
END:VEVENT
BEGIN:VEVENT
DTSTAMP:20260426T000000Z
UID:2354f01d-1bcc-4e8e-a1c2-850764a72175@ClaytonBocce
DTSTART;TZID=America/Los_Angeles:20260724T183000
DTEND;TZID=America/Los_Angeles:20260724T210000
STATUS:CONFIRMED
SUMMARY:Out 4 Fun vs Eat Drink Bocce
URL:/League/Schedule/3250
DESCRIPTION:Regular Season match: Out 4 Fun vs Eat Drink Boc
 ce
LOCATION:Newhall Court 7
END:VEVENT
BEGIN:VEVENT
DTSTAMP:20260426T000000Z
UID:c222cb6e-f267-4f73-9003-722848722ce9@ClaytonBocce
DTSTART;TZID=America/Los_Angeles:20260731T183000
DTEND;TZID=America/Los_Angeles:20260731T210000
STATUS:CONFIRMED
SUMMARY:Out 4 Fun vs The Crew
URL:/League/Schedule/3250
DESCRIPTION:Regular Season match: Out 4 Fun vs The Crew
LOCATION:Newhall Court 3
END:VEVENT
BEGIN:VEVENT
DTSTAMP:20260426T000000Z
UID:8c7411ce-7eda-4c60-9ec6-51c8c138a3fe@ClaytonBocce
DTSTART;TZID=America/Los_Angeles:20260807T183000
DTEND;TZID=America/Los_Angeles:20260807T210000
STATUS:CONFIRMED
SUMMARY:Out 4 Fun vs Deboccery
URL:/League/Schedule/3250
DESCRIPTION:Regular Season match: Out 4 Fun vs Deboccery
LOCATION:Newhall Court 8
END:VEVENT
BEGIN:VEVENT
DTSTAMP:20260426T000000Z
UID:fbbbff54-eb0b-4eb9-8849-aaf999cbefd7@ClaytonBocce
DTSTART;TZID=America/Los_Angeles:20260814T183000
DTEND;TZID=America/Los_Angeles:20260814T210000
STATUS:CONFIRMED
SUMMARY:Out 4 Fun vs Mangia Bene
URL:/League/Schedule/3250
DESCRIPTION:Regular Season match: Out 4 Fun vs Mangia Bene
LOCATION:Newhall Court 7
END:VEVENT
BEGIN:VEVENT
DTSTAMP:20260426T000000Z
UID:e13d1a23-ef66-4953-b38e-59ab1583dcbb@ClaytonBocce
DTSTART;TZID=America/Los_Angeles:20260828T183000
DTEND;TZID=America/Los_Angeles:20260828T210000
STATUS:CONFIRMED
SUMMARY:Out 4 Fun vs WHABSAB
URL:/League/Schedule/3250
DESCRIPTION:Regular Season match: Out 4 Fun vs WHABSAB
LOCATION:Newhall Court 2
END:VEVENT
BEGIN:VEVENT
DTSTAMP:20260426T000000Z
UID:50c8842a-fb5a-41f4-8cfc-675d0119a262@ClaytonBocce
DTSTART;TZID=America/Los_Angeles:20260904T183000
DTEND;TZID=America/Los_Angeles:20260904T210000
STATUS:CONFIRMED
SUMMARY:Out 4 Fun vs Bad Bocce
URL:/League/Schedule/3250
DESCRIPTION:Regular Season match: Out 4 Fun vs Bad Bocce
LOCATION:Newhall Court 3
END:VEVENT
END:VCALENDAR
