BEGIN:VCALENDAR
VERSION:2.0
PRODID:-//Clayton Bocce League
METHOD:PUBLISH
BEGIN:VTIMEZONE
TZID:America/Los_Angeles
X-LIC-LOCATION:America/Los_Angeles
BEGIN:DAYLIGHT
TZOFFSETFROM:-0800
TZOFFSETTO:-0700
TZNAME:PDT
DTSTART:20070311T020000
RRULE:FREQ=YEARLY;BYMONTH=3;BYDAY=2SU
END:DAYLIGHT
BEGIN:STANDARD
TZOFFSETFROM:-0700
TZOFFSETTO:-0800
TZNAME:PST
DTSTART:20071104T020000
RRULE:FREQ=YEARLY;BYMONTH=11;BYDAY=1SU
END:STANDARD
END:VTIMEZONE
BEGIN:VEVENT
DTSTAMP:20260426T000000Z
UID:826cc53d-47cc-4510-b23b-71d94652b6ee@ClaytonBocce
DTSTART;TZID=America/Los_Angeles:20260501T183000
DTEND;TZID=America/Los_Angeles:20260501T210000
STATUS:CONFIRMED
SUMMARY:Slow Your Roll vs Out 4 Fun
URL:/League/Schedule/3256
DESCRIPTION:Regular Season match: Slow Your Roll vs Out 4 Fu
 n
LOCATION:Newhall Court 7
END:VEVENT
BEGIN:VEVENT
DTSTAMP:20260426T000000Z
UID:9f26d270-7b83-415b-b385-f9d5c63bcd5b@ClaytonBocce
DTSTART;TZID=America/Los_Angeles:20260508T183000
DTEND;TZID=America/Los_Angeles:20260508T210000
STATUS:CONFIRMED
SUMMARY:Slow Your Roll vs WHABSAB
URL:/League/Schedule/3256
DESCRIPTION:Regular Season match: Slow Your Roll vs WHABSAB
LOCATION:Newhall Court 3
END:VEVENT
BEGIN:VEVENT
DTSTAMP:20260426T000000Z
UID:e1b1adc4-f752-422b-846c-a174c7b87ac1@ClaytonBocce
DTSTART;TZID=America/Los_Angeles:20260515T183000
DTEND;TZID=America/Los_Angeles:20260515T210000
STATUS:CONFIRMED
SUMMARY:Slow Your Roll vs Bad Bocce
URL:/League/Schedule/3256
DESCRIPTION:Regular Season match: Slow Your Roll vs Bad Bocc
 e
LOCATION:Newhall Court 8
END:VEVENT
BEGIN:VEVENT
DTSTAMP:20260426T000000Z
UID:a5cdb7d3-69db-4705-af5a-4a4f8aaaaa91@ClaytonBocce
DTSTART;TZID=America/Los_Angeles:20260529T183000
DTEND;TZID=America/Los_Angeles:20260529T210000
STATUS:CONFIRMED
SUMMARY:Slow Your Roll vs No Place Like Roll'em
URL:/League/Schedule/3256
DESCRIPTION:Regular Season match: Slow Your Roll vs No Place
  Like Roll'em
LOCATION:Newhall Court 5
END:VEVENT
BEGIN:VEVENT
DTSTAMP:20260426T000000Z
UID:558b4e1c-4fb9-44ed-ac88-d88712f2cbc5@ClaytonBocce
DTSTART;TZID=America/Los_Angeles:20260605T183000
DTEND;TZID=America/Los_Angeles:20260605T210000
STATUS:CONFIRMED
SUMMARY:Slow Your Roll vs Eat Drink Bocce
URL:/League/Schedule/3256
DESCRIPTION:Regular Season match: Slow Your Roll vs Eat Drin
 k Bocce
LOCATION:Newhall Court 1
END:VEVENT
BEGIN:VEVENT
DTSTAMP:20260426T000000Z
UID:0460bb7c-d3eb-4f90-97bc-105e784f925e@ClaytonBocce
DTSTART;TZID=America/Los_Angeles:20260612T183000
DTEND;TZID=America/Los_Angeles:20260612T210000
STATUS:CONFIRMED
SUMMARY:Slow Your Roll vs The Crew
URL:/League/Schedule/3256
DESCRIPTION:Regular Season match: Slow Your Roll vs The Crew
LOCATION:Newhall Court 7
END:VEVENT
BEGIN:VEVENT
DTSTAMP:20260426T000000Z
UID:074b7563-c290-4903-9f86-3f64f166df0a@ClaytonBocce
DTSTART;TZID=America/Los_Angeles:20260619T183000
DTEND;TZID=America/Los_Angeles:20260619T210000
STATUS:CONFIRMED
SUMMARY:Slow Your Roll vs Deboccery
URL:/League/Schedule/3256
DESCRIPTION:Regular Season match: Slow Your Roll vs Deboccer
 y
LOCATION:Newhall Court 3
END:VEVENT
BEGIN:VEVENT
DTSTAMP:20260426T000000Z
UID:5e98ae99-d2df-4ea2-a8a0-8d6c9c811bbd@ClaytonBocce
DTSTART;TZID=America/Los_Angeles:20260626T183000
DTEND;TZID=America/Los_Angeles:20260626T210000
STATUS:CONFIRMED
SUMMARY:Slow Your Roll vs Mangia Bene
URL:/League/Schedule/3256
DESCRIPTION:Regular Season match: Slow Your Roll vs Mangia B
 ene
LOCATION:Newhall Court 4
END:VEVENT
BEGIN:VEVENT
DTSTAMP:20260426T000000Z
UID:f72caaca-61d9-4bb2-ab40-d77c11a694e7@ClaytonBocce
DTSTART;TZID=America/Los_Angeles:20260710T183000
DTEND;TZID=America/Los_Angeles:20260710T210000
STATUS:CONFIRMED
SUMMARY:Slow Your Roll vs Out 4 Fun
URL:/League/Schedule/3256
DESCRIPTION:Regular Season match: Slow Your Roll vs Out 4 Fu
 n
LOCATION:Newhall Court 8
END:VEVENT
BEGIN:VEVENT
DTSTAMP:20260426T000000Z
UID:f8c0e753-959a-4465-9663-b9309b00622d@ClaytonBocce
DTSTART;TZID=America/Los_Angeles:20260717T183000
DTEND;TZID=America/Los_Angeles:20260717T210000
STATUS:CONFIRMED
SUMMARY:Slow Your Roll vs WHABSAB
URL:/League/Schedule/3256
DESCRIPTION:Regular Season match: Slow Your Roll vs WHABSAB
LOCATION:Newhall Court 2
END:VEVENT
BEGIN:VEVENT
DTSTAMP:20260426T000000Z
UID:11b52e49-6a9b-4416-bc47-63c6b1a5c004@ClaytonBocce
DTSTART;TZID=America/Los_Angeles:20260724T183000
DTEND;TZID=America/Los_Angeles:20260724T210000
STATUS:CONFIRMED
SUMMARY:Slow Your Roll vs Bad Bocce
URL:/League/Schedule/3256
DESCRIPTION:Regular Season match: Slow Your Roll vs Bad Bocc
 e
LOCATION:Newhall Court 1
END:VEVENT
BEGIN:VEVENT
DTSTAMP:20260426T000000Z
UID:4fb1dd0c-d845-4661-a04e-a3b464a424d2@ClaytonBocce
DTSTART;TZID=America/Los_Angeles:20260807T183000
DTEND;TZID=America/Los_Angeles:20260807T210000
STATUS:CONFIRMED
SUMMARY:Slow Your Roll vs No Place Like Roll'em
URL:/League/Schedule/3256
DESCRIPTION:Regular Season match: Slow Your Roll vs No Place
  Like Roll'em
LOCATION:Newhall Court 5
END:VEVENT
BEGIN:VEVENT
DTSTAMP:20260426T000000Z
UID:5bea25ef-7d9e-4a3f-99db-46fcba40c8b2@ClaytonBocce
DTSTART;TZID=America/Los_Angeles:20260814T183000
DTEND;TZID=America/Los_Angeles:20260814T210000
STATUS:CONFIRMED
SUMMARY:Slow Your Roll vs Eat Drink Bocce
URL:/League/Schedule/3256
DESCRIPTION:Regular Season match: Slow Your Roll vs Eat Drin
 k Bocce
LOCATION:Newhall Court 3
END:VEVENT
BEGIN:VEVENT
DTSTAMP:20260426T000000Z
UID:b1f208e8-53ef-4527-b177-668220c5e0ed@ClaytonBocce
DTSTART;TZID=America/Los_Angeles:20260821T183000
DTEND;TZID=America/Los_Angeles:20260821T210000
STATUS:CONFIRMED
SUMMARY:Slow Your Roll vs The Crew
URL:/League/Schedule/3256
DESCRIPTION:Regular Season match: Slow Your Roll vs The Crew
LOCATION:Newhall Court 6
END:VEVENT
BEGIN:VEVENT
DTSTAMP:20260426T000000Z
UID:4dedcbfc-9324-4fe1-9587-b8d87d692444@ClaytonBocce
DTSTART;TZID=America/Los_Angeles:20260828T183000
DTEND;TZID=America/Los_Angeles:20260828T210000
STATUS:CONFIRMED
SUMMARY:Slow Your Roll vs Deboccery
URL:/League/Schedule/3256
DESCRIPTION:Regular Season match: Slow Your Roll vs Deboccer
 y
LOCATION:Newhall Court 8
END:VEVENT
BEGIN:VEVENT
DTSTAMP:20260426T000000Z
UID:91de1dc8-6874-449e-acd6-4d634106b6bb@ClaytonBocce
DTSTART;TZID=America/Los_Angeles:20260904T183000
DTEND;TZID=America/Los_Angeles:20260904T210000
STATUS:CONFIRMED
SUMMARY:Slow Your Roll vs Mangia Bene
URL:/League/Schedule/3256
DESCRIPTION:Regular Season match: Slow Your Roll vs Mangia B
 ene
LOCATION:Newhall Court 6
END:VEVENT
END:VCALENDAR
