BEGIN:VCALENDAR
VERSION:2.0
PRODID:-//Clayton Bocce League
METHOD:PUBLISH
BEGIN:VTIMEZONE
TZID:America/Los_Angeles
X-LIC-LOCATION:America/Los_Angeles
BEGIN:DAYLIGHT
TZOFFSETFROM:-0800
TZOFFSETTO:-0700
TZNAME:PDT
DTSTART:20070311T020000
RRULE:FREQ=YEARLY;BYMONTH=3;BYDAY=2SU
END:DAYLIGHT
BEGIN:STANDARD
TZOFFSETFROM:-0700
TZOFFSETTO:-0800
TZNAME:PST
DTSTART:20071104T020000
RRULE:FREQ=YEARLY;BYMONTH=11;BYDAY=1SU
END:STANDARD
END:VTIMEZONE
BEGIN:VEVENT
DTSTAMP:20260426T000000Z
UID:17e0717f-74c6-4820-9f85-93cb7f271209@ClaytonBocce
DTSTART;TZID=America/Los_Angeles:20260501T183000
DTEND;TZID=America/Los_Angeles:20260501T210000
STATUS:CONFIRMED
SUMMARY:Ballsagna vs Gli Stranneri
URL:/League/Schedule/3249
DESCRIPTION:Regular Season match: Ballsagna vs Gli Stranneri
LOCATION:Newhall Court 3
END:VEVENT
BEGIN:VEVENT
DTSTAMP:20260426T000000Z
UID:bbb52d57-84a9-41e8-8ddd-83eb88e695d4@ClaytonBocce
DTSTART;TZID=America/Los_Angeles:20260508T183000
DTEND;TZID=America/Los_Angeles:20260508T210000
STATUS:CONFIRMED
SUMMARY:Ballsagna vs Team Badabing
URL:/League/Schedule/3249
DESCRIPTION:Regular Season match: Ballsagna vs Team Badabing
LOCATION:Newhall Court 7
END:VEVENT
BEGIN:VEVENT
DTSTAMP:20260426T000000Z
UID:d7c2a925-8c5c-46d9-9063-d33d98f3bba6@ClaytonBocce
DTSTART;TZID=America/Los_Angeles:20260515T183000
DTEND;TZID=America/Los_Angeles:20260515T210000
STATUS:CONFIRMED
SUMMARY:Ballsagna vs Vechio Amicos
URL:/League/Schedule/3249
DESCRIPTION:Regular Season match: Ballsagna vs Vechio Amicos
LOCATION:Newhall Court 5
END:VEVENT
BEGIN:VEVENT
DTSTAMP:20260426T000000Z
UID:fea957cb-757c-48bd-8e06-1476ea12370b@ClaytonBocce
DTSTART;TZID=America/Los_Angeles:20260522T183000
DTEND;TZID=America/Los_Angeles:20260522T210000
STATUS:CONFIRMED
SUMMARY:Ballsagna vs Whine Time
URL:/League/Schedule/3249
DESCRIPTION:Regular Season match: Ballsagna vs Whine Time
LOCATION:Newhall Court 4
END:VEVENT
BEGIN:VEVENT
DTSTAMP:20260426T000000Z
UID:4f632fc7-9a07-436c-bba3-2f1906ba91da@ClaytonBocce
DTSTART;TZID=America/Los_Angeles:20260529T183000
DTEND;TZID=America/Los_Angeles:20260529T210000
STATUS:CONFIRMED
SUMMARY:Ballsagna vs Bella Sera
URL:/League/Schedule/3249
DESCRIPTION:Regular Season match: Ballsagna vs Bella Sera
LOCATION:Newhall Court 6
END:VEVENT
BEGIN:VEVENT
DTSTAMP:20260426T000000Z
UID:f655958b-d798-4a53-b64b-7f73c6006146@ClaytonBocce
DTSTART;TZID=America/Los_Angeles:20260605T183000
DTEND;TZID=America/Los_Angeles:20260605T210000
STATUS:CONFIRMED
SUMMARY:Ballsagna vs Stone Rollers
URL:/League/Schedule/3249
DESCRIPTION:Regular Season match: Ballsagna vs Stone Rollers
LOCATION:Newhall Court 2
END:VEVENT
BEGIN:VEVENT
DTSTAMP:20260426T000000Z
UID:95291b45-bd99-4a31-89d2-5dd663533091@ClaytonBocce
DTSTART;TZID=America/Los_Angeles:20260619T183000
DTEND;TZID=America/Los_Angeles:20260619T210000
STATUS:CONFIRMED
SUMMARY:Ballsagna vs Team Rehab
URL:/League/Schedule/3249
DESCRIPTION:Regular Season match: Ballsagna vs Team Rehab
LOCATION:Newhall Court 1
END:VEVENT
BEGIN:VEVENT
DTSTAMP:20260426T000000Z
UID:16323185-7291-4043-8fce-cc6205864683@ClaytonBocce
DTSTART;TZID=America/Los_Angeles:20260626T183000
DTEND;TZID=America/Los_Angeles:20260626T210000
STATUS:CONFIRMED
SUMMARY:Ballsagna vs Bossy Balls
URL:/League/Schedule/3249
DESCRIPTION:Regular Season match: Ballsagna vs Bossy Balls
LOCATION:Newhall Court 8
END:VEVENT
BEGIN:VEVENT
DTSTAMP:20260426T000000Z
UID:855ff0b9-f8e7-445a-88be-1ae46f80ef99@ClaytonBocce
DTSTART;TZID=America/Los_Angeles:20260710T183000
DTEND;TZID=America/Los_Angeles:20260710T210000
STATUS:CONFIRMED
SUMMARY:Ballsagna vs Gli Stranneri
URL:/League/Schedule/3249
DESCRIPTION:Regular Season match: Ballsagna vs Gli Stranneri
LOCATION:Newhall Court 5
END:VEVENT
BEGIN:VEVENT
DTSTAMP:20260426T000000Z
UID:7d76923c-e8d8-4d6b-9e57-51ccbd9a679e@ClaytonBocce
DTSTART;TZID=America/Los_Angeles:20260717T183000
DTEND;TZID=America/Los_Angeles:20260717T210000
STATUS:CONFIRMED
SUMMARY:Ballsagna vs Team Badabing
URL:/League/Schedule/3249
DESCRIPTION:Regular Season match: Ballsagna vs Team Badabing
LOCATION:Newhall Court 6
END:VEVENT
BEGIN:VEVENT
DTSTAMP:20260426T000000Z
UID:320a2799-ced2-4b87-92c5-351d24d27986@ClaytonBocce
DTSTART;TZID=America/Los_Angeles:20260724T183000
DTEND;TZID=America/Los_Angeles:20260724T210000
STATUS:CONFIRMED
SUMMARY:Ballsagna vs Vechio Amicos
URL:/League/Schedule/3249
DESCRIPTION:Regular Season match: Ballsagna vs Vechio Amicos
LOCATION:Newhall Court 2
END:VEVENT
BEGIN:VEVENT
DTSTAMP:20260426T000000Z
UID:2649a29a-780c-47de-9256-f5c3955d3a6a@ClaytonBocce
DTSTART;TZID=America/Los_Angeles:20260731T183000
DTEND;TZID=America/Los_Angeles:20260731T210000
STATUS:CONFIRMED
SUMMARY:Ballsagna vs Whine Time
URL:/League/Schedule/3249
DESCRIPTION:Regular Season match: Ballsagna vs Whine Time
LOCATION:Newhall Court 8
END:VEVENT
BEGIN:VEVENT
DTSTAMP:20260426T000000Z
UID:578d131a-08a5-4bc7-8313-c371f433ae19@ClaytonBocce
DTSTART;TZID=America/Los_Angeles:20260807T183000
DTEND;TZID=America/Los_Angeles:20260807T210000
STATUS:CONFIRMED
SUMMARY:Ballsagna vs Bella Sera
URL:/League/Schedule/3249
DESCRIPTION:Regular Season match: Ballsagna vs Bella Sera
LOCATION:Newhall Court 3
END:VEVENT
BEGIN:VEVENT
DTSTAMP:20260426T000000Z
UID:ea494032-23eb-4f6d-bee4-e29be381be87@ClaytonBocce
DTSTART;TZID=America/Los_Angeles:20260814T183000
DTEND;TZID=America/Los_Angeles:20260814T210000
STATUS:CONFIRMED
SUMMARY:Ballsagna vs Stone Rollers
URL:/League/Schedule/3249
DESCRIPTION:Regular Season match: Ballsagna vs Stone Rollers
LOCATION:Newhall Court 1
END:VEVENT
BEGIN:VEVENT
DTSTAMP:20260426T000000Z
UID:3ce0e370-8ff4-464b-b9e3-fa261e6c48f9@ClaytonBocce
DTSTART;TZID=America/Los_Angeles:20260828T183000
DTEND;TZID=America/Los_Angeles:20260828T210000
STATUS:CONFIRMED
SUMMARY:Ballsagna vs Team Rehab
URL:/League/Schedule/3249
DESCRIPTION:Regular Season match: Ballsagna vs Team Rehab
LOCATION:Newhall Court 7
END:VEVENT
BEGIN:VEVENT
DTSTAMP:20260426T000000Z
UID:8a276df5-5d7a-430b-8f6d-d87ded39b03b@ClaytonBocce
DTSTART;TZID=America/Los_Angeles:20260904T183000
DTEND;TZID=America/Los_Angeles:20260904T210000
STATUS:CONFIRMED
SUMMARY:Ballsagna vs Bossy Balls
URL:/League/Schedule/3249
DESCRIPTION:Regular Season match: Ballsagna vs Bossy Balls
LOCATION:Newhall Court 4
END:VEVENT
END:VCALENDAR
