BEGIN:VCALENDAR
VERSION:2.0
PRODID:-//Clayton Bocce League
METHOD:PUBLISH
BEGIN:VTIMEZONE
TZID:America/Los_Angeles
X-LIC-LOCATION:America/Los_Angeles
BEGIN:DAYLIGHT
TZOFFSETFROM:-0800
TZOFFSETTO:-0700
TZNAME:PDT
DTSTART:20070311T020000
RRULE:FREQ=YEARLY;BYMONTH=3;BYDAY=2SU
END:DAYLIGHT
BEGIN:STANDARD
TZOFFSETFROM:-0700
TZOFFSETTO:-0800
TZNAME:PST
DTSTART:20071104T020000
RRULE:FREQ=YEARLY;BYMONTH=11;BYDAY=1SU
END:STANDARD
END:VTIMEZONE
BEGIN:VEVENT
DTSTAMP:20260426T000000Z
UID:17e0717f-74c6-4820-9f85-93cb7f271209@ClaytonBocce
DTSTART;TZID=America/Los_Angeles:20260501T183000
DTEND;TZID=America/Los_Angeles:20260501T210000
STATUS:CONFIRMED
SUMMARY:Gli Stranneri vs Ballsagna
URL:/League/Schedule/3253
DESCRIPTION:Regular Season match: Gli Stranneri vs Ballsagna
LOCATION:Newhall Court 3
END:VEVENT
BEGIN:VEVENT
DTSTAMP:20260426T000000Z
UID:e244ec22-d1c6-45b3-8ebb-6b26731b77fe@ClaytonBocce
DTSTART;TZID=America/Los_Angeles:20260508T183000
DTEND;TZID=America/Los_Angeles:20260508T210000
STATUS:CONFIRMED
SUMMARY:Gli Stranneri vs Team Rehab
URL:/League/Schedule/3253
DESCRIPTION:Regular Season match: Gli Stranneri vs Team Reha
 b
LOCATION:Newhall Court 5
END:VEVENT
BEGIN:VEVENT
DTSTAMP:20260426T000000Z
UID:24ea30ff-0e06-4540-a11d-f376fcc8a339@ClaytonBocce
DTSTART;TZID=America/Los_Angeles:20260515T183000
DTEND;TZID=America/Los_Angeles:20260515T210000
STATUS:CONFIRMED
SUMMARY:Gli Stranneri vs Bossy Balls
URL:/League/Schedule/3253
DESCRIPTION:Regular Season match: Gli Stranneri vs Bossy Bal
 ls
LOCATION:Newhall Court 7
END:VEVENT
BEGIN:VEVENT
DTSTAMP:20260426T000000Z
UID:205b8257-396f-4837-9bb9-8cc7c6db037f@ClaytonBocce
DTSTART;TZID=America/Los_Angeles:20260529T183000
DTEND;TZID=America/Los_Angeles:20260529T210000
STATUS:CONFIRMED
SUMMARY:Gli Stranneri vs Team Badabing
URL:/League/Schedule/3253
DESCRIPTION:Regular Season match: Gli Stranneri vs Team Bada
 bing
LOCATION:Newhall Court 8
END:VEVENT
BEGIN:VEVENT
DTSTAMP:20260426T000000Z
UID:9c0af968-cd8b-49ee-bdfe-4fbb756875a4@ClaytonBocce
DTSTART;TZID=America/Los_Angeles:20260605T183000
DTEND;TZID=America/Los_Angeles:20260605T210000
STATUS:CONFIRMED
SUMMARY:Gli Stranneri vs Vechio Amicos
URL:/League/Schedule/3253
DESCRIPTION:Regular Season match: Gli Stranneri vs Vechio Am
 icos
LOCATION:Newhall Court 4
END:VEVENT
BEGIN:VEVENT
DTSTAMP:20260426T000000Z
UID:44f38441-9b02-435e-b896-e9045d626f56@ClaytonBocce
DTSTART;TZID=America/Los_Angeles:20260612T183000
DTEND;TZID=America/Los_Angeles:20260612T210000
STATUS:CONFIRMED
SUMMARY:Gli Stranneri vs Whine Time
URL:/League/Schedule/3253
DESCRIPTION:Regular Season match: Gli Stranneri vs Whine Tim
 e
LOCATION:Newhall Court 1
END:VEVENT
BEGIN:VEVENT
DTSTAMP:20260426T000000Z
UID:5b2943c7-d866-4ded-ac25-b2dbae75d9d3@ClaytonBocce
DTSTART;TZID=America/Los_Angeles:20260619T183000
DTEND;TZID=America/Los_Angeles:20260619T210000
STATUS:CONFIRMED
SUMMARY:Gli Stranneri vs Bella Sera
URL:/League/Schedule/3253
DESCRIPTION:Regular Season match: Gli Stranneri vs Bella Ser
 a
LOCATION:Newhall Court 2
END:VEVENT
BEGIN:VEVENT
DTSTAMP:20260426T000000Z
UID:3ebcd261-387e-4f4f-8b8c-735fe4190114@ClaytonBocce
DTSTART;TZID=America/Los_Angeles:20260626T183000
DTEND;TZID=America/Los_Angeles:20260626T210000
STATUS:CONFIRMED
SUMMARY:Gli Stranneri vs Stone Rollers
URL:/League/Schedule/3253
DESCRIPTION:Regular Season match: Gli Stranneri vs Stone Rol
 lers
LOCATION:Newhall Court 6
END:VEVENT
BEGIN:VEVENT
DTSTAMP:20260426T000000Z
UID:855ff0b9-f8e7-445a-88be-1ae46f80ef99@ClaytonBocce
DTSTART;TZID=America/Los_Angeles:20260710T183000
DTEND;TZID=America/Los_Angeles:20260710T210000
STATUS:CONFIRMED
SUMMARY:Gli Stranneri vs Ballsagna
URL:/League/Schedule/3253
DESCRIPTION:Regular Season match: Gli Stranneri vs Ballsagna
LOCATION:Newhall Court 5
END:VEVENT
BEGIN:VEVENT
DTSTAMP:20260426T000000Z
UID:406eda38-f77c-434b-a520-e724fef7935d@ClaytonBocce
DTSTART;TZID=America/Los_Angeles:20260717T183000
DTEND;TZID=America/Los_Angeles:20260717T210000
STATUS:CONFIRMED
SUMMARY:Gli Stranneri vs Team Rehab
URL:/League/Schedule/3253
DESCRIPTION:Regular Season match: Gli Stranneri vs Team Reha
 b
LOCATION:Newhall Court 4
END:VEVENT
BEGIN:VEVENT
DTSTAMP:20260426T000000Z
UID:730019d3-1161-476f-ac15-fbda4abf73aa@ClaytonBocce
DTSTART;TZID=America/Los_Angeles:20260724T183000
DTEND;TZID=America/Los_Angeles:20260724T210000
STATUS:CONFIRMED
SUMMARY:Gli Stranneri vs Bossy Balls
URL:/League/Schedule/3253
DESCRIPTION:Regular Season match: Gli Stranneri vs Bossy Bal
 ls
LOCATION:Newhall Court 3
END:VEVENT
BEGIN:VEVENT
DTSTAMP:20260426T000000Z
UID:89e76950-6648-4ea7-acbf-5db3deed80ba@ClaytonBocce
DTSTART;TZID=America/Los_Angeles:20260807T183000
DTEND;TZID=America/Los_Angeles:20260807T210000
STATUS:CONFIRMED
SUMMARY:Gli Stranneri vs Team Badabing
URL:/League/Schedule/3253
DESCRIPTION:Regular Season match: Gli Stranneri vs Team Bada
 bing
LOCATION:Newhall Court 7
END:VEVENT
BEGIN:VEVENT
DTSTAMP:20260426T000000Z
UID:b6efbbe5-9e37-4062-9e5e-425eb54fa73d@ClaytonBocce
DTSTART;TZID=America/Los_Angeles:20260814T183000
DTEND;TZID=America/Los_Angeles:20260814T210000
STATUS:CONFIRMED
SUMMARY:Gli Stranneri vs Vechio Amicos
URL:/League/Schedule/3253
DESCRIPTION:Regular Season match: Gli Stranneri vs Vechio Am
 icos
LOCATION:Newhall Court 6
END:VEVENT
BEGIN:VEVENT
DTSTAMP:20260426T000000Z
UID:85e36a5a-62d0-4fb0-af40-9c5f8406164f@ClaytonBocce
DTSTART;TZID=America/Los_Angeles:20260821T183000
DTEND;TZID=America/Los_Angeles:20260821T210000
STATUS:CONFIRMED
SUMMARY:Gli Stranneri vs Whine Time
URL:/League/Schedule/3253
DESCRIPTION:Regular Season match: Gli Stranneri vs Whine Tim
 e
LOCATION:Newhall Court 2
END:VEVENT
BEGIN:VEVENT
DTSTAMP:20260426T000000Z
UID:1dba994d-1ecb-4ef1-b588-19cef9410c09@ClaytonBocce
DTSTART;TZID=America/Los_Angeles:20260828T183000
DTEND;TZID=America/Los_Angeles:20260828T210000
STATUS:CONFIRMED
SUMMARY:Gli Stranneri vs Bella Sera
URL:/League/Schedule/3253
DESCRIPTION:Regular Season match: Gli Stranneri vs Bella Ser
 a
LOCATION:Newhall Court 4
END:VEVENT
BEGIN:VEVENT
DTSTAMP:20260426T000000Z
UID:1f9334b4-a162-43a0-a332-f67e56b55d17@ClaytonBocce
DTSTART;TZID=America/Los_Angeles:20260904T183000
DTEND;TZID=America/Los_Angeles:20260904T210000
STATUS:CONFIRMED
SUMMARY:Gli Stranneri vs Stone Rollers
URL:/League/Schedule/3253
DESCRIPTION:Regular Season match: Gli Stranneri vs Stone Rol
 lers
LOCATION:Newhall Court 1
END:VEVENT
END:VCALENDAR
