BEGIN:VCALENDAR
VERSION:2.0
PRODID:-//Clayton Bocce League
METHOD:PUBLISH
BEGIN:VTIMEZONE
TZID:America/Los_Angeles
X-LIC-LOCATION:America/Los_Angeles
BEGIN:DAYLIGHT
TZOFFSETFROM:-0800
TZOFFSETTO:-0700
TZNAME:PDT
DTSTART:20070311T020000
RRULE:FREQ=YEARLY;BYMONTH=3;BYDAY=2SU
END:DAYLIGHT
BEGIN:STANDARD
TZOFFSETFROM:-0700
TZOFFSETTO:-0800
TZNAME:PST
DTSTART:20071104T020000
RRULE:FREQ=YEARLY;BYMONTH=11;BYDAY=1SU
END:STANDARD
END:VTIMEZONE
BEGIN:VEVENT
DTSTAMP:20260426T000000Z
UID:ea3aa263-fe10-460d-b520-b6bc6dfd6a20@ClaytonBocce
DTSTART;TZID=America/Los_Angeles:20260501T183000
DTEND;TZID=America/Los_Angeles:20260501T210000
STATUS:CONFIRMED
SUMMARY:No Place Like Roll'em vs Mangia Bene
URL:/League/Schedule/3247
DESCRIPTION:Regular Season match: No Place Like Roll'em vs M
 angia Bene
LOCATION:Newhall Court 6
END:VEVENT
BEGIN:VEVENT
DTSTAMP:20260426T000000Z
UID:a37d1e80-6657-496e-9b62-a5b64686d38c@ClaytonBocce
DTSTART;TZID=America/Los_Angeles:20260508T183000
DTEND;TZID=America/Los_Angeles:20260508T210000
STATUS:CONFIRMED
SUMMARY:No Place Like Roll'em vs Out 4 Fun
URL:/League/Schedule/3247
DESCRIPTION:Regular Season match: No Place Like Roll'em vs O
 ut 4 Fun
LOCATION:Newhall Court 4
END:VEVENT
BEGIN:VEVENT
DTSTAMP:20260426T000000Z
UID:da65f9c7-8fcd-4dd6-ae12-2f14c36ad2cc@ClaytonBocce
DTSTART;TZID=America/Los_Angeles:20260515T183000
DTEND;TZID=America/Los_Angeles:20260515T210000
STATUS:CONFIRMED
SUMMARY:No Place Like Roll'em vs WHABSAB
URL:/League/Schedule/3247
DESCRIPTION:Regular Season match: No Place Like Roll'em vs W
 HABSAB
LOCATION:Newhall Court 2
END:VEVENT
BEGIN:VEVENT
DTSTAMP:20260426T000000Z
UID:eec0fd5a-368f-4429-8c4d-b2aeb6231a34@ClaytonBocce
DTSTART;TZID=America/Los_Angeles:20260522T183000
DTEND;TZID=America/Los_Angeles:20260522T210000
STATUS:CONFIRMED
SUMMARY:No Place Like Roll'em vs Bad Bocce
URL:/League/Schedule/3247
DESCRIPTION:Regular Season match: No Place Like Roll'em vs B
 ad Bocce
LOCATION:Newhall Court 3
END:VEVENT
BEGIN:VEVENT
DTSTAMP:20260426T000000Z
UID:a5cdb7d3-69db-4705-af5a-4a4f8aaaaa91@ClaytonBocce
DTSTART;TZID=America/Los_Angeles:20260529T183000
DTEND;TZID=America/Los_Angeles:20260529T210000
STATUS:CONFIRMED
SUMMARY:No Place Like Roll'em vs Slow Your Roll
URL:/League/Schedule/3247
DESCRIPTION:Regular Season match: No Place Like Roll'em vs S
 low Your Roll
LOCATION:Newhall Court 5
END:VEVENT
BEGIN:VEVENT
DTSTAMP:20260426T000000Z
UID:3cdd59ae-01f7-47cb-acf6-f945dc87d9a2@ClaytonBocce
DTSTART;TZID=America/Los_Angeles:20260612T183000
DTEND;TZID=America/Los_Angeles:20260612T210000
STATUS:CONFIRMED
SUMMARY:No Place Like Roll'em vs Eat Drink Bocce
URL:/League/Schedule/3247
DESCRIPTION:Regular Season match: No Place Like Roll'em vs E
 at Drink Bocce
LOCATION:Newhall Court 2
END:VEVENT
BEGIN:VEVENT
DTSTAMP:20260426T000000Z
UID:fb448cc1-9bb5-4dd6-a20f-84fc5f89b0b3@ClaytonBocce
DTSTART;TZID=America/Los_Angeles:20260619T183000
DTEND;TZID=America/Los_Angeles:20260619T210000
STATUS:CONFIRMED
SUMMARY:No Place Like Roll'em vs The Crew
URL:/League/Schedule/3247
DESCRIPTION:Regular Season match: No Place Like Roll'em vs T
 he Crew
LOCATION:Newhall Court 8
END:VEVENT
BEGIN:VEVENT
DTSTAMP:20260426T000000Z
UID:1c71a0c0-83a9-4cd6-9bab-54fbe1cd5b1c@ClaytonBocce
DTSTART;TZID=America/Los_Angeles:20260626T183000
DTEND;TZID=America/Los_Angeles:20260626T210000
STATUS:CONFIRMED
SUMMARY:No Place Like Roll'em vs Deboccery
URL:/League/Schedule/3247
DESCRIPTION:Regular Season match: No Place Like Roll'em vs D
 eboccery
LOCATION:Newhall Court 5
END:VEVENT
BEGIN:VEVENT
DTSTAMP:20260426T000000Z
UID:3dfccdef-1b73-444d-b9f0-ada23ffa1c0f@ClaytonBocce
DTSTART;TZID=America/Los_Angeles:20260710T183000
DTEND;TZID=America/Los_Angeles:20260710T210000
STATUS:CONFIRMED
SUMMARY:No Place Like Roll'em vs Mangia Bene
URL:/League/Schedule/3247
DESCRIPTION:Regular Season match: No Place Like Roll'em vs M
 angia Bene
LOCATION:Newhall Court 3
END:VEVENT
BEGIN:VEVENT
DTSTAMP:20260426T000000Z
UID:1dbaee55-0059-4ae2-97c7-b283c25a779b@ClaytonBocce
DTSTART;TZID=America/Los_Angeles:20260717T183000
DTEND;TZID=America/Los_Angeles:20260717T210000
STATUS:CONFIRMED
SUMMARY:No Place Like Roll'em vs Out 4 Fun
URL:/League/Schedule/3247
DESCRIPTION:Regular Season match: No Place Like Roll'em vs O
 ut 4 Fun
LOCATION:Newhall Court 1
END:VEVENT
BEGIN:VEVENT
DTSTAMP:20260426T000000Z
UID:8a523818-72aa-4119-a9a8-4b7fe7874925@ClaytonBocce
DTSTART;TZID=America/Los_Angeles:20260724T183000
DTEND;TZID=America/Los_Angeles:20260724T210000
STATUS:CONFIRMED
SUMMARY:No Place Like Roll'em vs WHABSAB
URL:/League/Schedule/3247
DESCRIPTION:Regular Season match: No Place Like Roll'em vs W
 HABSAB
LOCATION:Newhall Court 8
END:VEVENT
BEGIN:VEVENT
DTSTAMP:20260426T000000Z
UID:b0e4f5ba-f9f3-407b-96f3-1d5474ee0473@ClaytonBocce
DTSTART;TZID=America/Los_Angeles:20260731T183000
DTEND;TZID=America/Los_Angeles:20260731T210000
STATUS:CONFIRMED
SUMMARY:No Place Like Roll'em vs Bad Bocce
URL:/League/Schedule/3247
DESCRIPTION:Regular Season match: No Place Like Roll'em vs B
 ad Bocce
LOCATION:Newhall Court 6
END:VEVENT
BEGIN:VEVENT
DTSTAMP:20260426T000000Z
UID:4fb1dd0c-d845-4661-a04e-a3b464a424d2@ClaytonBocce
DTSTART;TZID=America/Los_Angeles:20260807T183000
DTEND;TZID=America/Los_Angeles:20260807T210000
STATUS:CONFIRMED
SUMMARY:No Place Like Roll'em vs Slow Your Roll
URL:/League/Schedule/3247
DESCRIPTION:Regular Season match: No Place Like Roll'em vs S
 low Your Roll
LOCATION:Newhall Court 5
END:VEVENT
BEGIN:VEVENT
DTSTAMP:20260426T000000Z
UID:30541292-386e-42aa-94a6-98cad6c39b61@ClaytonBocce
DTSTART;TZID=America/Los_Angeles:20260821T183000
DTEND;TZID=America/Los_Angeles:20260821T210000
STATUS:CONFIRMED
SUMMARY:No Place Like Roll'em vs Eat Drink Bocce
URL:/League/Schedule/3247
DESCRIPTION:Regular Season match: No Place Like Roll'em vs E
 at Drink Bocce
LOCATION:Newhall Court 4
END:VEVENT
BEGIN:VEVENT
DTSTAMP:20260426T000000Z
UID:58301ca7-8d0f-47ab-bd04-6cd452e8567d@ClaytonBocce
DTSTART;TZID=America/Los_Angeles:20260828T183000
DTEND;TZID=America/Los_Angeles:20260828T210000
STATUS:CONFIRMED
SUMMARY:No Place Like Roll'em vs The Crew
URL:/League/Schedule/3247
DESCRIPTION:Regular Season match: No Place Like Roll'em vs T
 he Crew
LOCATION:Newhall Court 1
END:VEVENT
BEGIN:VEVENT
DTSTAMP:20260426T000000Z
UID:f7e6bf42-d6be-464d-8e03-6d575ca35e76@ClaytonBocce
DTSTART;TZID=America/Los_Angeles:20260904T183000
DTEND;TZID=America/Los_Angeles:20260904T210000
STATUS:CONFIRMED
SUMMARY:No Place Like Roll'em vs Deboccery
URL:/League/Schedule/3247
DESCRIPTION:Regular Season match: No Place Like Roll'em vs D
 eboccery
LOCATION:Newhall Court 5
END:VEVENT
END:VCALENDAR
