BEGIN:VCALENDAR
VERSION:2.0
PRODID:-//Clayton Bocce League
METHOD:PUBLISH
BEGIN:VTIMEZONE
TZID:America/Los_Angeles
X-LIC-LOCATION:America/Los_Angeles
BEGIN:DAYLIGHT
TZOFFSETFROM:-0800
TZOFFSETTO:-0700
TZNAME:PDT
DTSTART:20070311T020000
RRULE:FREQ=YEARLY;BYMONTH=3;BYDAY=2SU
END:DAYLIGHT
BEGIN:STANDARD
TZOFFSETFROM:-0700
TZOFFSETTO:-0800
TZNAME:PST
DTSTART:20071104T020000
RRULE:FREQ=YEARLY;BYMONTH=11;BYDAY=1SU
END:STANDARD
END:VTIMEZONE
BEGIN:VEVENT
DTSTAMP:20260426T000000Z
UID:ea3aa263-fe10-460d-b520-b6bc6dfd6a20@ClaytonBocce
DTSTART;TZID=America/Los_Angeles:20260501T183000
DTEND;TZID=America/Los_Angeles:20260501T210000
STATUS:CONFIRMED
SUMMARY:Mangia Bene vs No Place Like Roll'em
URL:/League/Schedule/3259
DESCRIPTION:Regular Season match: Mangia Bene vs No Place Li
 ke Roll'em
LOCATION:Newhall Court 6
END:VEVENT
BEGIN:VEVENT
DTSTAMP:20260426T000000Z
UID:62e83a60-23a0-42bb-8b08-95d7123c9eaf@ClaytonBocce
DTSTART;TZID=America/Los_Angeles:20260508T183000
DTEND;TZID=America/Los_Angeles:20260508T210000
STATUS:CONFIRMED
SUMMARY:Mangia Bene vs Eat Drink Bocce
URL:/League/Schedule/3259
DESCRIPTION:Regular Season match: Mangia Bene vs Eat Drink B
 occe
LOCATION:Newhall Court 2
END:VEVENT
BEGIN:VEVENT
DTSTAMP:20260426T000000Z
UID:723a3e5a-e4e8-458c-b117-983e10d002f2@ClaytonBocce
DTSTART;TZID=America/Los_Angeles:20260515T183000
DTEND;TZID=America/Los_Angeles:20260515T210000
STATUS:CONFIRMED
SUMMARY:Mangia Bene vs The Crew
URL:/League/Schedule/3259
DESCRIPTION:Regular Season match: Mangia Bene vs The Crew
LOCATION:Newhall Court 4
END:VEVENT
BEGIN:VEVENT
DTSTAMP:20260426T000000Z
UID:96cc26a5-d700-43f2-9ff4-ba4cf8c9cce0@ClaytonBocce
DTSTART;TZID=America/Los_Angeles:20260522T183000
DTEND;TZID=America/Los_Angeles:20260522T210000
STATUS:CONFIRMED
SUMMARY:Mangia Bene vs Deboccery
URL:/League/Schedule/3259
DESCRIPTION:Regular Season match: Mangia Bene vs Deboccery
LOCATION:Newhall Court 1
END:VEVENT
BEGIN:VEVENT
DTSTAMP:20260426T000000Z
UID:110ba053-70b4-49fe-a959-772b6ccd6360@ClaytonBocce
DTSTART;TZID=America/Los_Angeles:20260605T183000
DTEND;TZID=America/Los_Angeles:20260605T210000
STATUS:CONFIRMED
SUMMARY:Mangia Bene vs Out 4 Fun
URL:/League/Schedule/3259
DESCRIPTION:Regular Season match: Mangia Bene vs Out 4 Fun
LOCATION:Newhall Court 8
END:VEVENT
BEGIN:VEVENT
DTSTAMP:20260426T000000Z
UID:a334a28c-941f-4273-beff-a3f697573b5b@ClaytonBocce
DTSTART;TZID=America/Los_Angeles:20260612T183000
DTEND;TZID=America/Los_Angeles:20260612T210000
STATUS:CONFIRMED
SUMMARY:Mangia Bene vs WHABSAB
URL:/League/Schedule/3259
DESCRIPTION:Regular Season match: Mangia Bene vs WHABSAB
LOCATION:Newhall Court 3
END:VEVENT
BEGIN:VEVENT
DTSTAMP:20260426T000000Z
UID:c6d2ad2f-a713-45ca-a1d3-719223767eec@ClaytonBocce
DTSTART;TZID=America/Los_Angeles:20260619T183000
DTEND;TZID=America/Los_Angeles:20260619T210000
STATUS:CONFIRMED
SUMMARY:Mangia Bene vs Bad Bocce
URL:/League/Schedule/3259
DESCRIPTION:Regular Season match: Mangia Bene vs Bad Bocce
LOCATION:Newhall Court 7
END:VEVENT
BEGIN:VEVENT
DTSTAMP:20260426T000000Z
UID:5e98ae99-d2df-4ea2-a8a0-8d6c9c811bbd@ClaytonBocce
DTSTART;TZID=America/Los_Angeles:20260626T183000
DTEND;TZID=America/Los_Angeles:20260626T210000
STATUS:CONFIRMED
SUMMARY:Mangia Bene vs Slow Your Roll
URL:/League/Schedule/3259
DESCRIPTION:Regular Season match: Mangia Bene vs Slow Your R
 oll
LOCATION:Newhall Court 4
END:VEVENT
BEGIN:VEVENT
DTSTAMP:20260426T000000Z
UID:3dfccdef-1b73-444d-b9f0-ada23ffa1c0f@ClaytonBocce
DTSTART;TZID=America/Los_Angeles:20260710T183000
DTEND;TZID=America/Los_Angeles:20260710T210000
STATUS:CONFIRMED
SUMMARY:Mangia Bene vs No Place Like Roll'em
URL:/League/Schedule/3259
DESCRIPTION:Regular Season match: Mangia Bene vs No Place Li
 ke Roll'em
LOCATION:Newhall Court 3
END:VEVENT
BEGIN:VEVENT
DTSTAMP:20260426T000000Z
UID:4dddf9fb-077b-4590-90b9-6b10d47cd8c7@ClaytonBocce
DTSTART;TZID=America/Los_Angeles:20260717T183000
DTEND;TZID=America/Los_Angeles:20260717T210000
STATUS:CONFIRMED
SUMMARY:Mangia Bene vs Eat Drink Bocce
URL:/League/Schedule/3259
DESCRIPTION:Regular Season match: Mangia Bene vs Eat Drink B
 occe
LOCATION:Newhall Court 8
END:VEVENT
BEGIN:VEVENT
DTSTAMP:20260426T000000Z
UID:46e3390a-c739-4614-af8b-47db52fc5bb1@ClaytonBocce
DTSTART;TZID=America/Los_Angeles:20260724T183000
DTEND;TZID=America/Los_Angeles:20260724T210000
STATUS:CONFIRMED
SUMMARY:Mangia Bene vs The Crew
URL:/League/Schedule/3259
DESCRIPTION:Regular Season match: Mangia Bene vs The Crew
LOCATION:Newhall Court 6
END:VEVENT
BEGIN:VEVENT
DTSTAMP:20260426T000000Z
UID:c27488ad-9fad-4aff-86b0-c64c8df451f5@ClaytonBocce
DTSTART;TZID=America/Los_Angeles:20260731T183000
DTEND;TZID=America/Los_Angeles:20260731T210000
STATUS:CONFIRMED
SUMMARY:Mangia Bene vs Deboccery
URL:/League/Schedule/3259
DESCRIPTION:Regular Season match: Mangia Bene vs Deboccery
LOCATION:Newhall Court 2
END:VEVENT
BEGIN:VEVENT
DTSTAMP:20260426T000000Z
UID:fbbbff54-eb0b-4eb9-8849-aaf999cbefd7@ClaytonBocce
DTSTART;TZID=America/Los_Angeles:20260814T183000
DTEND;TZID=America/Los_Angeles:20260814T210000
STATUS:CONFIRMED
SUMMARY:Mangia Bene vs Out 4 Fun
URL:/League/Schedule/3259
DESCRIPTION:Regular Season match: Mangia Bene vs Out 4 Fun
LOCATION:Newhall Court 7
END:VEVENT
BEGIN:VEVENT
DTSTAMP:20260426T000000Z
UID:1a8e442f-2d23-4b05-9e33-2bed9dc29d31@ClaytonBocce
DTSTART;TZID=America/Los_Angeles:20260821T183000
DTEND;TZID=America/Los_Angeles:20260821T210000
STATUS:CONFIRMED
SUMMARY:Mangia Bene vs WHABSAB
URL:/League/Schedule/3259
DESCRIPTION:Regular Season match: Mangia Bene vs WHABSAB
LOCATION:Newhall Court 3
END:VEVENT
BEGIN:VEVENT
DTSTAMP:20260426T000000Z
UID:2bc15033-148a-45a0-92bd-729e65dcf5db@ClaytonBocce
DTSTART;TZID=America/Los_Angeles:20260828T183000
DTEND;TZID=America/Los_Angeles:20260828T210000
STATUS:CONFIRMED
SUMMARY:Mangia Bene vs Bad Bocce
URL:/League/Schedule/3259
DESCRIPTION:Regular Season match: Mangia Bene vs Bad Bocce
LOCATION:Newhall Court 5
END:VEVENT
BEGIN:VEVENT
DTSTAMP:20260426T000000Z
UID:91de1dc8-6874-449e-acd6-4d634106b6bb@ClaytonBocce
DTSTART;TZID=America/Los_Angeles:20260904T183000
DTEND;TZID=America/Los_Angeles:20260904T210000
STATUS:CONFIRMED
SUMMARY:Mangia Bene vs Slow Your Roll
URL:/League/Schedule/3259
DESCRIPTION:Regular Season match: Mangia Bene vs Slow Your R
 oll
LOCATION:Newhall Court 6
END:VEVENT
END:VCALENDAR
