BEGIN:VCALENDAR
VERSION:2.0
PRODID:-//Clayton Bocce League
METHOD:PUBLISH
BEGIN:VTIMEZONE
TZID:America/Los_Angeles
X-LIC-LOCATION:America/Los_Angeles
BEGIN:DAYLIGHT
TZOFFSETFROM:-0800
TZOFFSETTO:-0700
TZNAME:PDT
DTSTART:20070311T020000
RRULE:FREQ=YEARLY;BYMONTH=3;BYDAY=2SU
END:DAYLIGHT
BEGIN:STANDARD
TZOFFSETFROM:-0700
TZOFFSETTO:-0800
TZNAME:PST
DTSTART:20071104T020000
RRULE:FREQ=YEARLY;BYMONTH=11;BYDAY=1SU
END:STANDARD
END:VTIMEZONE
BEGIN:VEVENT
DTSTAMP:20260426T000000Z
UID:031cc09d-c2d1-4290-80b3-ac0b55453047@ClaytonBocce
DTSTART;TZID=America/Los_Angeles:20260501T183000
DTEND;TZID=America/Los_Angeles:20260501T210000
STATUS:CONFIRMED
SUMMARY:Bad Bocce vs WHABSAB
URL:/League/Schedule/3255
DESCRIPTION:Regular Season match: Bad Bocce vs WHABSAB
LOCATION:Newhall Court 5
END:VEVENT
BEGIN:VEVENT
DTSTAMP:20260426T000000Z
UID:e1b1adc4-f752-422b-846c-a174c7b87ac1@ClaytonBocce
DTSTART;TZID=America/Los_Angeles:20260515T183000
DTEND;TZID=America/Los_Angeles:20260515T210000
STATUS:CONFIRMED
SUMMARY:Bad Bocce vs Slow Your Roll
URL:/League/Schedule/3255
DESCRIPTION:Regular Season match: Bad Bocce vs Slow Your Rol
 l
LOCATION:Newhall Court 8
END:VEVENT
BEGIN:VEVENT
DTSTAMP:20260426T000000Z
UID:eec0fd5a-368f-4429-8c4d-b2aeb6231a34@ClaytonBocce
DTSTART;TZID=America/Los_Angeles:20260522T183000
DTEND;TZID=America/Los_Angeles:20260522T210000
STATUS:CONFIRMED
SUMMARY:Bad Bocce vs No Place Like Roll'em
URL:/League/Schedule/3255
DESCRIPTION:Regular Season match: Bad Bocce vs No Place Like
  Roll'em
LOCATION:Newhall Court 3
END:VEVENT
BEGIN:VEVENT
DTSTAMP:20260426T000000Z
UID:d7118735-5102-42d9-9711-442cc962c574@ClaytonBocce
DTSTART;TZID=America/Los_Angeles:20260529T183000
DTEND;TZID=America/Los_Angeles:20260529T210000
STATUS:CONFIRMED
SUMMARY:Bad Bocce vs Eat Drink Bocce
URL:/League/Schedule/3255
DESCRIPTION:Regular Season match: Bad Bocce vs Eat Drink Boc
 ce
LOCATION:Newhall Court 7
END:VEVENT
BEGIN:VEVENT
DTSTAMP:20260426T000000Z
UID:7988cec8-f0d7-4eb0-a226-a1bb121d9b19@ClaytonBocce
DTSTART;TZID=America/Los_Angeles:20260605T183000
DTEND;TZID=America/Los_Angeles:20260605T210000
STATUS:CONFIRMED
SUMMARY:Bad Bocce vs The Crew
URL:/League/Schedule/3255
DESCRIPTION:Regular Season match: Bad Bocce vs The Crew
LOCATION:Newhall Court 5
END:VEVENT
BEGIN:VEVENT
DTSTAMP:20260426T000000Z
UID:7d80c38e-1c87-407a-a416-275049350fd6@ClaytonBocce
DTSTART;TZID=America/Los_Angeles:20260612T183000
DTEND;TZID=America/Los_Angeles:20260612T210000
STATUS:CONFIRMED
SUMMARY:Bad Bocce vs Deboccery
URL:/League/Schedule/3255
DESCRIPTION:Regular Season match: Bad Bocce vs Deboccery
LOCATION:Newhall Court 6
END:VEVENT
BEGIN:VEVENT
DTSTAMP:20260426T000000Z
UID:c6d2ad2f-a713-45ca-a1d3-719223767eec@ClaytonBocce
DTSTART;TZID=America/Los_Angeles:20260619T183000
DTEND;TZID=America/Los_Angeles:20260619T210000
STATUS:CONFIRMED
SUMMARY:Bad Bocce vs Mangia Bene
URL:/League/Schedule/3255
DESCRIPTION:Regular Season match: Bad Bocce vs Mangia Bene
LOCATION:Newhall Court 7
END:VEVENT
BEGIN:VEVENT
DTSTAMP:20260426T000000Z
UID:0c5e8152-16ef-43ce-9039-4232d67efd1d@ClaytonBocce
DTSTART;TZID=America/Los_Angeles:20260626T183000
DTEND;TZID=America/Los_Angeles:20260626T210000
STATUS:CONFIRMED
SUMMARY:Bad Bocce vs Out 4 Fun
URL:/League/Schedule/3255
DESCRIPTION:Regular Season match: Bad Bocce vs Out 4 Fun
LOCATION:Newhall Court 2
END:VEVENT
BEGIN:VEVENT
DTSTAMP:20260426T000000Z
UID:1ae4c6a2-b901-41d3-91d5-27504ce5577b@ClaytonBocce
DTSTART;TZID=America/Los_Angeles:20260710T183000
DTEND;TZID=America/Los_Angeles:20260710T210000
STATUS:CONFIRMED
SUMMARY:Bad Bocce vs WHABSAB
URL:/League/Schedule/3255
DESCRIPTION:Regular Season match: Bad Bocce vs WHABSAB
LOCATION:Newhall Court 4
END:VEVENT
BEGIN:VEVENT
DTSTAMP:20260426T000000Z
UID:11b52e49-6a9b-4416-bc47-63c6b1a5c004@ClaytonBocce
DTSTART;TZID=America/Los_Angeles:20260724T183000
DTEND;TZID=America/Los_Angeles:20260724T210000
STATUS:CONFIRMED
SUMMARY:Bad Bocce vs Slow Your Roll
URL:/League/Schedule/3255
DESCRIPTION:Regular Season match: Bad Bocce vs Slow Your Rol
 l
LOCATION:Newhall Court 1
END:VEVENT
BEGIN:VEVENT
DTSTAMP:20260426T000000Z
UID:b0e4f5ba-f9f3-407b-96f3-1d5474ee0473@ClaytonBocce
DTSTART;TZID=America/Los_Angeles:20260731T183000
DTEND;TZID=America/Los_Angeles:20260731T210000
STATUS:CONFIRMED
SUMMARY:Bad Bocce vs No Place Like Roll'em
URL:/League/Schedule/3255
DESCRIPTION:Regular Season match: Bad Bocce vs No Place Like
  Roll'em
LOCATION:Newhall Court 6
END:VEVENT
BEGIN:VEVENT
DTSTAMP:20260426T000000Z
UID:f88db2d8-59b2-4001-be15-04e3845a740e@ClaytonBocce
DTSTART;TZID=America/Los_Angeles:20260807T183000
DTEND;TZID=America/Los_Angeles:20260807T210000
STATUS:CONFIRMED
SUMMARY:Bad Bocce vs Eat Drink Bocce
URL:/League/Schedule/3255
DESCRIPTION:Regular Season match: Bad Bocce vs Eat Drink Boc
 ce
LOCATION:Newhall Court 4
END:VEVENT
BEGIN:VEVENT
DTSTAMP:20260426T000000Z
UID:488ac054-81b9-4b17-9508-e775e69770c6@ClaytonBocce
DTSTART;TZID=America/Los_Angeles:20260814T183000
DTEND;TZID=America/Los_Angeles:20260814T210000
STATUS:CONFIRMED
SUMMARY:Bad Bocce vs The Crew
URL:/League/Schedule/3255
DESCRIPTION:Regular Season match: Bad Bocce vs The Crew
LOCATION:Newhall Court 8
END:VEVENT
BEGIN:VEVENT
DTSTAMP:20260426T000000Z
UID:126a9aa7-4169-430f-a2c6-dfe146819f16@ClaytonBocce
DTSTART;TZID=America/Los_Angeles:20260821T183000
DTEND;TZID=America/Los_Angeles:20260821T210000
STATUS:CONFIRMED
SUMMARY:Bad Bocce vs Deboccery
URL:/League/Schedule/3255
DESCRIPTION:Regular Season match: Bad Bocce vs Deboccery
LOCATION:Newhall Court 7
END:VEVENT
BEGIN:VEVENT
DTSTAMP:20260426T000000Z
UID:2bc15033-148a-45a0-92bd-729e65dcf5db@ClaytonBocce
DTSTART;TZID=America/Los_Angeles:20260828T183000
DTEND;TZID=America/Los_Angeles:20260828T210000
STATUS:CONFIRMED
SUMMARY:Bad Bocce vs Mangia Bene
URL:/League/Schedule/3255
DESCRIPTION:Regular Season match: Bad Bocce vs Mangia Bene
LOCATION:Newhall Court 5
END:VEVENT
BEGIN:VEVENT
DTSTAMP:20260426T000000Z
UID:50c8842a-fb5a-41f4-8cfc-675d0119a262@ClaytonBocce
DTSTART;TZID=America/Los_Angeles:20260904T183000
DTEND;TZID=America/Los_Angeles:20260904T210000
STATUS:CONFIRMED
SUMMARY:Bad Bocce vs Out 4 Fun
URL:/League/Schedule/3255
DESCRIPTION:Regular Season match: Bad Bocce vs Out 4 Fun
LOCATION:Newhall Court 3
END:VEVENT
END:VCALENDAR
