BEGIN:VCALENDAR
VERSION:2.0
PRODID:-//Clayton Bocce League
METHOD:PUBLISH
BEGIN:VTIMEZONE
TZID:America/Los_Angeles
X-LIC-LOCATION:America/Los_Angeles
BEGIN:DAYLIGHT
TZOFFSETFROM:-0800
TZOFFSETTO:-0700
TZNAME:PDT
DTSTART:20070311T020000
RRULE:FREQ=YEARLY;BYMONTH=3;BYDAY=2SU
END:DAYLIGHT
BEGIN:STANDARD
TZOFFSETFROM:-0700
TZOFFSETTO:-0800
TZNAME:PST
DTSTART:20071104T020000
RRULE:FREQ=YEARLY;BYMONTH=11;BYDAY=1SU
END:STANDARD
END:VTIMEZONE
BEGIN:VEVENT
DTSTAMP:20260426T000000Z
UID:031cc09d-c2d1-4290-80b3-ac0b55453047@ClaytonBocce
DTSTART;TZID=America/Los_Angeles:20260501T183000
DTEND;TZID=America/Los_Angeles:20260501T210000
STATUS:CONFIRMED
SUMMARY:WHABSAB vs Bad Bocce
URL:/League/Schedule/3248
DESCRIPTION:Regular Season match: WHABSAB vs Bad Bocce
LOCATION:Newhall Court 5
END:VEVENT
BEGIN:VEVENT
DTSTAMP:20260426T000000Z
UID:9f26d270-7b83-415b-b385-f9d5c63bcd5b@ClaytonBocce
DTSTART;TZID=America/Los_Angeles:20260508T183000
DTEND;TZID=America/Los_Angeles:20260508T210000
STATUS:CONFIRMED
SUMMARY:WHABSAB vs Slow Your Roll
URL:/League/Schedule/3248
DESCRIPTION:Regular Season match: WHABSAB vs Slow Your Roll
LOCATION:Newhall Court 3
END:VEVENT
BEGIN:VEVENT
DTSTAMP:20260426T000000Z
UID:da65f9c7-8fcd-4dd6-ae12-2f14c36ad2cc@ClaytonBocce
DTSTART;TZID=America/Los_Angeles:20260515T183000
DTEND;TZID=America/Los_Angeles:20260515T210000
STATUS:CONFIRMED
SUMMARY:WHABSAB vs No Place Like Roll'em
URL:/League/Schedule/3248
DESCRIPTION:Regular Season match: WHABSAB vs No Place Like R
 oll'em
LOCATION:Newhall Court 2
END:VEVENT
BEGIN:VEVENT
DTSTAMP:20260426T000000Z
UID:33d10e69-742c-42bd-a7c9-1e9ae1ec4c7b@ClaytonBocce
DTSTART;TZID=America/Los_Angeles:20260522T183000
DTEND;TZID=America/Los_Angeles:20260522T210000
STATUS:CONFIRMED
SUMMARY:WHABSAB vs Eat Drink Bocce
URL:/League/Schedule/3248
DESCRIPTION:Regular Season match: WHABSAB vs Eat Drink Bocce
LOCATION:Newhall Court 6
END:VEVENT
BEGIN:VEVENT
DTSTAMP:20260426T000000Z
UID:52c6b489-b9b1-4c21-a07e-c107f96c8437@ClaytonBocce
DTSTART;TZID=America/Los_Angeles:20260529T183000
DTEND;TZID=America/Los_Angeles:20260529T210000
STATUS:CONFIRMED
SUMMARY:WHABSAB vs The Crew
URL:/League/Schedule/3248
DESCRIPTION:Regular Season match: WHABSAB vs The Crew
LOCATION:Newhall Court 1
END:VEVENT
BEGIN:VEVENT
DTSTAMP:20260426T000000Z
UID:675b4305-292c-41f7-98c9-3906afd8a5c2@ClaytonBocce
DTSTART;TZID=America/Los_Angeles:20260605T183000
DTEND;TZID=America/Los_Angeles:20260605T210000
STATUS:CONFIRMED
SUMMARY:WHABSAB vs Deboccery
URL:/League/Schedule/3248
DESCRIPTION:Regular Season match: WHABSAB vs Deboccery
LOCATION:Newhall Court 7
END:VEVENT
BEGIN:VEVENT
DTSTAMP:20260426T000000Z
UID:a334a28c-941f-4273-beff-a3f697573b5b@ClaytonBocce
DTSTART;TZID=America/Los_Angeles:20260612T183000
DTEND;TZID=America/Los_Angeles:20260612T210000
STATUS:CONFIRMED
SUMMARY:WHABSAB vs Mangia Bene
URL:/League/Schedule/3248
DESCRIPTION:Regular Season match: WHABSAB vs Mangia Bene
LOCATION:Newhall Court 3
END:VEVENT
BEGIN:VEVENT
DTSTAMP:20260426T000000Z
UID:e743892a-28fa-47bb-806f-1b6cc3a6d3ae@ClaytonBocce
DTSTART;TZID=America/Los_Angeles:20260619T183000
DTEND;TZID=America/Los_Angeles:20260619T210000
STATUS:CONFIRMED
SUMMARY:WHABSAB vs Out 4 Fun
URL:/League/Schedule/3248
DESCRIPTION:Regular Season match: WHABSAB vs Out 4 Fun
LOCATION:Newhall Court 6
END:VEVENT
BEGIN:VEVENT
DTSTAMP:20260426T000000Z
UID:1ae4c6a2-b901-41d3-91d5-27504ce5577b@ClaytonBocce
DTSTART;TZID=America/Los_Angeles:20260710T183000
DTEND;TZID=America/Los_Angeles:20260710T210000
STATUS:CONFIRMED
SUMMARY:WHABSAB vs Bad Bocce
URL:/League/Schedule/3248
DESCRIPTION:Regular Season match: WHABSAB vs Bad Bocce
LOCATION:Newhall Court 4
END:VEVENT
BEGIN:VEVENT
DTSTAMP:20260426T000000Z
UID:f8c0e753-959a-4465-9663-b9309b00622d@ClaytonBocce
DTSTART;TZID=America/Los_Angeles:20260717T183000
DTEND;TZID=America/Los_Angeles:20260717T210000
STATUS:CONFIRMED
SUMMARY:WHABSAB vs Slow Your Roll
URL:/League/Schedule/3248
DESCRIPTION:Regular Season match: WHABSAB vs Slow Your Roll
LOCATION:Newhall Court 2
END:VEVENT
BEGIN:VEVENT
DTSTAMP:20260426T000000Z
UID:8a523818-72aa-4119-a9a8-4b7fe7874925@ClaytonBocce
DTSTART;TZID=America/Los_Angeles:20260724T183000
DTEND;TZID=America/Los_Angeles:20260724T210000
STATUS:CONFIRMED
SUMMARY:WHABSAB vs No Place Like Roll'em
URL:/League/Schedule/3248
DESCRIPTION:Regular Season match: WHABSAB vs No Place Like R
 oll'em
LOCATION:Newhall Court 8
END:VEVENT
BEGIN:VEVENT
DTSTAMP:20260426T000000Z
UID:654bc5ff-ec17-41f3-b723-90035544e42e@ClaytonBocce
DTSTART;TZID=America/Los_Angeles:20260731T183000
DTEND;TZID=America/Los_Angeles:20260731T210000
STATUS:CONFIRMED
SUMMARY:WHABSAB vs Eat Drink Bocce
URL:/League/Schedule/3248
DESCRIPTION:Regular Season match: WHABSAB vs Eat Drink Bocce
LOCATION:Newhall Court 5
END:VEVENT
BEGIN:VEVENT
DTSTAMP:20260426T000000Z
UID:3035d1cf-113c-4c47-a3ba-773da608f91b@ClaytonBocce
DTSTART;TZID=America/Los_Angeles:20260807T183000
DTEND;TZID=America/Los_Angeles:20260807T210000
STATUS:CONFIRMED
SUMMARY:WHABSAB vs The Crew
URL:/League/Schedule/3248
DESCRIPTION:Regular Season match: WHABSAB vs The Crew
LOCATION:Newhall Court 1
END:VEVENT
BEGIN:VEVENT
DTSTAMP:20260426T000000Z
UID:7e564815-0ca7-4aa5-813c-07accc31a94c@ClaytonBocce
DTSTART;TZID=America/Los_Angeles:20260814T183000
DTEND;TZID=America/Los_Angeles:20260814T210000
STATUS:CONFIRMED
SUMMARY:WHABSAB vs Deboccery
URL:/League/Schedule/3248
DESCRIPTION:Regular Season match: WHABSAB vs Deboccery
LOCATION:Newhall Court 4
END:VEVENT
BEGIN:VEVENT
DTSTAMP:20260426T000000Z
UID:1a8e442f-2d23-4b05-9e33-2bed9dc29d31@ClaytonBocce
DTSTART;TZID=America/Los_Angeles:20260821T183000
DTEND;TZID=America/Los_Angeles:20260821T210000
STATUS:CONFIRMED
SUMMARY:WHABSAB vs Mangia Bene
URL:/League/Schedule/3248
DESCRIPTION:Regular Season match: WHABSAB vs Mangia Bene
LOCATION:Newhall Court 3
END:VEVENT
BEGIN:VEVENT
DTSTAMP:20260426T000000Z
UID:e13d1a23-ef66-4953-b38e-59ab1583dcbb@ClaytonBocce
DTSTART;TZID=America/Los_Angeles:20260828T183000
DTEND;TZID=America/Los_Angeles:20260828T210000
STATUS:CONFIRMED
SUMMARY:WHABSAB vs Out 4 Fun
URL:/League/Schedule/3248
DESCRIPTION:Regular Season match: WHABSAB vs Out 4 Fun
LOCATION:Newhall Court 2
END:VEVENT
END:VCALENDAR
