BEGIN:VCALENDAR
VERSION:2.0
PRODID:-//Clayton Bocce League
METHOD:PUBLISH
BEGIN:VTIMEZONE
TZID:America/Los_Angeles
X-LIC-LOCATION:America/Los_Angeles
BEGIN:DAYLIGHT
TZOFFSETFROM:-0800
TZOFFSETTO:-0700
TZNAME:PDT
DTSTART:20070311T020000
RRULE:FREQ=YEARLY;BYMONTH=3;BYDAY=2SU
END:DAYLIGHT
BEGIN:STANDARD
TZOFFSETFROM:-0700
TZOFFSETTO:-0800
TZNAME:PST
DTSTART:20071104T020000
RRULE:FREQ=YEARLY;BYMONTH=11;BYDAY=1SU
END:STANDARD
END:VTIMEZONE
BEGIN:VEVENT
DTSTAMP:20260426T000000Z
UID:406094ab-0175-4002-888d-6daf0e4f60b4@ClaytonBocce
DTSTART;TZID=America/Los_Angeles:20260501T183000
DTEND;TZID=America/Los_Angeles:20260501T210000
STATUS:CONFIRMED
SUMMARY:Bella Sera vs Vechio Amicos
URL:/League/Schedule/3260
DESCRIPTION:Regular Season match: Bella Sera vs Vechio Amico
 s
LOCATION:Newhall Court 2
END:VEVENT
BEGIN:VEVENT
DTSTAMP:20260426T000000Z
UID:3ea66074-ca01-405c-88da-0e028a19ee15@ClaytonBocce
DTSTART;TZID=America/Los_Angeles:20260508T183000
DTEND;TZID=America/Los_Angeles:20260508T210000
STATUS:CONFIRMED
SUMMARY:Bella Sera vs Whine Time
URL:/League/Schedule/3260
DESCRIPTION:Regular Season match: Bella Sera vs Whine Time
LOCATION:Newhall Court 8
END:VEVENT
BEGIN:VEVENT
DTSTAMP:20260426T000000Z
UID:fd78c7e7-4cb7-4fd7-aafc-cf34ef785526@ClaytonBocce
DTSTART;TZID=America/Los_Angeles:20260522T183000
DTEND;TZID=America/Los_Angeles:20260522T210000
STATUS:CONFIRMED
SUMMARY:Bella Sera vs Stone Rollers
URL:/League/Schedule/3260
DESCRIPTION:Regular Season match: Bella Sera vs Stone Roller
 s
LOCATION:Newhall Court 7
END:VEVENT
BEGIN:VEVENT
DTSTAMP:20260426T000000Z
UID:4f632fc7-9a07-436c-bba3-2f1906ba91da@ClaytonBocce
DTSTART;TZID=America/Los_Angeles:20260529T183000
DTEND;TZID=America/Los_Angeles:20260529T210000
STATUS:CONFIRMED
SUMMARY:Bella Sera vs Ballsagna
URL:/League/Schedule/3260
DESCRIPTION:Regular Season match: Bella Sera vs Ballsagna
LOCATION:Newhall Court 6
END:VEVENT
BEGIN:VEVENT
DTSTAMP:20260426T000000Z
UID:1567f6b5-4c49-4347-a372-0b9f7a166564@ClaytonBocce
DTSTART;TZID=America/Los_Angeles:20260605T183000
DTEND;TZID=America/Los_Angeles:20260605T210000
STATUS:CONFIRMED
SUMMARY:Bella Sera vs Team Rehab
URL:/League/Schedule/3260
DESCRIPTION:Regular Season match: Bella Sera vs Team Rehab
LOCATION:Newhall Court 3
END:VEVENT
BEGIN:VEVENT
DTSTAMP:20260426T000000Z
UID:a2b2a72c-5268-4872-b7ac-60460e0603d5@ClaytonBocce
DTSTART;TZID=America/Los_Angeles:20260612T183000
DTEND;TZID=America/Los_Angeles:20260612T210000
STATUS:CONFIRMED
SUMMARY:Bella Sera vs Bossy Balls
URL:/League/Schedule/3260
DESCRIPTION:Regular Season match: Bella Sera vs Bossy Balls
LOCATION:Newhall Court 4
END:VEVENT
BEGIN:VEVENT
DTSTAMP:20260426T000000Z
UID:5b2943c7-d866-4ded-ac25-b2dbae75d9d3@ClaytonBocce
DTSTART;TZID=America/Los_Angeles:20260619T183000
DTEND;TZID=America/Los_Angeles:20260619T210000
STATUS:CONFIRMED
SUMMARY:Bella Sera vs Gli Stranneri
URL:/League/Schedule/3260
DESCRIPTION:Regular Season match: Bella Sera vs Gli Stranner
 i
LOCATION:Newhall Court 2
END:VEVENT
BEGIN:VEVENT
DTSTAMP:20260426T000000Z
UID:29bcca5e-1d93-44bf-824b-996a9435c0dc@ClaytonBocce
DTSTART;TZID=America/Los_Angeles:20260626T183000
DTEND;TZID=America/Los_Angeles:20260626T210000
STATUS:CONFIRMED
SUMMARY:Bella Sera vs Team Badabing
URL:/League/Schedule/3260
DESCRIPTION:Regular Season match: Bella Sera vs Team Badabin
 g
LOCATION:Newhall Court 1
END:VEVENT
BEGIN:VEVENT
DTSTAMP:20260426T000000Z
UID:8c11a72e-915c-497f-9c47-fb1e592cbb1b@ClaytonBocce
DTSTART;TZID=America/Los_Angeles:20260710T183000
DTEND;TZID=America/Los_Angeles:20260710T210000
STATUS:CONFIRMED
SUMMARY:Bella Sera vs Vechio Amicos
URL:/League/Schedule/3260
DESCRIPTION:Regular Season match: Bella Sera vs Vechio Amico
 s
LOCATION:Newhall Court 6
END:VEVENT
BEGIN:VEVENT
DTSTAMP:20260426T000000Z
UID:eb57e42b-9392-4fd6-b8e7-a1d9dcacbb28@ClaytonBocce
DTSTART;TZID=America/Los_Angeles:20260717T183000
DTEND;TZID=America/Los_Angeles:20260717T210000
STATUS:CONFIRMED
SUMMARY:Bella Sera vs Whine Time
URL:/League/Schedule/3260
DESCRIPTION:Regular Season match: Bella Sera vs Whine Time
LOCATION:Newhall Court 5
END:VEVENT
BEGIN:VEVENT
DTSTAMP:20260426T000000Z
UID:9541df7e-3971-4d96-96e9-4f18a7a35625@ClaytonBocce
DTSTART;TZID=America/Los_Angeles:20260731T183000
DTEND;TZID=America/Los_Angeles:20260731T210000
STATUS:CONFIRMED
SUMMARY:Bella Sera vs Stone Rollers
URL:/League/Schedule/3260
DESCRIPTION:Regular Season match: Bella Sera vs Stone Roller
 s
LOCATION:Newhall Court 7
END:VEVENT
BEGIN:VEVENT
DTSTAMP:20260426T000000Z
UID:578d131a-08a5-4bc7-8313-c371f433ae19@ClaytonBocce
DTSTART;TZID=America/Los_Angeles:20260807T183000
DTEND;TZID=America/Los_Angeles:20260807T210000
STATUS:CONFIRMED
SUMMARY:Bella Sera vs Ballsagna
URL:/League/Schedule/3260
DESCRIPTION:Regular Season match: Bella Sera vs Ballsagna
LOCATION:Newhall Court 3
END:VEVENT
BEGIN:VEVENT
DTSTAMP:20260426T000000Z
UID:212b1882-18b1-4e45-b93c-f78784ccc37b@ClaytonBocce
DTSTART;TZID=America/Los_Angeles:20260814T183000
DTEND;TZID=America/Los_Angeles:20260814T210000
STATUS:CONFIRMED
SUMMARY:Bella Sera vs Team Rehab
URL:/League/Schedule/3260
DESCRIPTION:Regular Season match: Bella Sera vs Team Rehab
LOCATION:Newhall Court 2
END:VEVENT
BEGIN:VEVENT
DTSTAMP:20260426T000000Z
UID:4be5370f-2182-4c05-b25f-8212827fa1de@ClaytonBocce
DTSTART;TZID=America/Los_Angeles:20260821T183000
DTEND;TZID=America/Los_Angeles:20260821T210000
STATUS:CONFIRMED
SUMMARY:Bella Sera vs Bossy Balls
URL:/League/Schedule/3260
DESCRIPTION:Regular Season match: Bella Sera vs Bossy Balls
LOCATION:Newhall Court 1
END:VEVENT
BEGIN:VEVENT
DTSTAMP:20260426T000000Z
UID:1dba994d-1ecb-4ef1-b588-19cef9410c09@ClaytonBocce
DTSTART;TZID=America/Los_Angeles:20260828T183000
DTEND;TZID=America/Los_Angeles:20260828T210000
STATUS:CONFIRMED
SUMMARY:Bella Sera vs Gli Stranneri
URL:/League/Schedule/3260
DESCRIPTION:Regular Season match: Bella Sera vs Gli Stranner
 i
LOCATION:Newhall Court 4
END:VEVENT
BEGIN:VEVENT
DTSTAMP:20260426T000000Z
UID:a8afe879-6e74-45a5-a94b-40bc6ec3d77e@ClaytonBocce
DTSTART;TZID=America/Los_Angeles:20260904T183000
DTEND;TZID=America/Los_Angeles:20260904T210000
STATUS:CONFIRMED
SUMMARY:Bella Sera vs Team Badabing
URL:/League/Schedule/3260
DESCRIPTION:Regular Season match: Bella Sera vs Team Badabin
 g
LOCATION:Newhall Court 8
END:VEVENT
END:VCALENDAR
