BEGIN:VCALENDAR
VERSION:2.0
PRODID:-//Clayton Bocce League
METHOD:PUBLISH
BEGIN:VTIMEZONE
TZID:America/Los_Angeles
X-LIC-LOCATION:America/Los_Angeles
BEGIN:DAYLIGHT
TZOFFSETFROM:-0800
TZOFFSETTO:-0700
TZNAME:PDT
DTSTART:20070311T020000
RRULE:FREQ=YEARLY;BYMONTH=3;BYDAY=2SU
END:DAYLIGHT
BEGIN:STANDARD
TZOFFSETFROM:-0700
TZOFFSETTO:-0800
TZNAME:PST
DTSTART:20071104T020000
RRULE:FREQ=YEARLY;BYMONTH=11;BYDAY=1SU
END:STANDARD
END:VTIMEZONE
BEGIN:VEVENT
DTSTAMP:20260426T000000Z
UID:406094ab-0175-4002-888d-6daf0e4f60b4@ClaytonBocce
DTSTART;TZID=America/Los_Angeles:20260501T183000
DTEND;TZID=America/Los_Angeles:20260501T210000
STATUS:CONFIRMED
SUMMARY:Vechio Amicos vs Bella Sera
URL:/League/Schedule/3245
DESCRIPTION:Regular Season match: Vechio Amicos vs Bella Ser
 a
LOCATION:Newhall Court 2
END:VEVENT
BEGIN:VEVENT
DTSTAMP:20260426T000000Z
UID:cccd3f12-c0f0-423c-9a49-eb4cfa5509a5@ClaytonBocce
DTSTART;TZID=America/Los_Angeles:20260508T183000
DTEND;TZID=America/Los_Angeles:20260508T210000
STATUS:CONFIRMED
SUMMARY:Vechio Amicos vs Stone Rollers
URL:/League/Schedule/3245
DESCRIPTION:Regular Season match: Vechio Amicos vs Stone Rol
 lers
LOCATION:Newhall Court 1
END:VEVENT
BEGIN:VEVENT
DTSTAMP:20260426T000000Z
UID:d7c2a925-8c5c-46d9-9063-d33d98f3bba6@ClaytonBocce
DTSTART;TZID=America/Los_Angeles:20260515T183000
DTEND;TZID=America/Los_Angeles:20260515T210000
STATUS:CONFIRMED
SUMMARY:Vechio Amicos vs Ballsagna
URL:/League/Schedule/3245
DESCRIPTION:Regular Season match: Vechio Amicos vs Ballsagna
LOCATION:Newhall Court 5
END:VEVENT
BEGIN:VEVENT
DTSTAMP:20260426T000000Z
UID:a6b4aec5-9cf3-47b7-a416-2810036c9823@ClaytonBocce
DTSTART;TZID=America/Los_Angeles:20260522T183000
DTEND;TZID=America/Los_Angeles:20260522T210000
STATUS:CONFIRMED
SUMMARY:Vechio Amicos vs Team Rehab
URL:/League/Schedule/3245
DESCRIPTION:Regular Season match: Vechio Amicos vs Team Reha
 b
LOCATION:Newhall Court 8
END:VEVENT
BEGIN:VEVENT
DTSTAMP:20260426T000000Z
UID:9972ef6b-457d-4afb-8a56-ebe0c6a627bb@ClaytonBocce
DTSTART;TZID=America/Los_Angeles:20260529T183000
DTEND;TZID=America/Los_Angeles:20260529T210000
STATUS:CONFIRMED
SUMMARY:Vechio Amicos vs Bossy Balls
URL:/League/Schedule/3245
DESCRIPTION:Regular Season match: Vechio Amicos vs Bossy Bal
 ls
LOCATION:Newhall Court 3
END:VEVENT
BEGIN:VEVENT
DTSTAMP:20260426T000000Z
UID:9c0af968-cd8b-49ee-bdfe-4fbb756875a4@ClaytonBocce
DTSTART;TZID=America/Los_Angeles:20260605T183000
DTEND;TZID=America/Los_Angeles:20260605T210000
STATUS:CONFIRMED
SUMMARY:Vechio Amicos vs Gli Stranneri
URL:/League/Schedule/3245
DESCRIPTION:Regular Season match: Vechio Amicos vs Gli Stran
 neri
LOCATION:Newhall Court 4
END:VEVENT
BEGIN:VEVENT
DTSTAMP:20260426T000000Z
UID:97f199a8-db08-49c3-912d-a5f0746784cf@ClaytonBocce
DTSTART;TZID=America/Los_Angeles:20260612T183000
DTEND;TZID=America/Los_Angeles:20260612T210000
STATUS:CONFIRMED
SUMMARY:Vechio Amicos vs Team Badabing
URL:/League/Schedule/3245
DESCRIPTION:Regular Season match: Vechio Amicos vs Team Bada
 bing
LOCATION:Newhall Court 5
END:VEVENT
BEGIN:VEVENT
DTSTAMP:20260426T000000Z
UID:c03dec65-17e9-4954-af92-b88dc38213c0@ClaytonBocce
DTSTART;TZID=America/Los_Angeles:20260626T183000
DTEND;TZID=America/Los_Angeles:20260626T210000
STATUS:CONFIRMED
SUMMARY:Vechio Amicos vs Whine Time
URL:/League/Schedule/3245
DESCRIPTION:Regular Season match: Vechio Amicos vs Whine Tim
 e
LOCATION:Newhall Court 7
END:VEVENT
BEGIN:VEVENT
DTSTAMP:20260426T000000Z
UID:8c11a72e-915c-497f-9c47-fb1e592cbb1b@ClaytonBocce
DTSTART;TZID=America/Los_Angeles:20260710T183000
DTEND;TZID=America/Los_Angeles:20260710T210000
STATUS:CONFIRMED
SUMMARY:Vechio Amicos vs Bella Sera
URL:/League/Schedule/3245
DESCRIPTION:Regular Season match: Vechio Amicos vs Bella Ser
 a
LOCATION:Newhall Court 6
END:VEVENT
BEGIN:VEVENT
DTSTAMP:20260426T000000Z
UID:4ec01ea4-c55d-4c7d-9982-aa8ff4d3bcfb@ClaytonBocce
DTSTART;TZID=America/Los_Angeles:20260717T183000
DTEND;TZID=America/Los_Angeles:20260717T210000
STATUS:CONFIRMED
SUMMARY:Vechio Amicos vs Stone Rollers
URL:/League/Schedule/3245
DESCRIPTION:Regular Season match: Vechio Amicos vs Stone Rol
 lers
LOCATION:Newhall Court 3
END:VEVENT
BEGIN:VEVENT
DTSTAMP:20260426T000000Z
UID:320a2799-ced2-4b87-92c5-351d24d27986@ClaytonBocce
DTSTART;TZID=America/Los_Angeles:20260724T183000
DTEND;TZID=America/Los_Angeles:20260724T210000
STATUS:CONFIRMED
SUMMARY:Vechio Amicos vs Ballsagna
URL:/League/Schedule/3245
DESCRIPTION:Regular Season match: Vechio Amicos vs Ballsagna
LOCATION:Newhall Court 2
END:VEVENT
BEGIN:VEVENT
DTSTAMP:20260426T000000Z
UID:a1bb41d9-25ff-4e7e-a56e-083a79203581@ClaytonBocce
DTSTART;TZID=America/Los_Angeles:20260731T183000
DTEND;TZID=America/Los_Angeles:20260731T210000
STATUS:CONFIRMED
SUMMARY:Vechio Amicos vs Team Rehab
URL:/League/Schedule/3245
DESCRIPTION:Regular Season match: Vechio Amicos vs Team Reha
 b
LOCATION:Newhall Court 1
END:VEVENT
BEGIN:VEVENT
DTSTAMP:20260426T000000Z
UID:b9e2115d-6c94-4079-8e50-8924429a644b@ClaytonBocce
DTSTART;TZID=America/Los_Angeles:20260807T183000
DTEND;TZID=America/Los_Angeles:20260807T210000
STATUS:CONFIRMED
SUMMARY:Vechio Amicos vs Bossy Balls
URL:/League/Schedule/3245
DESCRIPTION:Regular Season match: Vechio Amicos vs Bossy Bal
 ls
LOCATION:Newhall Court 2
END:VEVENT
BEGIN:VEVENT
DTSTAMP:20260426T000000Z
UID:b6efbbe5-9e37-4062-9e5e-425eb54fa73d@ClaytonBocce
DTSTART;TZID=America/Los_Angeles:20260814T183000
DTEND;TZID=America/Los_Angeles:20260814T210000
STATUS:CONFIRMED
SUMMARY:Vechio Amicos vs Gli Stranneri
URL:/League/Schedule/3245
DESCRIPTION:Regular Season match: Vechio Amicos vs Gli Stran
 neri
LOCATION:Newhall Court 6
END:VEVENT
BEGIN:VEVENT
DTSTAMP:20260426T000000Z
UID:b2747e26-3dbc-445c-a8f7-ff957b8b28f9@ClaytonBocce
DTSTART;TZID=America/Los_Angeles:20260821T183000
DTEND;TZID=America/Los_Angeles:20260821T210000
STATUS:CONFIRMED
SUMMARY:Vechio Amicos vs Team Badabing
URL:/League/Schedule/3245
DESCRIPTION:Regular Season match: Vechio Amicos vs Team Bada
 bing
LOCATION:Newhall Court 5
END:VEVENT
BEGIN:VEVENT
DTSTAMP:20260426T000000Z
UID:0cf8eb47-5100-42c3-b607-b4fa0376e7a6@ClaytonBocce
DTSTART;TZID=America/Los_Angeles:20260904T183000
DTEND;TZID=America/Los_Angeles:20260904T210000
STATUS:CONFIRMED
SUMMARY:Vechio Amicos vs Whine Time
URL:/League/Schedule/3245
DESCRIPTION:Regular Season match: Vechio Amicos vs Whine Tim
 e
LOCATION:Newhall Court 7
END:VEVENT
END:VCALENDAR
