BEGIN:VCALENDAR
VERSION:2.0
PRODID:-//Clayton Bocce League
METHOD:PUBLISH
BEGIN:VTIMEZONE
TZID:America/Los_Angeles
X-LIC-LOCATION:America/Los_Angeles
BEGIN:DAYLIGHT
TZOFFSETFROM:-0800
TZOFFSETTO:-0700
TZNAME:PDT
DTSTART:20070311T020000
RRULE:FREQ=YEARLY;BYMONTH=3;BYDAY=2SU
END:DAYLIGHT
BEGIN:STANDARD
TZOFFSETFROM:-0700
TZOFFSETTO:-0800
TZNAME:PST
DTSTART:20071104T020000
RRULE:FREQ=YEARLY;BYMONTH=11;BYDAY=1SU
END:STANDARD
END:VTIMEZONE
BEGIN:VEVENT
DTSTAMP:20260426T000000Z
UID:7d8fbdb5-2667-47a6-82cf-d30778297b30@ClaytonBocce
DTSTART;TZID=America/Los_Angeles:20260501T183000
DTEND;TZID=America/Los_Angeles:20260501T210000
STATUS:CONFIRMED
SUMMARY:Bossy Balls vs Team Rehab
URL:/League/Schedule/3252
DESCRIPTION:Regular Season match: Bossy Balls vs Team Rehab
LOCATION:Newhall Court 1
END:VEVENT
BEGIN:VEVENT
DTSTAMP:20260426T000000Z
UID:24ea30ff-0e06-4540-a11d-f376fcc8a339@ClaytonBocce
DTSTART;TZID=America/Los_Angeles:20260515T183000
DTEND;TZID=America/Los_Angeles:20260515T210000
STATUS:CONFIRMED
SUMMARY:Bossy Balls vs Gli Stranneri
URL:/League/Schedule/3252
DESCRIPTION:Regular Season match: Bossy Balls vs Gli Stranne
 ri
LOCATION:Newhall Court 7
END:VEVENT
BEGIN:VEVENT
DTSTAMP:20260426T000000Z
UID:677ce4f1-775e-4ff8-a76b-cee556a65564@ClaytonBocce
DTSTART;TZID=America/Los_Angeles:20260522T183000
DTEND;TZID=America/Los_Angeles:20260522T210000
STATUS:CONFIRMED
SUMMARY:Bossy Balls vs Team Badabing
URL:/League/Schedule/3252
DESCRIPTION:Regular Season match: Bossy Balls vs Team Badabi
 ng
LOCATION:Newhall Court 2
END:VEVENT
BEGIN:VEVENT
DTSTAMP:20260426T000000Z
UID:9972ef6b-457d-4afb-8a56-ebe0c6a627bb@ClaytonBocce
DTSTART;TZID=America/Los_Angeles:20260529T183000
DTEND;TZID=America/Los_Angeles:20260529T210000
STATUS:CONFIRMED
SUMMARY:Bossy Balls vs Vechio Amicos
URL:/League/Schedule/3252
DESCRIPTION:Regular Season match: Bossy Balls vs Vechio Amic
 os
LOCATION:Newhall Court 3
END:VEVENT
BEGIN:VEVENT
DTSTAMP:20260426T000000Z
UID:42941ffc-f9a5-47fc-9d91-a834ec0005e9@ClaytonBocce
DTSTART;TZID=America/Los_Angeles:20260605T183000
DTEND;TZID=America/Los_Angeles:20260605T210000
STATUS:CONFIRMED
SUMMARY:Bossy Balls vs Whine Time
URL:/League/Schedule/3252
DESCRIPTION:Regular Season match: Bossy Balls vs Whine Time
LOCATION:Newhall Court 6
END:VEVENT
BEGIN:VEVENT
DTSTAMP:20260426T000000Z
UID:a2b2a72c-5268-4872-b7ac-60460e0603d5@ClaytonBocce
DTSTART;TZID=America/Los_Angeles:20260612T183000
DTEND;TZID=America/Los_Angeles:20260612T210000
STATUS:CONFIRMED
SUMMARY:Bossy Balls vs Bella Sera
URL:/League/Schedule/3252
DESCRIPTION:Regular Season match: Bossy Balls vs Bella Sera
LOCATION:Newhall Court 4
END:VEVENT
BEGIN:VEVENT
DTSTAMP:20260426T000000Z
UID:36c4752d-6937-495b-b00a-b48b7f35ed9e@ClaytonBocce
DTSTART;TZID=America/Los_Angeles:20260619T183000
DTEND;TZID=America/Los_Angeles:20260619T210000
STATUS:CONFIRMED
SUMMARY:Bossy Balls vs Stone Rollers
URL:/League/Schedule/3252
DESCRIPTION:Regular Season match: Bossy Balls vs Stone Rolle
 rs
LOCATION:Newhall Court 5
END:VEVENT
BEGIN:VEVENT
DTSTAMP:20260426T000000Z
UID:16323185-7291-4043-8fce-cc6205864683@ClaytonBocce
DTSTART;TZID=America/Los_Angeles:20260626T183000
DTEND;TZID=America/Los_Angeles:20260626T210000
STATUS:CONFIRMED
SUMMARY:Bossy Balls vs Ballsagna
URL:/League/Schedule/3252
DESCRIPTION:Regular Season match: Bossy Balls vs Ballsagna
LOCATION:Newhall Court 8
END:VEVENT
BEGIN:VEVENT
DTSTAMP:20260426T000000Z
UID:77ec6a3a-ae92-459c-a2ad-36c46dd04fee@ClaytonBocce
DTSTART;TZID=America/Los_Angeles:20260710T183000
DTEND;TZID=America/Los_Angeles:20260710T210000
STATUS:CONFIRMED
SUMMARY:Bossy Balls vs Team Rehab
URL:/League/Schedule/3252
DESCRIPTION:Regular Season match: Bossy Balls vs Team Rehab
LOCATION:Newhall Court 7
END:VEVENT
BEGIN:VEVENT
DTSTAMP:20260426T000000Z
UID:730019d3-1161-476f-ac15-fbda4abf73aa@ClaytonBocce
DTSTART;TZID=America/Los_Angeles:20260724T183000
DTEND;TZID=America/Los_Angeles:20260724T210000
STATUS:CONFIRMED
SUMMARY:Bossy Balls vs Gli Stranneri
URL:/League/Schedule/3252
DESCRIPTION:Regular Season match: Bossy Balls vs Gli Stranne
 ri
LOCATION:Newhall Court 3
END:VEVENT
BEGIN:VEVENT
DTSTAMP:20260426T000000Z
UID:db080ffe-53b7-426a-9019-03996e89b9e2@ClaytonBocce
DTSTART;TZID=America/Los_Angeles:20260731T183000
DTEND;TZID=America/Los_Angeles:20260731T210000
STATUS:CONFIRMED
SUMMARY:Bossy Balls vs Team Badabing
URL:/League/Schedule/3252
DESCRIPTION:Regular Season match: Bossy Balls vs Team Badabi
 ng
LOCATION:Newhall Court 4
END:VEVENT
BEGIN:VEVENT
DTSTAMP:20260426T000000Z
UID:b9e2115d-6c94-4079-8e50-8924429a644b@ClaytonBocce
DTSTART;TZID=America/Los_Angeles:20260807T183000
DTEND;TZID=America/Los_Angeles:20260807T210000
STATUS:CONFIRMED
SUMMARY:Bossy Balls vs Vechio Amicos
URL:/League/Schedule/3252
DESCRIPTION:Regular Season match: Bossy Balls vs Vechio Amic
 os
LOCATION:Newhall Court 2
END:VEVENT
BEGIN:VEVENT
DTSTAMP:20260426T000000Z
UID:f747cd21-6925-4cc9-90ac-71fa87040749@ClaytonBocce
DTSTART;TZID=America/Los_Angeles:20260814T183000
DTEND;TZID=America/Los_Angeles:20260814T210000
STATUS:CONFIRMED
SUMMARY:Bossy Balls vs Whine Time
URL:/League/Schedule/3252
DESCRIPTION:Regular Season match: Bossy Balls vs Whine Time
LOCATION:Newhall Court 5
END:VEVENT
BEGIN:VEVENT
DTSTAMP:20260426T000000Z
UID:4be5370f-2182-4c05-b25f-8212827fa1de@ClaytonBocce
DTSTART;TZID=America/Los_Angeles:20260821T183000
DTEND;TZID=America/Los_Angeles:20260821T210000
STATUS:CONFIRMED
SUMMARY:Bossy Balls vs Bella Sera
URL:/League/Schedule/3252
DESCRIPTION:Regular Season match: Bossy Balls vs Bella Sera
LOCATION:Newhall Court 1
END:VEVENT
BEGIN:VEVENT
DTSTAMP:20260426T000000Z
UID:cddc2e7c-bce6-4661-9e6c-b7fa4bb5a147@ClaytonBocce
DTSTART;TZID=America/Los_Angeles:20260828T183000
DTEND;TZID=America/Los_Angeles:20260828T210000
STATUS:CONFIRMED
SUMMARY:Bossy Balls vs Stone Rollers
URL:/League/Schedule/3252
DESCRIPTION:Regular Season match: Bossy Balls vs Stone Rolle
 rs
LOCATION:Newhall Court 6
END:VEVENT
BEGIN:VEVENT
DTSTAMP:20260426T000000Z
UID:8a276df5-5d7a-430b-8f6d-d87ded39b03b@ClaytonBocce
DTSTART;TZID=America/Los_Angeles:20260904T183000
DTEND;TZID=America/Los_Angeles:20260904T210000
STATUS:CONFIRMED
SUMMARY:Bossy Balls vs Ballsagna
URL:/League/Schedule/3252
DESCRIPTION:Regular Season match: Bossy Balls vs Ballsagna
LOCATION:Newhall Court 4
END:VEVENT
END:VCALENDAR
