BEGIN:VCALENDAR
VERSION:2.0
PRODID:-//Clayton Bocce League
METHOD:PUBLISH
BEGIN:VTIMEZONE
TZID:America/Los_Angeles
X-LIC-LOCATION:America/Los_Angeles
BEGIN:DAYLIGHT
TZOFFSETFROM:-0800
TZOFFSETTO:-0700
TZNAME:PDT
DTSTART:20070311T020000
RRULE:FREQ=YEARLY;BYMONTH=3;BYDAY=2SU
END:DAYLIGHT
BEGIN:STANDARD
TZOFFSETFROM:-0700
TZOFFSETTO:-0800
TZNAME:PST
DTSTART:20071104T020000
RRULE:FREQ=YEARLY;BYMONTH=11;BYDAY=1SU
END:STANDARD
END:VTIMEZONE
BEGIN:VEVENT
DTSTAMP:20260426T000000Z
UID:7d8fbdb5-2667-47a6-82cf-d30778297b30@ClaytonBocce
DTSTART;TZID=America/Los_Angeles:20260501T183000
DTEND;TZID=America/Los_Angeles:20260501T210000
STATUS:CONFIRMED
SUMMARY:Team Rehab vs Bossy Balls
URL:/League/Schedule/3246
DESCRIPTION:Regular Season match: Team Rehab vs Bossy Balls
LOCATION:Newhall Court 1
END:VEVENT
BEGIN:VEVENT
DTSTAMP:20260426T000000Z
UID:e244ec22-d1c6-45b3-8ebb-6b26731b77fe@ClaytonBocce
DTSTART;TZID=America/Los_Angeles:20260508T183000
DTEND;TZID=America/Los_Angeles:20260508T210000
STATUS:CONFIRMED
SUMMARY:Team Rehab vs Gli Stranneri
URL:/League/Schedule/3246
DESCRIPTION:Regular Season match: Team Rehab vs Gli Stranner
 i
LOCATION:Newhall Court 5
END:VEVENT
BEGIN:VEVENT
DTSTAMP:20260426T000000Z
UID:34a77228-65ea-4ef6-a990-4189ac0ed26a@ClaytonBocce
DTSTART;TZID=America/Los_Angeles:20260515T183000
DTEND;TZID=America/Los_Angeles:20260515T210000
STATUS:CONFIRMED
SUMMARY:Team Rehab vs Team Badabing
URL:/League/Schedule/3246
DESCRIPTION:Regular Season match: Team Rehab vs Team Badabin
 g
LOCATION:Newhall Court 6
END:VEVENT
BEGIN:VEVENT
DTSTAMP:20260426T000000Z
UID:a6b4aec5-9cf3-47b7-a416-2810036c9823@ClaytonBocce
DTSTART;TZID=America/Los_Angeles:20260522T183000
DTEND;TZID=America/Los_Angeles:20260522T210000
STATUS:CONFIRMED
SUMMARY:Team Rehab vs Vechio Amicos
URL:/League/Schedule/3246
DESCRIPTION:Regular Season match: Team Rehab vs Vechio Amico
 s
LOCATION:Newhall Court 8
END:VEVENT
BEGIN:VEVENT
DTSTAMP:20260426T000000Z
UID:ebefee05-0577-49e1-a718-68fdd95206c3@ClaytonBocce
DTSTART;TZID=America/Los_Angeles:20260529T183000
DTEND;TZID=America/Los_Angeles:20260529T210000
STATUS:CONFIRMED
SUMMARY:Team Rehab vs Whine Time
URL:/League/Schedule/3246
DESCRIPTION:Regular Season match: Team Rehab vs Whine Time
LOCATION:Newhall Court 2
END:VEVENT
BEGIN:VEVENT
DTSTAMP:20260426T000000Z
UID:1567f6b5-4c49-4347-a372-0b9f7a166564@ClaytonBocce
DTSTART;TZID=America/Los_Angeles:20260605T183000
DTEND;TZID=America/Los_Angeles:20260605T210000
STATUS:CONFIRMED
SUMMARY:Team Rehab vs Bella Sera
URL:/League/Schedule/3246
DESCRIPTION:Regular Season match: Team Rehab vs Bella Sera
LOCATION:Newhall Court 3
END:VEVENT
BEGIN:VEVENT
DTSTAMP:20260426T000000Z
UID:78bc4dfb-be7e-4d0c-a4a8-f401d049d3e6@ClaytonBocce
DTSTART;TZID=America/Los_Angeles:20260612T183000
DTEND;TZID=America/Los_Angeles:20260612T210000
STATUS:CONFIRMED
SUMMARY:Team Rehab vs Stone Rollers
URL:/League/Schedule/3246
DESCRIPTION:Regular Season match: Team Rehab vs Stone Roller
 s
LOCATION:Newhall Court 8
END:VEVENT
BEGIN:VEVENT
DTSTAMP:20260426T000000Z
UID:95291b45-bd99-4a31-89d2-5dd663533091@ClaytonBocce
DTSTART;TZID=America/Los_Angeles:20260619T183000
DTEND;TZID=America/Los_Angeles:20260619T210000
STATUS:CONFIRMED
SUMMARY:Team Rehab vs Ballsagna
URL:/League/Schedule/3246
DESCRIPTION:Regular Season match: Team Rehab vs Ballsagna
LOCATION:Newhall Court 1
END:VEVENT
BEGIN:VEVENT
DTSTAMP:20260426T000000Z
UID:77ec6a3a-ae92-459c-a2ad-36c46dd04fee@ClaytonBocce
DTSTART;TZID=America/Los_Angeles:20260710T183000
DTEND;TZID=America/Los_Angeles:20260710T210000
STATUS:CONFIRMED
SUMMARY:Team Rehab vs Bossy Balls
URL:/League/Schedule/3246
DESCRIPTION:Regular Season match: Team Rehab vs Bossy Balls
LOCATION:Newhall Court 7
END:VEVENT
BEGIN:VEVENT
DTSTAMP:20260426T000000Z
UID:406eda38-f77c-434b-a520-e724fef7935d@ClaytonBocce
DTSTART;TZID=America/Los_Angeles:20260717T183000
DTEND;TZID=America/Los_Angeles:20260717T210000
STATUS:CONFIRMED
SUMMARY:Team Rehab vs Gli Stranneri
URL:/League/Schedule/3246
DESCRIPTION:Regular Season match: Team Rehab vs Gli Stranner
 i
LOCATION:Newhall Court 4
END:VEVENT
BEGIN:VEVENT
DTSTAMP:20260426T000000Z
UID:99698316-4c58-4106-a8bc-773eae7d7b22@ClaytonBocce
DTSTART;TZID=America/Los_Angeles:20260724T183000
DTEND;TZID=America/Los_Angeles:20260724T210000
STATUS:CONFIRMED
SUMMARY:Team Rehab vs Team Badabing
URL:/League/Schedule/3246
DESCRIPTION:Regular Season match: Team Rehab vs Team Badabin
 g
LOCATION:Newhall Court 5
END:VEVENT
BEGIN:VEVENT
DTSTAMP:20260426T000000Z
UID:a1bb41d9-25ff-4e7e-a56e-083a79203581@ClaytonBocce
DTSTART;TZID=America/Los_Angeles:20260731T183000
DTEND;TZID=America/Los_Angeles:20260731T210000
STATUS:CONFIRMED
SUMMARY:Team Rehab vs Vechio Amicos
URL:/League/Schedule/3246
DESCRIPTION:Regular Season match: Team Rehab vs Vechio Amico
 s
LOCATION:Newhall Court 1
END:VEVENT
BEGIN:VEVENT
DTSTAMP:20260426T000000Z
UID:4edb8cad-1bba-479d-850d-33bfe9362524@ClaytonBocce
DTSTART;TZID=America/Los_Angeles:20260807T183000
DTEND;TZID=America/Los_Angeles:20260807T210000
STATUS:CONFIRMED
SUMMARY:Team Rehab vs Whine Time
URL:/League/Schedule/3246
DESCRIPTION:Regular Season match: Team Rehab vs Whine Time
LOCATION:Newhall Court 6
END:VEVENT
BEGIN:VEVENT
DTSTAMP:20260426T000000Z
UID:212b1882-18b1-4e45-b93c-f78784ccc37b@ClaytonBocce
DTSTART;TZID=America/Los_Angeles:20260814T183000
DTEND;TZID=America/Los_Angeles:20260814T210000
STATUS:CONFIRMED
SUMMARY:Team Rehab vs Bella Sera
URL:/League/Schedule/3246
DESCRIPTION:Regular Season match: Team Rehab vs Bella Sera
LOCATION:Newhall Court 2
END:VEVENT
BEGIN:VEVENT
DTSTAMP:20260426T000000Z
UID:45fdac09-ca45-4380-a7d8-02d0aa847ca7@ClaytonBocce
DTSTART;TZID=America/Los_Angeles:20260821T183000
DTEND;TZID=America/Los_Angeles:20260821T210000
STATUS:CONFIRMED
SUMMARY:Team Rehab vs Stone Rollers
URL:/League/Schedule/3246
DESCRIPTION:Regular Season match: Team Rehab vs Stone Roller
 s
LOCATION:Newhall Court 8
END:VEVENT
BEGIN:VEVENT
DTSTAMP:20260426T000000Z
UID:3ce0e370-8ff4-464b-b9e3-fa261e6c48f9@ClaytonBocce
DTSTART;TZID=America/Los_Angeles:20260828T183000
DTEND;TZID=America/Los_Angeles:20260828T210000
STATUS:CONFIRMED
SUMMARY:Team Rehab vs Ballsagna
URL:/League/Schedule/3246
DESCRIPTION:Regular Season match: Team Rehab vs Ballsagna
LOCATION:Newhall Court 7
END:VEVENT
END:VCALENDAR
