BEGIN:VCALENDAR
VERSION:2.0
PRODID:-//Clayton Bocce League
METHOD:PUBLISH
BEGIN:VTIMEZONE
TZID:America/Los_Angeles
X-LIC-LOCATION:America/Los_Angeles
BEGIN:DAYLIGHT
TZOFFSETFROM:-0800
TZOFFSETTO:-0700
TZNAME:PDT
DTSTART:20070311T020000
RRULE:FREQ=YEARLY;BYMONTH=3;BYDAY=2SU
END:DAYLIGHT
BEGIN:STANDARD
TZOFFSETFROM:-0700
TZOFFSETTO:-0800
TZNAME:PST
DTSTART:20071104T020000
RRULE:FREQ=YEARLY;BYMONTH=11;BYDAY=1SU
END:STANDARD
END:VTIMEZONE
BEGIN:VEVENT
DTSTAMP:20260426T000000Z
UID:32bc75b8-5b89-4a35-9e03-463516fa72c3@ClaytonBocce
DTSTART;TZID=America/Los_Angeles:20260506T183000
DTEND;TZID=America/Los_Angeles:20260506T210000
STATUS:CONFIRMED
SUMMARY:Crushers vs Mission Imbocce
URL:/League/Schedule/3226
DESCRIPTION:Regular Season match: Crushers vs Mission Imbocc
 e
LOCATION:Newhall Court 8
END:VEVENT
BEGIN:VEVENT
DTSTAMP:20260426T000000Z
UID:60114f24-2e17-4639-9a1a-b4049d69a707@ClaytonBocce
DTSTART;TZID=America/Los_Angeles:20260513T183000
DTEND;TZID=America/Los_Angeles:20260513T210000
STATUS:CONFIRMED
SUMMARY:Crushers vs Rat Pack
URL:/League/Schedule/3226
DESCRIPTION:Regular Season match: Crushers vs Rat Pack
LOCATION:Newhall Court 3
END:VEVENT
BEGIN:VEVENT
DTSTAMP:20260426T000000Z
UID:52cf0c21-132b-4f21-9e1d-939b8f3257dc@ClaytonBocce
DTSTART;TZID=America/Los_Angeles:20260520T183000
DTEND;TZID=America/Los_Angeles:20260520T210000
STATUS:CONFIRMED
SUMMARY:Crushers vs 4 Watch 4 Play
URL:/League/Schedule/3226
DESCRIPTION:Regular Season match: Crushers vs 4 Watch 4 Play
LOCATION:Newhall Court 4
END:VEVENT
BEGIN:VEVENT
DTSTAMP:20260426T000000Z
UID:9db2eff6-f676-4976-8e5c-c3a75eba0464@ClaytonBocce
DTSTART;TZID=America/Los_Angeles:20260527T183000
DTEND;TZID=America/Los_Angeles:20260527T210000
STATUS:CONFIRMED
SUMMARY:Crushers vs Spot Club
URL:/League/Schedule/3226
DESCRIPTION:Regular Season match: Crushers vs Spot Club
LOCATION:Newhall Court 2
END:VEVENT
BEGIN:VEVENT
DTSTAMP:20260426T000000Z
UID:3920bb35-981e-4cba-836a-44111e03f675@ClaytonBocce
DTSTART;TZID=America/Los_Angeles:20260603T183000
DTEND;TZID=America/Los_Angeles:20260603T210000
STATUS:CONFIRMED
SUMMARY:Crushers vs Bank Rollers
URL:/League/Schedule/3226
DESCRIPTION:Regular Season match: Crushers vs Bank Rollers
LOCATION:Newhall Court 6
END:VEVENT
BEGIN:VEVENT
DTSTAMP:20260426T000000Z
UID:96695106-0774-455f-9af7-797ed12a7969@ClaytonBocce
DTSTART;TZID=America/Los_Angeles:20260610T183000
DTEND;TZID=America/Los_Angeles:20260610T210000
STATUS:CONFIRMED
SUMMARY:Crushers vs Squeaks Bunch
URL:/League/Schedule/3226
DESCRIPTION:Regular Season match: Crushers vs Squeaks Bunch
LOCATION:Newhall Court 1
END:VEVENT
BEGIN:VEVENT
DTSTAMP:20260426T000000Z
UID:c831dabb-2026-4e84-909b-771880e3da48@ClaytonBocce
DTSTART;TZID=America/Los_Angeles:20260617T183000
DTEND;TZID=America/Los_Angeles:20260617T210000
STATUS:CONFIRMED
SUMMARY:Crushers vs Off The Rails
URL:/League/Schedule/3226
DESCRIPTION:Regular Season match: Crushers vs Off The Rails
LOCATION:Newhall Court 4
END:VEVENT
BEGIN:VEVENT
DTSTAMP:20260426T000000Z
UID:8e7433de-7ee3-4b43-9198-b14524459283@ClaytonBocce
DTSTART;TZID=America/Los_Angeles:20260624T183000
DTEND;TZID=America/Los_Angeles:20260624T210000
STATUS:CONFIRMED
SUMMARY:Crushers vs Bocce Mo's
URL:/League/Schedule/3226
DESCRIPTION:Regular Season match: Crushers vs Bocce Mo's
LOCATION:Newhall Court 7
END:VEVENT
BEGIN:VEVENT
DTSTAMP:20260426T000000Z
UID:91e64ae5-877e-48c6-b0e8-13316208accd@ClaytonBocce
DTSTART;TZID=America/Los_Angeles:20260715T183000
DTEND;TZID=America/Los_Angeles:20260715T210000
STATUS:CONFIRMED
SUMMARY:Crushers vs Mission Imbocce
URL:/League/Schedule/3226
DESCRIPTION:Regular Season match: Crushers vs Mission Imbocc
 e
LOCATION:Newhall Court 5
END:VEVENT
BEGIN:VEVENT
DTSTAMP:20260426T000000Z
UID:ce7cc6c7-b59c-4cd1-85d8-88f11ea34900@ClaytonBocce
DTSTART;TZID=America/Los_Angeles:20260722T183000
DTEND;TZID=America/Los_Angeles:20260722T210000
STATUS:CONFIRMED
SUMMARY:Crushers vs Rat Pack
URL:/League/Schedule/3226
DESCRIPTION:Regular Season match: Crushers vs Rat Pack
LOCATION:Newhall Court 4
END:VEVENT
BEGIN:VEVENT
DTSTAMP:20260426T000000Z
UID:299324de-31bc-4773-94ee-5d27dde9c6bc@ClaytonBocce
DTSTART;TZID=America/Los_Angeles:20260729T183000
DTEND;TZID=America/Los_Angeles:20260729T210000
STATUS:CONFIRMED
SUMMARY:Crushers vs 4 Watch 4 Play
URL:/League/Schedule/3226
DESCRIPTION:Regular Season match: Crushers vs 4 Watch 4 Play
LOCATION:Newhall Court 8
END:VEVENT
BEGIN:VEVENT
DTSTAMP:20260426T000000Z
UID:353cd5ef-2051-420e-81e6-7edd21e9ff58@ClaytonBocce
DTSTART;TZID=America/Los_Angeles:20260805T183000
DTEND;TZID=America/Los_Angeles:20260805T210000
STATUS:CONFIRMED
SUMMARY:Crushers vs Spot Club
URL:/League/Schedule/3226
DESCRIPTION:Regular Season match: Crushers vs Spot Club
LOCATION:Newhall Court 6
END:VEVENT
BEGIN:VEVENT
DTSTAMP:20260426T000000Z
UID:f5851716-dc2a-4055-a7d9-f7daabc39cb6@ClaytonBocce
DTSTART;TZID=America/Los_Angeles:20260812T183000
DTEND;TZID=America/Los_Angeles:20260812T210000
STATUS:CONFIRMED
SUMMARY:Crushers vs Bank Rollers
URL:/League/Schedule/3226
DESCRIPTION:Regular Season match: Crushers vs Bank Rollers
LOCATION:Newhall Court 5
END:VEVENT
BEGIN:VEVENT
DTSTAMP:20260426T000000Z
UID:14879f78-9fad-4988-a4c9-3ff5c9190846@ClaytonBocce
DTSTART;TZID=America/Los_Angeles:20260819T183000
DTEND;TZID=America/Los_Angeles:20260819T210000
STATUS:CONFIRMED
SUMMARY:Crushers vs Squeaks Bunch
URL:/League/Schedule/3226
DESCRIPTION:Regular Season match: Crushers vs Squeaks Bunch
LOCATION:Newhall Court 2
END:VEVENT
BEGIN:VEVENT
DTSTAMP:20260426T000000Z
UID:3a50beb5-a28f-4179-b58b-52ccfecc14e9@ClaytonBocce
DTSTART;TZID=America/Los_Angeles:20260826T183000
DTEND;TZID=America/Los_Angeles:20260826T210000
STATUS:CONFIRMED
SUMMARY:Crushers vs Off The Rails
URL:/League/Schedule/3226
DESCRIPTION:Regular Season match: Crushers vs Off The Rails
LOCATION:Newhall Court 3
END:VEVENT
BEGIN:VEVENT
DTSTAMP:20260426T000000Z
UID:69e07485-dd14-458c-8b87-0942faa3beb8@ClaytonBocce
DTSTART;TZID=America/Los_Angeles:20260902T183000
DTEND;TZID=America/Los_Angeles:20260902T210000
STATUS:CONFIRMED
SUMMARY:Crushers vs Bocce Mo's
URL:/League/Schedule/3226
DESCRIPTION:Regular Season match: Crushers vs Bocce Mo's
LOCATION:Newhall Court 7
END:VEVENT
END:VCALENDAR
