BEGIN:VCALENDAR
VERSION:2.0
PRODID:-//Clayton Bocce League
METHOD:PUBLISH
BEGIN:VTIMEZONE
TZID:America/Los_Angeles
X-LIC-LOCATION:America/Los_Angeles
BEGIN:DAYLIGHT
TZOFFSETFROM:-0800
TZOFFSETTO:-0700
TZNAME:PDT
DTSTART:20070311T020000
RRULE:FREQ=YEARLY;BYMONTH=3;BYDAY=2SU
END:DAYLIGHT
BEGIN:STANDARD
TZOFFSETFROM:-0700
TZOFFSETTO:-0800
TZNAME:PST
DTSTART:20071104T020000
RRULE:FREQ=YEARLY;BYMONTH=11;BYDAY=1SU
END:STANDARD
END:VTIMEZONE
BEGIN:VEVENT
DTSTAMP:20260426T000000Z
UID:adfbc01e-b97b-4da6-964c-b2097929c3bf@ClaytonBocce
DTSTART;TZID=America/Los_Angeles:20260506T183000
DTEND;TZID=America/Los_Angeles:20260506T210000
STATUS:CONFIRMED
SUMMARY:Ball Busters 2.0 vs Earl's Crew (WCCC)
URL:/League/Schedule/3221
DESCRIPTION:Regular Season match: Ball Busters 2.0 vs Earl's
  Crew (WCCC)
LOCATION:Newhall Court 6
END:VEVENT
BEGIN:VEVENT
DTSTAMP:20260426T000000Z
UID:b0cbd938-8891-45c1-8d41-67b77fe4ea05@ClaytonBocce
DTSTART;TZID=America/Los_Angeles:20260513T183000
DTEND;TZID=America/Los_Angeles:20260513T210000
STATUS:CONFIRMED
SUMMARY:Ball Busters 2.0 vs Sandbox Girls
URL:/League/Schedule/3221
DESCRIPTION:Regular Season match: Ball Busters 2.0 vs Sandbo
 x Girls
LOCATION:Newhall Court 4
END:VEVENT
BEGIN:VEVENT
DTSTAMP:20260426T000000Z
UID:7dbabb41-122f-4b0d-b655-dcee2b7ce164@ClaytonBocce
DTSTART;TZID=America/Los_Angeles:20260520T183000
DTEND;TZID=America/Los_Angeles:20260520T210000
STATUS:CONFIRMED
SUMMARY:Ball Busters 2.0 vs Balls of Fire
URL:/League/Schedule/3221
DESCRIPTION:Regular Season match: Ball Busters 2.0 vs Balls 
 of Fire
LOCATION:Newhall Court 5
END:VEVENT
BEGIN:VEVENT
DTSTAMP:20260426T000000Z
UID:cbaa2729-50fa-4f90-9595-e33737d77f27@ClaytonBocce
DTSTART;TZID=America/Los_Angeles:20260527T183000
DTEND;TZID=America/Los_Angeles:20260527T210000
STATUS:CONFIRMED
SUMMARY:Ball Busters 2.0 vs Bocce Cumari
URL:/League/Schedule/3221
DESCRIPTION:Regular Season match: Ball Busters 2.0 vs Bocce 
 Cumari
LOCATION:Newhall Court 1
END:VEVENT
BEGIN:VEVENT
DTSTAMP:20260426T000000Z
UID:a1612d05-f2c2-4faf-b142-43bfbd75bf68@ClaytonBocce
DTSTART;TZID=America/Los_Angeles:20260603T183000
DTEND;TZID=America/Los_Angeles:20260603T210000
STATUS:CONFIRMED
SUMMARY:Ball Busters 2.0 vs Bocce Ball Buddies
URL:/League/Schedule/3221
DESCRIPTION:Regular Season match: Ball Busters 2.0 vs Bocce 
 Ball Buddies
LOCATION:Newhall Court 5
END:VEVENT
BEGIN:VEVENT
DTSTAMP:20260426T000000Z
UID:f6fa9cb6-8fdf-43e7-b6ba-7b40f84db0c7@ClaytonBocce
DTSTART;TZID=America/Los_Angeles:20260610T183000
DTEND;TZID=America/Los_Angeles:20260610T210000
STATUS:CONFIRMED
SUMMARY:Ball Busters 2.0 vs Bocce Italiane
URL:/League/Schedule/3221
DESCRIPTION:Regular Season match: Ball Busters 2.0 vs Bocce 
 Italiane
LOCATION:Newhall Court 7
END:VEVENT
BEGIN:VEVENT
DTSTAMP:20260426T000000Z
UID:2d0dd5ba-9f66-4296-a25f-a16a9e60cf4c@ClaytonBocce
DTSTART;TZID=America/Los_Angeles:20260617T183000
DTEND;TZID=America/Los_Angeles:20260617T210000
STATUS:CONFIRMED
SUMMARY:Ball Busters 2.0 vs Bocce Sound Machine
URL:/League/Schedule/3221
DESCRIPTION:Regular Season match: Ball Busters 2.0 vs Bocce 
 Sound Machine
LOCATION:Newhall Court 8
END:VEVENT
BEGIN:VEVENT
DTSTAMP:20260426T000000Z
UID:2147228d-6fc6-418a-bbbc-d522b7aa98de@ClaytonBocce
DTSTART;TZID=America/Los_Angeles:20260624T183000
DTEND;TZID=America/Los_Angeles:20260624T210000
STATUS:CONFIRMED
SUMMARY:Ball Busters 2.0 vs Bocce Botch Ups
URL:/League/Schedule/3221
DESCRIPTION:Regular Season match: Ball Busters 2.0 vs Bocce 
 Botch Ups
LOCATION:Newhall Court 3
END:VEVENT
BEGIN:VEVENT
DTSTAMP:20260426T000000Z
UID:69e91dd3-fc7b-4034-8b40-e69f9a346a6e@ClaytonBocce
DTSTART;TZID=America/Los_Angeles:20260715T183000
DTEND;TZID=America/Los_Angeles:20260715T210000
STATUS:CONFIRMED
SUMMARY:Ball Busters 2.0 vs Earl's Crew (WCCC)
URL:/League/Schedule/3221
DESCRIPTION:Regular Season match: Ball Busters 2.0 vs Earl's
  Crew (WCCC)
LOCATION:Newhall Court 7
END:VEVENT
BEGIN:VEVENT
DTSTAMP:20260426T000000Z
UID:bd5f9a0c-f67e-4fdc-a20b-de3b8adf3d9f@ClaytonBocce
DTSTART;TZID=America/Los_Angeles:20260722T183000
DTEND;TZID=America/Los_Angeles:20260722T210000
STATUS:CONFIRMED
SUMMARY:Ball Busters 2.0 vs Sandbox Girls
URL:/League/Schedule/3221
DESCRIPTION:Regular Season match: Ball Busters 2.0 vs Sandbo
 x Girls
LOCATION:Newhall Court 6
END:VEVENT
BEGIN:VEVENT
DTSTAMP:20260426T000000Z
UID:50f9b9d8-d691-48db-a9db-9228965ead39@ClaytonBocce
DTSTART;TZID=America/Los_Angeles:20260729T183000
DTEND;TZID=America/Los_Angeles:20260729T210000
STATUS:CONFIRMED
SUMMARY:Ball Busters 2.0 vs Balls of Fire
URL:/League/Schedule/3221
DESCRIPTION:Regular Season match: Ball Busters 2.0 vs Balls 
 of Fire
LOCATION:Newhall Court 3
END:VEVENT
BEGIN:VEVENT
DTSTAMP:20260426T000000Z
UID:7b2e9aae-1caf-4842-bed5-43e284cf15ce@ClaytonBocce
DTSTART;TZID=America/Los_Angeles:20260805T183000
DTEND;TZID=America/Los_Angeles:20260805T210000
STATUS:CONFIRMED
SUMMARY:Ball Busters 2.0 vs Bocce Cumari
URL:/League/Schedule/3221
DESCRIPTION:Regular Season match: Ball Busters 2.0 vs Bocce 
 Cumari
LOCATION:Newhall Court 1
END:VEVENT
BEGIN:VEVENT
DTSTAMP:20260426T000000Z
UID:afa72bc3-543b-4503-9110-6d164a2f5305@ClaytonBocce
DTSTART;TZID=America/Los_Angeles:20260812T183000
DTEND;TZID=America/Los_Angeles:20260812T210000
STATUS:CONFIRMED
SUMMARY:Ball Busters 2.0 vs Bocce Ball Buddies
URL:/League/Schedule/3221
DESCRIPTION:Regular Season match: Ball Busters 2.0 vs Bocce 
 Ball Buddies
LOCATION:Newhall Court 8
END:VEVENT
BEGIN:VEVENT
DTSTAMP:20260426T000000Z
UID:7e046de3-8be4-45ae-a84c-11df7eaac400@ClaytonBocce
DTSTART;TZID=America/Los_Angeles:20260819T183000
DTEND;TZID=America/Los_Angeles:20260819T210000
STATUS:CONFIRMED
SUMMARY:Ball Busters 2.0 vs Bocce Italiane
URL:/League/Schedule/3221
DESCRIPTION:Regular Season match: Ball Busters 2.0 vs Bocce 
 Italiane
LOCATION:Newhall Court 6
END:VEVENT
BEGIN:VEVENT
DTSTAMP:20260426T000000Z
UID:c9247398-7c39-4c94-afa3-3dadde03a2af@ClaytonBocce
DTSTART;TZID=America/Los_Angeles:20260826T183000
DTEND;TZID=America/Los_Angeles:20260826T210000
STATUS:CONFIRMED
SUMMARY:Ball Busters 2.0 vs Bocce Sound Machine
URL:/League/Schedule/3221
DESCRIPTION:Regular Season match: Ball Busters 2.0 vs Bocce 
 Sound Machine
LOCATION:Newhall Court 1
END:VEVENT
BEGIN:VEVENT
DTSTAMP:20260426T000000Z
UID:28302be8-1e9d-4328-9d37-04c819f8eeb4@ClaytonBocce
DTSTART;TZID=America/Los_Angeles:20260902T183000
DTEND;TZID=America/Los_Angeles:20260902T210000
STATUS:CONFIRMED
SUMMARY:Ball Busters 2.0 vs Bocce Botch Ups
URL:/League/Schedule/3221
DESCRIPTION:Regular Season match: Ball Busters 2.0 vs Bocce 
 Botch Ups
LOCATION:Newhall Court 2
END:VEVENT
END:VCALENDAR
