BEGIN:VCALENDAR
VERSION:2.0
PRODID:-//Clayton Bocce League
METHOD:PUBLISH
BEGIN:VTIMEZONE
TZID:America/Los_Angeles
X-LIC-LOCATION:America/Los_Angeles
BEGIN:DAYLIGHT
TZOFFSETFROM:-0800
TZOFFSETTO:-0700
TZNAME:PDT
DTSTART:20070311T020000
RRULE:FREQ=YEARLY;BYMONTH=3;BYDAY=2SU
END:DAYLIGHT
BEGIN:STANDARD
TZOFFSETFROM:-0700
TZOFFSETTO:-0800
TZNAME:PST
DTSTART:20071104T020000
RRULE:FREQ=YEARLY;BYMONTH=11;BYDAY=1SU
END:STANDARD
END:VTIMEZONE
BEGIN:VEVENT
DTSTAMP:20260426T000000Z
UID:5cb540b7-3860-416b-a9d4-275213fe19fb@ClaytonBocce
DTSTART;TZID=America/Los_Angeles:20260429T183000
DTEND;TZID=America/Los_Angeles:20260429T210000
STATUS:CONFIRMED
SUMMARY:Earl's Crew (WCCC) vs Bocce Botch Ups
URL:/League/Schedule/3222
DESCRIPTION:Regular Season match: Earl's Crew (WCCC) vs Bocc
 e Botch Ups
LOCATION:Newhall Court 8
END:VEVENT
BEGIN:VEVENT
DTSTAMP:20260426T000000Z
UID:adfbc01e-b97b-4da6-964c-b2097929c3bf@ClaytonBocce
DTSTART;TZID=America/Los_Angeles:20260506T183000
DTEND;TZID=America/Los_Angeles:20260506T210000
STATUS:CONFIRMED
SUMMARY:Earl's Crew (WCCC) vs Ball Busters 2.0
URL:/League/Schedule/3222
DESCRIPTION:Regular Season match: Earl's Crew (WCCC) vs Ball
  Busters 2.0
LOCATION:Newhall Court 6
END:VEVENT
BEGIN:VEVENT
DTSTAMP:20260426T000000Z
UID:49a42c05-5c88-42a1-b7a4-26ff70fe72aa@ClaytonBocce
DTSTART;TZID=America/Los_Angeles:20260520T183000
DTEND;TZID=America/Los_Angeles:20260520T210000
STATUS:CONFIRMED
SUMMARY:Earl's Crew (WCCC) vs Sandbox Girls
URL:/League/Schedule/3222
DESCRIPTION:Regular Season match: Earl's Crew (WCCC) vs Sand
 box Girls
LOCATION:Newhall Court 1
END:VEVENT
BEGIN:VEVENT
DTSTAMP:20260426T000000Z
UID:45ed1416-0fd6-430d-9033-3fa64cecb631@ClaytonBocce
DTSTART;TZID=America/Los_Angeles:20260527T183000
DTEND;TZID=America/Los_Angeles:20260527T210000
STATUS:CONFIRMED
SUMMARY:Earl's Crew (WCCC) vs Balls of Fire
URL:/League/Schedule/3222
DESCRIPTION:Regular Season match: Earl's Crew (WCCC) vs Ball
 s of Fire
LOCATION:Newhall Court 4
END:VEVENT
BEGIN:VEVENT
DTSTAMP:20260426T000000Z
UID:77ecb7b9-911f-4e7f-b97b-ce2b32519781@ClaytonBocce
DTSTART;TZID=America/Los_Angeles:20260603T183000
DTEND;TZID=America/Los_Angeles:20260603T210000
STATUS:CONFIRMED
SUMMARY:Earl's Crew (WCCC) vs Bocce Cumari
URL:/League/Schedule/3222
DESCRIPTION:Regular Season match: Earl's Crew (WCCC) vs Bocc
 e Cumari
LOCATION:Newhall Court 7
END:VEVENT
BEGIN:VEVENT
DTSTAMP:20260426T000000Z
UID:c2dc93f2-7e45-43b6-b2c7-c59a4f07564d@ClaytonBocce
DTSTART;TZID=America/Los_Angeles:20260610T183000
DTEND;TZID=America/Los_Angeles:20260610T210000
STATUS:CONFIRMED
SUMMARY:Earl's Crew (WCCC) vs Bocce Ball Buddies
URL:/League/Schedule/3222
DESCRIPTION:Regular Season match: Earl's Crew (WCCC) vs Bocc
 e Ball Buddies
LOCATION:Newhall Court 6
END:VEVENT
BEGIN:VEVENT
DTSTAMP:20260426T000000Z
UID:b0c05229-5b5f-4ead-bb4c-2947ea2f2075@ClaytonBocce
DTSTART;TZID=America/Los_Angeles:20260617T183000
DTEND;TZID=America/Los_Angeles:20260617T210000
STATUS:CONFIRMED
SUMMARY:Earl's Crew (WCCC) vs Bocce Italiane
URL:/League/Schedule/3222
DESCRIPTION:Regular Season match: Earl's Crew (WCCC) vs Bocc
 e Italiane
LOCATION:Newhall Court 3
END:VEVENT
BEGIN:VEVENT
DTSTAMP:20260426T000000Z
UID:bfe1a2ad-b9ba-4b26-aeb9-a601c9cec8de@ClaytonBocce
DTSTART;TZID=America/Los_Angeles:20260624T183000
DTEND;TZID=America/Los_Angeles:20260624T210000
STATUS:CONFIRMED
SUMMARY:Earl's Crew (WCCC) vs Bocce Sound Machine
URL:/League/Schedule/3222
DESCRIPTION:Regular Season match: Earl's Crew (WCCC) vs Bocc
 e Sound Machine
LOCATION:Newhall Court 5
END:VEVENT
BEGIN:VEVENT
DTSTAMP:20260426T000000Z
UID:31a08809-8a71-42e5-a379-036f8e06c9cf@ClaytonBocce
DTSTART;TZID=America/Los_Angeles:20260708T183000
DTEND;TZID=America/Los_Angeles:20260708T210000
STATUS:CONFIRMED
SUMMARY:Earl's Crew (WCCC) vs Bocce Botch Ups
URL:/League/Schedule/3222
DESCRIPTION:Regular Season match: Earl's Crew (WCCC) vs Bocc
 e Botch Ups
LOCATION:Newhall Court 1
END:VEVENT
BEGIN:VEVENT
DTSTAMP:20260426T000000Z
UID:69e91dd3-fc7b-4034-8b40-e69f9a346a6e@ClaytonBocce
DTSTART;TZID=America/Los_Angeles:20260715T183000
DTEND;TZID=America/Los_Angeles:20260715T210000
STATUS:CONFIRMED
SUMMARY:Earl's Crew (WCCC) vs Ball Busters 2.0
URL:/League/Schedule/3222
DESCRIPTION:Regular Season match: Earl's Crew (WCCC) vs Ball
  Busters 2.0
LOCATION:Newhall Court 7
END:VEVENT
BEGIN:VEVENT
DTSTAMP:20260426T000000Z
UID:47e196c5-2bd5-4d68-a6c9-c90e4502a815@ClaytonBocce
DTSTART;TZID=America/Los_Angeles:20260729T183000
DTEND;TZID=America/Los_Angeles:20260729T210000
STATUS:CONFIRMED
SUMMARY:Earl's Crew (WCCC) vs Sandbox Girls
URL:/League/Schedule/3222
DESCRIPTION:Regular Season match: Earl's Crew (WCCC) vs Sand
 box Girls
LOCATION:Newhall Court 2
END:VEVENT
BEGIN:VEVENT
DTSTAMP:20260426T000000Z
UID:5a34c790-4484-40fb-9df2-7c1953fb429c@ClaytonBocce
DTSTART;TZID=America/Los_Angeles:20260805T183000
DTEND;TZID=America/Los_Angeles:20260805T210000
STATUS:CONFIRMED
SUMMARY:Earl's Crew (WCCC) vs Balls of Fire
URL:/League/Schedule/3222
DESCRIPTION:Regular Season match: Earl's Crew (WCCC) vs Ball
 s of Fire
LOCATION:Newhall Court 8
END:VEVENT
BEGIN:VEVENT
DTSTAMP:20260426T000000Z
UID:5981b4b5-d15a-4c9b-b3b4-ee7946d6b4ee@ClaytonBocce
DTSTART;TZID=America/Los_Angeles:20260812T183000
DTEND;TZID=America/Los_Angeles:20260812T210000
STATUS:CONFIRMED
SUMMARY:Earl's Crew (WCCC) vs Bocce Cumari
URL:/League/Schedule/3222
DESCRIPTION:Regular Season match: Earl's Crew (WCCC) vs Bocc
 e Cumari
LOCATION:Newhall Court 4
END:VEVENT
BEGIN:VEVENT
DTSTAMP:20260426T000000Z
UID:800149bd-85f5-4ec3-8d2f-5e5da2975201@ClaytonBocce
DTSTART;TZID=America/Los_Angeles:20260819T183000
DTEND;TZID=America/Los_Angeles:20260819T210000
STATUS:CONFIRMED
SUMMARY:Earl's Crew (WCCC) vs Bocce Ball Buddies
URL:/League/Schedule/3222
DESCRIPTION:Regular Season match: Earl's Crew (WCCC) vs Bocc
 e Ball Buddies
LOCATION:Newhall Court 7
END:VEVENT
BEGIN:VEVENT
DTSTAMP:20260426T000000Z
UID:be37175b-c1bd-4e04-aeb6-72e7f9f202f8@ClaytonBocce
DTSTART;TZID=America/Los_Angeles:20260826T183000
DTEND;TZID=America/Los_Angeles:20260826T210000
STATUS:CONFIRMED
SUMMARY:Earl's Crew (WCCC) vs Bocce Italiane
URL:/League/Schedule/3222
DESCRIPTION:Regular Season match: Earl's Crew (WCCC) vs Bocc
 e Italiane
LOCATION:Newhall Court 8
END:VEVENT
BEGIN:VEVENT
DTSTAMP:20260426T000000Z
UID:8653b058-f641-4731-8f74-50668660899c@ClaytonBocce
DTSTART;TZID=America/Los_Angeles:20260902T183000
DTEND;TZID=America/Los_Angeles:20260902T210000
STATUS:CONFIRMED
SUMMARY:Earl's Crew (WCCC) vs Bocce Sound Machine
URL:/League/Schedule/3222
DESCRIPTION:Regular Season match: Earl's Crew (WCCC) vs Bocc
 e Sound Machine
LOCATION:Newhall Court 5
END:VEVENT
END:VCALENDAR
