BEGIN:VCALENDAR
VERSION:2.0
PRODID:-//Clayton Bocce League
METHOD:PUBLISH
BEGIN:VTIMEZONE
TZID:America/Los_Angeles
X-LIC-LOCATION:America/Los_Angeles
BEGIN:DAYLIGHT
TZOFFSETFROM:-0800
TZOFFSETTO:-0700
TZNAME:PDT
DTSTART:20070311T020000
RRULE:FREQ=YEARLY;BYMONTH=3;BYDAY=2SU
END:DAYLIGHT
BEGIN:STANDARD
TZOFFSETFROM:-0700
TZOFFSETTO:-0800
TZNAME:PST
DTSTART:20071104T020000
RRULE:FREQ=YEARLY;BYMONTH=11;BYDAY=1SU
END:STANDARD
END:VTIMEZONE
BEGIN:VEVENT
DTSTAMP:20260426T000000Z
UID:5cb540b7-3860-416b-a9d4-275213fe19fb@ClaytonBocce
DTSTART;TZID=America/Los_Angeles:20260429T183000
DTEND;TZID=America/Los_Angeles:20260429T210000
STATUS:CONFIRMED
SUMMARY:Bocce Botch Ups vs Earl's Crew (WCCC)
URL:/League/Schedule/3218
DESCRIPTION:Regular Season match: Bocce Botch Ups vs Earl's 
 Crew (WCCC)
LOCATION:Newhall Court 8
END:VEVENT
BEGIN:VEVENT
DTSTAMP:20260426T000000Z
UID:917a1bb4-ecbb-46b8-8e6a-c9fb120fdbeb@ClaytonBocce
DTSTART;TZID=America/Los_Angeles:20260506T183000
DTEND;TZID=America/Los_Angeles:20260506T210000
STATUS:CONFIRMED
SUMMARY:Bocce Botch Ups vs Sandbox Girls
URL:/League/Schedule/3218
DESCRIPTION:Regular Season match: Bocce Botch Ups vs Sandbox
  Girls
LOCATION:Newhall Court 2
END:VEVENT
BEGIN:VEVENT
DTSTAMP:20260426T000000Z
UID:c772f152-0628-4add-b463-de81a0c4d0ca@ClaytonBocce
DTSTART;TZID=America/Los_Angeles:20260513T183000
DTEND;TZID=America/Los_Angeles:20260513T210000
STATUS:CONFIRMED
SUMMARY:Bocce Botch Ups vs Balls of Fire
URL:/League/Schedule/3218
DESCRIPTION:Regular Season match: Bocce Botch Ups vs Balls o
 f Fire
LOCATION:Newhall Court 1
END:VEVENT
BEGIN:VEVENT
DTSTAMP:20260426T000000Z
UID:3415cb1d-fac2-45d2-b424-6e8d27bc3fff@ClaytonBocce
DTSTART;TZID=America/Los_Angeles:20260520T183000
DTEND;TZID=America/Los_Angeles:20260520T210000
STATUS:CONFIRMED
SUMMARY:Bocce Botch Ups vs Bocce Cumari
URL:/League/Schedule/3218
DESCRIPTION:Regular Season match: Bocce Botch Ups vs Bocce C
 umari
LOCATION:Newhall Court 6
END:VEVENT
BEGIN:VEVENT
DTSTAMP:20260426T000000Z
UID:f808f6f4-d89c-4939-ad41-931c0fcbaad3@ClaytonBocce
DTSTART;TZID=America/Los_Angeles:20260527T183000
DTEND;TZID=America/Los_Angeles:20260527T210000
STATUS:CONFIRMED
SUMMARY:Bocce Botch Ups vs Bocce Ball Buddies
URL:/League/Schedule/3218
DESCRIPTION:Regular Season match: Bocce Botch Ups vs Bocce B
 all Buddies
LOCATION:Newhall Court 7
END:VEVENT
BEGIN:VEVENT
DTSTAMP:20260426T000000Z
UID:f4e2917c-7835-4401-817c-80dcf495e95c@ClaytonBocce
DTSTART;TZID=America/Los_Angeles:20260603T183000
DTEND;TZID=America/Los_Angeles:20260603T210000
STATUS:CONFIRMED
SUMMARY:Bocce Botch Ups vs Bocce Italiane
URL:/League/Schedule/3218
DESCRIPTION:Regular Season match: Bocce Botch Ups vs Bocce I
 taliane
LOCATION:Newhall Court 1
END:VEVENT
BEGIN:VEVENT
DTSTAMP:20260426T000000Z
UID:16979e68-ae4c-4355-b797-8bd4d4b0b216@ClaytonBocce
DTSTART;TZID=America/Los_Angeles:20260610T183000
DTEND;TZID=America/Los_Angeles:20260610T210000
STATUS:CONFIRMED
SUMMARY:Bocce Botch Ups vs Bocce Sound Machine
URL:/League/Schedule/3218
DESCRIPTION:Regular Season match: Bocce Botch Ups vs Bocce S
 ound Machine
LOCATION:Newhall Court 2
END:VEVENT
BEGIN:VEVENT
DTSTAMP:20260426T000000Z
UID:2147228d-6fc6-418a-bbbc-d522b7aa98de@ClaytonBocce
DTSTART;TZID=America/Los_Angeles:20260624T183000
DTEND;TZID=America/Los_Angeles:20260624T210000
STATUS:CONFIRMED
SUMMARY:Bocce Botch Ups vs Ball Busters 2.0
URL:/League/Schedule/3218
DESCRIPTION:Regular Season match: Bocce Botch Ups vs Ball Bu
 sters 2.0
LOCATION:Newhall Court 3
END:VEVENT
BEGIN:VEVENT
DTSTAMP:20260426T000000Z
UID:31a08809-8a71-42e5-a379-036f8e06c9cf@ClaytonBocce
DTSTART;TZID=America/Los_Angeles:20260708T183000
DTEND;TZID=America/Los_Angeles:20260708T210000
STATUS:CONFIRMED
SUMMARY:Bocce Botch Ups vs Earl's Crew (WCCC)
URL:/League/Schedule/3218
DESCRIPTION:Regular Season match: Bocce Botch Ups vs Earl's 
 Crew (WCCC)
LOCATION:Newhall Court 1
END:VEVENT
BEGIN:VEVENT
DTSTAMP:20260426T000000Z
UID:08bf1185-4ca7-449f-9055-c09ed096281e@ClaytonBocce
DTSTART;TZID=America/Los_Angeles:20260715T183000
DTEND;TZID=America/Los_Angeles:20260715T210000
STATUS:CONFIRMED
SUMMARY:Bocce Botch Ups vs Sandbox Girls
URL:/League/Schedule/3218
DESCRIPTION:Regular Season match: Bocce Botch Ups vs Sandbox
  Girls
LOCATION:Newhall Court 8
END:VEVENT
BEGIN:VEVENT
DTSTAMP:20260426T000000Z
UID:87c17e42-02ad-410b-b415-9615c5fc2a6d@ClaytonBocce
DTSTART;TZID=America/Los_Angeles:20260722T183000
DTEND;TZID=America/Los_Angeles:20260722T210000
STATUS:CONFIRMED
SUMMARY:Bocce Botch Ups vs Balls of Fire
URL:/League/Schedule/3218
DESCRIPTION:Regular Season match: Bocce Botch Ups vs Balls o
 f Fire
LOCATION:Newhall Court 7
END:VEVENT
BEGIN:VEVENT
DTSTAMP:20260426T000000Z
UID:528dd2f7-debc-45c0-ad8a-4ed49f0f32f5@ClaytonBocce
DTSTART;TZID=America/Los_Angeles:20260729T183000
DTEND;TZID=America/Los_Angeles:20260729T210000
STATUS:CONFIRMED
SUMMARY:Bocce Botch Ups vs Bocce Cumari
URL:/League/Schedule/3218
DESCRIPTION:Regular Season match: Bocce Botch Ups vs Bocce C
 umari
LOCATION:Newhall Court 5
END:VEVENT
BEGIN:VEVENT
DTSTAMP:20260426T000000Z
UID:ed1b088b-5d98-4b2f-85bb-11e2a4256462@ClaytonBocce
DTSTART;TZID=America/Los_Angeles:20260805T183000
DTEND;TZID=America/Los_Angeles:20260805T210000
STATUS:CONFIRMED
SUMMARY:Bocce Botch Ups vs Bocce Ball Buddies
URL:/League/Schedule/3218
DESCRIPTION:Regular Season match: Bocce Botch Ups vs Bocce B
 all Buddies
LOCATION:Newhall Court 4
END:VEVENT
BEGIN:VEVENT
DTSTAMP:20260426T000000Z
UID:2c395687-94e8-4f99-812b-4d35b99942a5@ClaytonBocce
DTSTART;TZID=America/Los_Angeles:20260812T183000
DTEND;TZID=America/Los_Angeles:20260812T210000
STATUS:CONFIRMED
SUMMARY:Bocce Botch Ups vs Bocce Italiane
URL:/League/Schedule/3218
DESCRIPTION:Regular Season match: Bocce Botch Ups vs Bocce I
 taliane
LOCATION:Newhall Court 3
END:VEVENT
BEGIN:VEVENT
DTSTAMP:20260426T000000Z
UID:1a52fc84-00da-41e0-b0c7-bea649f6cda1@ClaytonBocce
DTSTART;TZID=America/Los_Angeles:20260819T183000
DTEND;TZID=America/Los_Angeles:20260819T210000
STATUS:CONFIRMED
SUMMARY:Bocce Botch Ups vs Bocce Sound Machine
URL:/League/Schedule/3218
DESCRIPTION:Regular Season match: Bocce Botch Ups vs Bocce S
 ound Machine
LOCATION:Newhall Court 4
END:VEVENT
BEGIN:VEVENT
DTSTAMP:20260426T000000Z
UID:28302be8-1e9d-4328-9d37-04c819f8eeb4@ClaytonBocce
DTSTART;TZID=America/Los_Angeles:20260902T183000
DTEND;TZID=America/Los_Angeles:20260902T210000
STATUS:CONFIRMED
SUMMARY:Bocce Botch Ups vs Ball Busters 2.0
URL:/League/Schedule/3218
DESCRIPTION:Regular Season match: Bocce Botch Ups vs Ball Bu
 sters 2.0
LOCATION:Newhall Court 2
END:VEVENT
END:VCALENDAR
