BEGIN:VCALENDAR
VERSION:2.0
PRODID:-//Clayton Bocce League
METHOD:PUBLISH
BEGIN:VTIMEZONE
TZID:America/Los_Angeles
X-LIC-LOCATION:America/Los_Angeles
BEGIN:DAYLIGHT
TZOFFSETFROM:-0800
TZOFFSETTO:-0700
TZNAME:PDT
DTSTART:20070311T020000
RRULE:FREQ=YEARLY;BYMONTH=3;BYDAY=2SU
END:DAYLIGHT
BEGIN:STANDARD
TZOFFSETFROM:-0700
TZOFFSETTO:-0800
TZNAME:PST
DTSTART:20071104T020000
RRULE:FREQ=YEARLY;BYMONTH=11;BYDAY=1SU
END:STANDARD
END:VTIMEZONE
BEGIN:VEVENT
DTSTAMP:20260426T000000Z
UID:42b37411-140f-4b99-9b3f-8b2d98e21e7c@ClaytonBocce
DTSTART;TZID=America/Los_Angeles:20260429T183000
DTEND;TZID=America/Los_Angeles:20260429T210000
STATUS:CONFIRMED
SUMMARY:Off The Rails vs Rat Pack
URL:/League/Schedule/3215
DESCRIPTION:Regular Season match: Off The Rails vs Rat Pack
LOCATION:Newhall Court 4
END:VEVENT
BEGIN:VEVENT
DTSTAMP:20260426T000000Z
UID:f713cd84-46c5-44a4-8e1c-84c3dc3ffe7c@ClaytonBocce
DTSTART;TZID=America/Los_Angeles:20260506T183000
DTEND;TZID=America/Los_Angeles:20260506T210000
STATUS:CONFIRMED
SUMMARY:Off The Rails vs 4 Watch 4 Play
URL:/League/Schedule/3215
DESCRIPTION:Regular Season match: Off The Rails vs 4 Watch 4
  Play
LOCATION:Newhall Court 7
END:VEVENT
BEGIN:VEVENT
DTSTAMP:20260426T000000Z
UID:e0b964ff-2f9c-457d-acf7-f845f246ed6b@ClaytonBocce
DTSTART;TZID=America/Los_Angeles:20260513T183000
DTEND;TZID=America/Los_Angeles:20260513T210000
STATUS:CONFIRMED
SUMMARY:Off The Rails vs Spot Club
URL:/League/Schedule/3215
DESCRIPTION:Regular Season match: Off The Rails vs Spot Club
LOCATION:Newhall Court 6
END:VEVENT
BEGIN:VEVENT
DTSTAMP:20260426T000000Z
UID:979cdd69-9a20-442c-8a99-d48c84a49982@ClaytonBocce
DTSTART;TZID=America/Los_Angeles:20260520T183000
DTEND;TZID=America/Los_Angeles:20260520T210000
STATUS:CONFIRMED
SUMMARY:Off The Rails vs Bank Rollers
URL:/League/Schedule/3215
DESCRIPTION:Regular Season match: Off The Rails vs Bank Roll
 ers
LOCATION:Newhall Court 2
END:VEVENT
BEGIN:VEVENT
DTSTAMP:20260426T000000Z
UID:cbca37b2-841b-4291-bfea-cf5120d07ed8@ClaytonBocce
DTSTART;TZID=America/Los_Angeles:20260527T183000
DTEND;TZID=America/Los_Angeles:20260527T210000
STATUS:CONFIRMED
SUMMARY:Off The Rails vs Squeaks Bunch
URL:/League/Schedule/3215
DESCRIPTION:Regular Season match: Off The Rails vs Squeaks B
 unch
LOCATION:Newhall Court 8
END:VEVENT
BEGIN:VEVENT
DTSTAMP:20260426T000000Z
UID:d434dfac-b32b-4428-b9cb-ed1b54ed988a@ClaytonBocce
DTSTART;TZID=America/Los_Angeles:20260610T183000
DTEND;TZID=America/Los_Angeles:20260610T210000
STATUS:CONFIRMED
SUMMARY:Off The Rails vs Bocce Mo's
URL:/League/Schedule/3215
DESCRIPTION:Regular Season match: Off The Rails vs Bocce Mo'
 s
LOCATION:Newhall Court 5
END:VEVENT
BEGIN:VEVENT
DTSTAMP:20260426T000000Z
UID:c831dabb-2026-4e84-909b-771880e3da48@ClaytonBocce
DTSTART;TZID=America/Los_Angeles:20260617T183000
DTEND;TZID=America/Los_Angeles:20260617T210000
STATUS:CONFIRMED
SUMMARY:Off The Rails vs Crushers
URL:/League/Schedule/3215
DESCRIPTION:Regular Season match: Off The Rails vs Crushers
LOCATION:Newhall Court 4
END:VEVENT
BEGIN:VEVENT
DTSTAMP:20260426T000000Z
UID:2336cf23-e79b-4fa9-95d2-02be9690a844@ClaytonBocce
DTSTART;TZID=America/Los_Angeles:20260624T183000
DTEND;TZID=America/Los_Angeles:20260624T210000
STATUS:CONFIRMED
SUMMARY:Off The Rails vs Mission Imbocce
URL:/League/Schedule/3215
DESCRIPTION:Regular Season match: Off The Rails vs Mission I
 mbocce
LOCATION:Newhall Court 1
END:VEVENT
BEGIN:VEVENT
DTSTAMP:20260426T000000Z
UID:d096d6ed-b723-4e1b-929d-d4f2ffcc061c@ClaytonBocce
DTSTART;TZID=America/Los_Angeles:20260708T183000
DTEND;TZID=America/Los_Angeles:20260708T210000
STATUS:CONFIRMED
SUMMARY:Off The Rails vs Rat Pack
URL:/League/Schedule/3215
DESCRIPTION:Regular Season match: Off The Rails vs Rat Pack
LOCATION:Newhall Court 2
END:VEVENT
BEGIN:VEVENT
DTSTAMP:20260426T000000Z
UID:4a920d86-5d47-4c5a-a767-ee97759fc02c@ClaytonBocce
DTSTART;TZID=America/Los_Angeles:20260715T183000
DTEND;TZID=America/Los_Angeles:20260715T210000
STATUS:CONFIRMED
SUMMARY:Off The Rails vs 4 Watch 4 Play
URL:/League/Schedule/3215
DESCRIPTION:Regular Season match: Off The Rails vs 4 Watch 4
  Play
LOCATION:Newhall Court 6
END:VEVENT
BEGIN:VEVENT
DTSTAMP:20260426T000000Z
UID:9792ecf6-4459-46c6-9df6-c53137e78a9e@ClaytonBocce
DTSTART;TZID=America/Los_Angeles:20260722T183000
DTEND;TZID=America/Los_Angeles:20260722T210000
STATUS:CONFIRMED
SUMMARY:Off The Rails vs Spot Club
URL:/League/Schedule/3215
DESCRIPTION:Regular Season match: Off The Rails vs Spot Club
LOCATION:Newhall Court 5
END:VEVENT
BEGIN:VEVENT
DTSTAMP:20260426T000000Z
UID:a61f9434-a88a-4bff-a4aa-82a0a167ad02@ClaytonBocce
DTSTART;TZID=America/Los_Angeles:20260729T183000
DTEND;TZID=America/Los_Angeles:20260729T210000
STATUS:CONFIRMED
SUMMARY:Off The Rails vs Bank Rollers
URL:/League/Schedule/3215
DESCRIPTION:Regular Season match: Off The Rails vs Bank Roll
 ers
LOCATION:Newhall Court 4
END:VEVENT
BEGIN:VEVENT
DTSTAMP:20260426T000000Z
UID:b695b4f8-8db6-48e2-ae29-159b31e97720@ClaytonBocce
DTSTART;TZID=America/Los_Angeles:20260805T183000
DTEND;TZID=America/Los_Angeles:20260805T210000
STATUS:CONFIRMED
SUMMARY:Off The Rails vs Squeaks Bunch
URL:/League/Schedule/3215
DESCRIPTION:Regular Season match: Off The Rails vs Squeaks B
 unch
LOCATION:Newhall Court 7
END:VEVENT
BEGIN:VEVENT
DTSTAMP:20260426T000000Z
UID:717d5cd6-876d-48a7-9839-a28ac01762c5@ClaytonBocce
DTSTART;TZID=America/Los_Angeles:20260819T183000
DTEND;TZID=America/Los_Angeles:20260819T210000
STATUS:CONFIRMED
SUMMARY:Off The Rails vs Bocce Mo's
URL:/League/Schedule/3215
DESCRIPTION:Regular Season match: Off The Rails vs Bocce Mo'
 s
LOCATION:Newhall Court 5
END:VEVENT
BEGIN:VEVENT
DTSTAMP:20260426T000000Z
UID:3a50beb5-a28f-4179-b58b-52ccfecc14e9@ClaytonBocce
DTSTART;TZID=America/Los_Angeles:20260826T183000
DTEND;TZID=America/Los_Angeles:20260826T210000
STATUS:CONFIRMED
SUMMARY:Off The Rails vs Crushers
URL:/League/Schedule/3215
DESCRIPTION:Regular Season match: Off The Rails vs Crushers
LOCATION:Newhall Court 3
END:VEVENT
BEGIN:VEVENT
DTSTAMP:20260426T000000Z
UID:67995753-7e3d-40fc-8296-ad7e0d547a22@ClaytonBocce
DTSTART;TZID=America/Los_Angeles:20260902T183000
DTEND;TZID=America/Los_Angeles:20260902T210000
STATUS:CONFIRMED
SUMMARY:Off The Rails vs Mission Imbocce
URL:/League/Schedule/3215
DESCRIPTION:Regular Season match: Off The Rails vs Mission I
 mbocce
LOCATION:Newhall Court 8
END:VEVENT
END:VCALENDAR
