BEGIN:VCALENDAR
VERSION:2.0
PRODID:-//Clayton Bocce League
METHOD:PUBLISH
BEGIN:VTIMEZONE
TZID:America/Los_Angeles
X-LIC-LOCATION:America/Los_Angeles
BEGIN:DAYLIGHT
TZOFFSETFROM:-0800
TZOFFSETTO:-0700
TZNAME:PDT
DTSTART:20070311T020000
RRULE:FREQ=YEARLY;BYMONTH=3;BYDAY=2SU
END:DAYLIGHT
BEGIN:STANDARD
TZOFFSETFROM:-0700
TZOFFSETTO:-0800
TZNAME:PST
DTSTART:20071104T020000
RRULE:FREQ=YEARLY;BYMONTH=11;BYDAY=1SU
END:STANDARD
END:VTIMEZONE
BEGIN:VEVENT
DTSTAMP:20260426T000000Z
UID:42b37411-140f-4b99-9b3f-8b2d98e21e7c@ClaytonBocce
DTSTART;TZID=America/Los_Angeles:20260429T183000
DTEND;TZID=America/Los_Angeles:20260429T210000
STATUS:CONFIRMED
SUMMARY:Rat Pack vs Off The Rails
URL:/League/Schedule/3225
DESCRIPTION:Regular Season match: Rat Pack vs Off The Rails
LOCATION:Newhall Court 4
END:VEVENT
BEGIN:VEVENT
DTSTAMP:20260426T000000Z
UID:96cd390c-23b1-422f-880f-e12a2e879946@ClaytonBocce
DTSTART;TZID=America/Los_Angeles:20260506T183000
DTEND;TZID=America/Los_Angeles:20260506T210000
STATUS:CONFIRMED
SUMMARY:Rat Pack vs Bocce Mo's
URL:/League/Schedule/3225
DESCRIPTION:Regular Season match: Rat Pack vs Bocce Mo's
LOCATION:Newhall Court 1
END:VEVENT
BEGIN:VEVENT
DTSTAMP:20260426T000000Z
UID:60114f24-2e17-4639-9a1a-b4049d69a707@ClaytonBocce
DTSTART;TZID=America/Los_Angeles:20260513T183000
DTEND;TZID=America/Los_Angeles:20260513T210000
STATUS:CONFIRMED
SUMMARY:Rat Pack vs Crushers
URL:/League/Schedule/3225
DESCRIPTION:Regular Season match: Rat Pack vs Crushers
LOCATION:Newhall Court 3
END:VEVENT
BEGIN:VEVENT
DTSTAMP:20260426T000000Z
UID:b996a605-f898-4908-8ede-102c4e739a78@ClaytonBocce
DTSTART;TZID=America/Los_Angeles:20260520T183000
DTEND;TZID=America/Los_Angeles:20260520T210000
STATUS:CONFIRMED
SUMMARY:Rat Pack vs Mission Imbocce
URL:/League/Schedule/3225
DESCRIPTION:Regular Season match: Rat Pack vs Mission Imbocc
 e
LOCATION:Newhall Court 7
END:VEVENT
BEGIN:VEVENT
DTSTAMP:20260426T000000Z
UID:e1456d50-3d30-4dd2-8ee0-beb92d186216@ClaytonBocce
DTSTART;TZID=America/Los_Angeles:20260603T183000
DTEND;TZID=America/Los_Angeles:20260603T210000
STATUS:CONFIRMED
SUMMARY:Rat Pack vs 4 Watch 4 Play
URL:/League/Schedule/3225
DESCRIPTION:Regular Season match: Rat Pack vs 4 Watch 4 Play
LOCATION:Newhall Court 2
END:VEVENT
BEGIN:VEVENT
DTSTAMP:20260426T000000Z
UID:a5ad92d2-a4c9-42dc-b8c6-face9c7616bb@ClaytonBocce
DTSTART;TZID=America/Los_Angeles:20260610T183000
DTEND;TZID=America/Los_Angeles:20260610T210000
STATUS:CONFIRMED
SUMMARY:Rat Pack vs Spot Club
URL:/League/Schedule/3225
DESCRIPTION:Regular Season match: Rat Pack vs Spot Club
LOCATION:Newhall Court 8
END:VEVENT
BEGIN:VEVENT
DTSTAMP:20260426T000000Z
UID:ec1652a5-a46a-4fba-87ed-950e075d9afb@ClaytonBocce
DTSTART;TZID=America/Los_Angeles:20260617T183000
DTEND;TZID=America/Los_Angeles:20260617T210000
STATUS:CONFIRMED
SUMMARY:Rat Pack vs Bank Rollers
URL:/League/Schedule/3225
DESCRIPTION:Regular Season match: Rat Pack vs Bank Rollers
LOCATION:Newhall Court 5
END:VEVENT
BEGIN:VEVENT
DTSTAMP:20260426T000000Z
UID:45e91b5d-9c78-4bcc-ae10-d20cf80cd8a6@ClaytonBocce
DTSTART;TZID=America/Los_Angeles:20260624T183000
DTEND;TZID=America/Los_Angeles:20260624T210000
STATUS:CONFIRMED
SUMMARY:Rat Pack vs Squeaks Bunch
URL:/League/Schedule/3225
DESCRIPTION:Regular Season match: Rat Pack vs Squeaks Bunch
LOCATION:Newhall Court 6
END:VEVENT
BEGIN:VEVENT
DTSTAMP:20260426T000000Z
UID:d096d6ed-b723-4e1b-929d-d4f2ffcc061c@ClaytonBocce
DTSTART;TZID=America/Los_Angeles:20260708T183000
DTEND;TZID=America/Los_Angeles:20260708T210000
STATUS:CONFIRMED
SUMMARY:Rat Pack vs Off The Rails
URL:/League/Schedule/3225
DESCRIPTION:Regular Season match: Rat Pack vs Off The Rails
LOCATION:Newhall Court 2
END:VEVENT
BEGIN:VEVENT
DTSTAMP:20260426T000000Z
UID:c55e94c3-e03e-4989-b21a-125d8626c447@ClaytonBocce
DTSTART;TZID=America/Los_Angeles:20260715T183000
DTEND;TZID=America/Los_Angeles:20260715T210000
STATUS:CONFIRMED
SUMMARY:Rat Pack vs Bocce Mo's
URL:/League/Schedule/3225
DESCRIPTION:Regular Season match: Rat Pack vs Bocce Mo's
LOCATION:Newhall Court 3
END:VEVENT
BEGIN:VEVENT
DTSTAMP:20260426T000000Z
UID:ce7cc6c7-b59c-4cd1-85d8-88f11ea34900@ClaytonBocce
DTSTART;TZID=America/Los_Angeles:20260722T183000
DTEND;TZID=America/Los_Angeles:20260722T210000
STATUS:CONFIRMED
SUMMARY:Rat Pack vs Crushers
URL:/League/Schedule/3225
DESCRIPTION:Regular Season match: Rat Pack vs Crushers
LOCATION:Newhall Court 4
END:VEVENT
BEGIN:VEVENT
DTSTAMP:20260426T000000Z
UID:edf0ad87-7092-457b-82bf-605ffe9e39f2@ClaytonBocce
DTSTART;TZID=America/Los_Angeles:20260729T183000
DTEND;TZID=America/Los_Angeles:20260729T210000
STATUS:CONFIRMED
SUMMARY:Rat Pack vs Mission Imbocce
URL:/League/Schedule/3225
DESCRIPTION:Regular Season match: Rat Pack vs Mission Imbocc
 e
LOCATION:Newhall Court 7
END:VEVENT
BEGIN:VEVENT
DTSTAMP:20260426T000000Z
UID:63c57df9-599c-4b23-9ad2-3cebaccdcf97@ClaytonBocce
DTSTART;TZID=America/Los_Angeles:20260812T183000
DTEND;TZID=America/Los_Angeles:20260812T210000
STATUS:CONFIRMED
SUMMARY:Rat Pack vs 4 Watch 4 Play
URL:/League/Schedule/3225
DESCRIPTION:Regular Season match: Rat Pack vs 4 Watch 4 Play
LOCATION:Newhall Court 1
END:VEVENT
BEGIN:VEVENT
DTSTAMP:20260426T000000Z
UID:9f46887f-6d50-4be5-a16f-cb01a979801f@ClaytonBocce
DTSTART;TZID=America/Los_Angeles:20260819T183000
DTEND;TZID=America/Los_Angeles:20260819T210000
STATUS:CONFIRMED
SUMMARY:Rat Pack vs Spot Club
URL:/League/Schedule/3225
DESCRIPTION:Regular Season match: Rat Pack vs Spot Club
LOCATION:Newhall Court 8
END:VEVENT
BEGIN:VEVENT
DTSTAMP:20260426T000000Z
UID:34e797f2-e384-4c2c-b6a7-5daa878c9e73@ClaytonBocce
DTSTART;TZID=America/Los_Angeles:20260826T183000
DTEND;TZID=America/Los_Angeles:20260826T210000
STATUS:CONFIRMED
SUMMARY:Rat Pack vs Bank Rollers
URL:/League/Schedule/3225
DESCRIPTION:Regular Season match: Rat Pack vs Bank Rollers
LOCATION:Newhall Court 6
END:VEVENT
BEGIN:VEVENT
DTSTAMP:20260426T000000Z
UID:12e4eca1-b37b-4d2e-88ec-8c1ac3df381f@ClaytonBocce
DTSTART;TZID=America/Los_Angeles:20260902T183000
DTEND;TZID=America/Los_Angeles:20260902T210000
STATUS:CONFIRMED
SUMMARY:Rat Pack vs Squeaks Bunch
URL:/League/Schedule/3225
DESCRIPTION:Regular Season match: Rat Pack vs Squeaks Bunch
LOCATION:Newhall Court 1
END:VEVENT
END:VCALENDAR
