BEGIN:VCALENDAR
VERSION:2.0
PRODID:-//Clayton Bocce League
METHOD:PUBLISH
BEGIN:VTIMEZONE
TZID:America/Los_Angeles
X-LIC-LOCATION:America/Los_Angeles
BEGIN:DAYLIGHT
TZOFFSETFROM:-0800
TZOFFSETTO:-0700
TZNAME:PDT
DTSTART:20070311T020000
RRULE:FREQ=YEARLY;BYMONTH=3;BYDAY=2SU
END:DAYLIGHT
BEGIN:STANDARD
TZOFFSETFROM:-0700
TZOFFSETTO:-0800
TZNAME:PST
DTSTART:20071104T020000
RRULE:FREQ=YEARLY;BYMONTH=11;BYDAY=1SU
END:STANDARD
END:VTIMEZONE
BEGIN:VEVENT
DTSTAMP:20260426T000000Z
UID:cecd9d8a-f2ca-4983-be66-6bca7c513f9a@ClaytonBocce
DTSTART;TZID=America/Los_Angeles:20260429T183000
DTEND;TZID=America/Los_Angeles:20260429T210000
STATUS:CONFIRMED
SUMMARY:Balls of Fire vs Bocce Italiane
URL:/League/Schedule/3214
DESCRIPTION:Regular Season match: Balls of Fire vs Bocce Ita
 liane
LOCATION:Newhall Court 7
END:VEVENT
BEGIN:VEVENT
DTSTAMP:20260426T000000Z
UID:a3bcb116-c1e8-42f9-9d73-d9a9dbd4e635@ClaytonBocce
DTSTART;TZID=America/Los_Angeles:20260506T183000
DTEND;TZID=America/Los_Angeles:20260506T210000
STATUS:CONFIRMED
SUMMARY:Balls of Fire vs Bocce Sound Machine
URL:/League/Schedule/3214
DESCRIPTION:Regular Season match: Balls of Fire vs Bocce Sou
 nd Machine
LOCATION:Newhall Court 4
END:VEVENT
BEGIN:VEVENT
DTSTAMP:20260426T000000Z
UID:c772f152-0628-4add-b463-de81a0c4d0ca@ClaytonBocce
DTSTART;TZID=America/Los_Angeles:20260513T183000
DTEND;TZID=America/Los_Angeles:20260513T210000
STATUS:CONFIRMED
SUMMARY:Balls of Fire vs Bocce Botch Ups
URL:/League/Schedule/3214
DESCRIPTION:Regular Season match: Balls of Fire vs Bocce Bot
 ch Ups
LOCATION:Newhall Court 1
END:VEVENT
BEGIN:VEVENT
DTSTAMP:20260426T000000Z
UID:7dbabb41-122f-4b0d-b655-dcee2b7ce164@ClaytonBocce
DTSTART;TZID=America/Los_Angeles:20260520T183000
DTEND;TZID=America/Los_Angeles:20260520T210000
STATUS:CONFIRMED
SUMMARY:Balls of Fire vs Ball Busters 2.0
URL:/League/Schedule/3214
DESCRIPTION:Regular Season match: Balls of Fire vs Ball Bust
 ers 2.0
LOCATION:Newhall Court 5
END:VEVENT
BEGIN:VEVENT
DTSTAMP:20260426T000000Z
UID:45ed1416-0fd6-430d-9033-3fa64cecb631@ClaytonBocce
DTSTART;TZID=America/Los_Angeles:20260527T183000
DTEND;TZID=America/Los_Angeles:20260527T210000
STATUS:CONFIRMED
SUMMARY:Balls of Fire vs Earl's Crew (WCCC)
URL:/League/Schedule/3214
DESCRIPTION:Regular Season match: Balls of Fire vs Earl's Cr
 ew (WCCC)
LOCATION:Newhall Court 4
END:VEVENT
BEGIN:VEVENT
DTSTAMP:20260426T000000Z
UID:8c1b4483-6ffe-4ebc-b84a-cded2588ec8a@ClaytonBocce
DTSTART;TZID=America/Los_Angeles:20260603T183000
DTEND;TZID=America/Los_Angeles:20260603T210000
STATUS:CONFIRMED
SUMMARY:Balls of Fire vs Sandbox Girls
URL:/League/Schedule/3214
DESCRIPTION:Regular Season match: Balls of Fire vs Sandbox G
 irls
LOCATION:Newhall Court 8
END:VEVENT
BEGIN:VEVENT
DTSTAMP:20260426T000000Z
UID:bec52765-252d-42bb-b266-e520bb4d8bec@ClaytonBocce
DTSTART;TZID=America/Los_Angeles:20260617T183000
DTEND;TZID=America/Los_Angeles:20260617T210000
STATUS:CONFIRMED
SUMMARY:Balls of Fire vs Bocce Cumari
URL:/League/Schedule/3214
DESCRIPTION:Regular Season match: Balls of Fire vs Bocce Cum
 ari
LOCATION:Newhall Court 6
END:VEVENT
BEGIN:VEVENT
DTSTAMP:20260426T000000Z
UID:f02846b9-ea78-446e-bf4a-12c6ca6c1372@ClaytonBocce
DTSTART;TZID=America/Los_Angeles:20260624T183000
DTEND;TZID=America/Los_Angeles:20260624T210000
STATUS:CONFIRMED
SUMMARY:Balls of Fire vs Bocce Ball Buddies
URL:/League/Schedule/3214
DESCRIPTION:Regular Season match: Balls of Fire vs Bocce Bal
 l Buddies
LOCATION:Newhall Court 2
END:VEVENT
BEGIN:VEVENT
DTSTAMP:20260426T000000Z
UID:f4955b71-e32b-4154-931c-786a29e3407c@ClaytonBocce
DTSTART;TZID=America/Los_Angeles:20260708T183000
DTEND;TZID=America/Los_Angeles:20260708T210000
STATUS:CONFIRMED
SUMMARY:Balls of Fire vs Bocce Italiane
URL:/League/Schedule/3214
DESCRIPTION:Regular Season match: Balls of Fire vs Bocce Ita
 liane
LOCATION:Newhall Court 8
END:VEVENT
BEGIN:VEVENT
DTSTAMP:20260426T000000Z
UID:57ad903e-9cf3-49e8-be29-4f98c43828bc@ClaytonBocce
DTSTART;TZID=America/Los_Angeles:20260715T183000
DTEND;TZID=America/Los_Angeles:20260715T210000
STATUS:CONFIRMED
SUMMARY:Balls of Fire vs Bocce Sound Machine
URL:/League/Schedule/3214
DESCRIPTION:Regular Season match: Balls of Fire vs Bocce Sou
 nd Machine
LOCATION:Newhall Court 1
END:VEVENT
BEGIN:VEVENT
DTSTAMP:20260426T000000Z
UID:87c17e42-02ad-410b-b415-9615c5fc2a6d@ClaytonBocce
DTSTART;TZID=America/Los_Angeles:20260722T183000
DTEND;TZID=America/Los_Angeles:20260722T210000
STATUS:CONFIRMED
SUMMARY:Balls of Fire vs Bocce Botch Ups
URL:/League/Schedule/3214
DESCRIPTION:Regular Season match: Balls of Fire vs Bocce Bot
 ch Ups
LOCATION:Newhall Court 7
END:VEVENT
BEGIN:VEVENT
DTSTAMP:20260426T000000Z
UID:50f9b9d8-d691-48db-a9db-9228965ead39@ClaytonBocce
DTSTART;TZID=America/Los_Angeles:20260729T183000
DTEND;TZID=America/Los_Angeles:20260729T210000
STATUS:CONFIRMED
SUMMARY:Balls of Fire vs Ball Busters 2.0
URL:/League/Schedule/3214
DESCRIPTION:Regular Season match: Balls of Fire vs Ball Bust
 ers 2.0
LOCATION:Newhall Court 3
END:VEVENT
BEGIN:VEVENT
DTSTAMP:20260426T000000Z
UID:5a34c790-4484-40fb-9df2-7c1953fb429c@ClaytonBocce
DTSTART;TZID=America/Los_Angeles:20260805T183000
DTEND;TZID=America/Los_Angeles:20260805T210000
STATUS:CONFIRMED
SUMMARY:Balls of Fire vs Earl's Crew (WCCC)
URL:/League/Schedule/3214
DESCRIPTION:Regular Season match: Balls of Fire vs Earl's Cr
 ew (WCCC)
LOCATION:Newhall Court 8
END:VEVENT
BEGIN:VEVENT
DTSTAMP:20260426T000000Z
UID:7a35f7c0-f67d-450b-9b99-375a2848f4cc@ClaytonBocce
DTSTART;TZID=America/Los_Angeles:20260812T183000
DTEND;TZID=America/Los_Angeles:20260812T210000
STATUS:CONFIRMED
SUMMARY:Balls of Fire vs Sandbox Girls
URL:/League/Schedule/3214
DESCRIPTION:Regular Season match: Balls of Fire vs Sandbox G
 irls
LOCATION:Newhall Court 7
END:VEVENT
BEGIN:VEVENT
DTSTAMP:20260426T000000Z
UID:de349c2d-b874-4578-9d55-735229c0d3ae@ClaytonBocce
DTSTART;TZID=America/Los_Angeles:20260826T183000
DTEND;TZID=America/Los_Angeles:20260826T210000
STATUS:CONFIRMED
SUMMARY:Balls of Fire vs Bocce Cumari
URL:/League/Schedule/3214
DESCRIPTION:Regular Season match: Balls of Fire vs Bocce Cum
 ari
LOCATION:Newhall Court 2
END:VEVENT
BEGIN:VEVENT
DTSTAMP:20260426T000000Z
UID:69c33742-5eee-47b9-8390-e84bd9957d46@ClaytonBocce
DTSTART;TZID=America/Los_Angeles:20260902T183000
DTEND;TZID=America/Los_Angeles:20260902T210000
STATUS:CONFIRMED
SUMMARY:Balls of Fire vs Bocce Ball Buddies
URL:/League/Schedule/3214
DESCRIPTION:Regular Season match: Balls of Fire vs Bocce Bal
 l Buddies
LOCATION:Newhall Court 3
END:VEVENT
END:VCALENDAR
