BEGIN:VCALENDAR
VERSION:2.0
PRODID:-//Clayton Bocce League
METHOD:PUBLISH
BEGIN:VTIMEZONE
TZID:America/Los_Angeles
X-LIC-LOCATION:America/Los_Angeles
BEGIN:DAYLIGHT
TZOFFSETFROM:-0800
TZOFFSETTO:-0700
TZNAME:PDT
DTSTART:20070311T020000
RRULE:FREQ=YEARLY;BYMONTH=3;BYDAY=2SU
END:DAYLIGHT
BEGIN:STANDARD
TZOFFSETFROM:-0700
TZOFFSETTO:-0800
TZNAME:PST
DTSTART:20071104T020000
RRULE:FREQ=YEARLY;BYMONTH=11;BYDAY=1SU
END:STANDARD
END:VTIMEZONE
BEGIN:VEVENT
DTSTAMP:20260426T000000Z
UID:cecd9d8a-f2ca-4983-be66-6bca7c513f9a@ClaytonBocce
DTSTART;TZID=America/Los_Angeles:20260429T183000
DTEND;TZID=America/Los_Angeles:20260429T210000
STATUS:CONFIRMED
SUMMARY:Bocce Italiane vs Balls of Fire
URL:/League/Schedule/3220
DESCRIPTION:Regular Season match: Bocce Italiane vs Balls of
  Fire
LOCATION:Newhall Court 7
END:VEVENT
BEGIN:VEVENT
DTSTAMP:20260426T000000Z
UID:7b7d2497-b9fd-47ac-b714-8d5f0600efb0@ClaytonBocce
DTSTART;TZID=America/Los_Angeles:20260506T183000
DTEND;TZID=America/Los_Angeles:20260506T210000
STATUS:CONFIRMED
SUMMARY:Bocce Italiane vs Bocce Cumari
URL:/League/Schedule/3220
DESCRIPTION:Regular Season match: Bocce Italiane vs Bocce Cu
 mari
LOCATION:Newhall Court 3
END:VEVENT
BEGIN:VEVENT
DTSTAMP:20260426T000000Z
UID:aac54374-5e95-4061-8135-0de941496541@ClaytonBocce
DTSTART;TZID=America/Los_Angeles:20260513T183000
DTEND;TZID=America/Los_Angeles:20260513T210000
STATUS:CONFIRMED
SUMMARY:Bocce Italiane vs Bocce Ball Buddies
URL:/League/Schedule/3220
DESCRIPTION:Regular Season match: Bocce Italiane vs Bocce Ba
 ll Buddies
LOCATION:Newhall Court 8
END:VEVENT
BEGIN:VEVENT
DTSTAMP:20260426T000000Z
UID:440847d4-4130-4a8e-8453-fe18f1c2d3ea@ClaytonBocce
DTSTART;TZID=America/Los_Angeles:20260527T183000
DTEND;TZID=America/Los_Angeles:20260527T210000
STATUS:CONFIRMED
SUMMARY:Bocce Italiane vs Bocce Sound Machine
URL:/League/Schedule/3220
DESCRIPTION:Regular Season match: Bocce Italiane vs Bocce So
 und Machine
LOCATION:Newhall Court 5
END:VEVENT
BEGIN:VEVENT
DTSTAMP:20260426T000000Z
UID:f4e2917c-7835-4401-817c-80dcf495e95c@ClaytonBocce
DTSTART;TZID=America/Los_Angeles:20260603T183000
DTEND;TZID=America/Los_Angeles:20260603T210000
STATUS:CONFIRMED
SUMMARY:Bocce Italiane vs Bocce Botch Ups
URL:/League/Schedule/3220
DESCRIPTION:Regular Season match: Bocce Italiane vs Bocce Bo
 tch Ups
LOCATION:Newhall Court 1
END:VEVENT
BEGIN:VEVENT
DTSTAMP:20260426T000000Z
UID:f6fa9cb6-8fdf-43e7-b6ba-7b40f84db0c7@ClaytonBocce
DTSTART;TZID=America/Los_Angeles:20260610T183000
DTEND;TZID=America/Los_Angeles:20260610T210000
STATUS:CONFIRMED
SUMMARY:Bocce Italiane vs Ball Busters 2.0
URL:/League/Schedule/3220
DESCRIPTION:Regular Season match: Bocce Italiane vs Ball Bus
 ters 2.0
LOCATION:Newhall Court 7
END:VEVENT
BEGIN:VEVENT
DTSTAMP:20260426T000000Z
UID:b0c05229-5b5f-4ead-bb4c-2947ea2f2075@ClaytonBocce
DTSTART;TZID=America/Los_Angeles:20260617T183000
DTEND;TZID=America/Los_Angeles:20260617T210000
STATUS:CONFIRMED
SUMMARY:Bocce Italiane vs Earl's Crew (WCCC)
URL:/League/Schedule/3220
DESCRIPTION:Regular Season match: Bocce Italiane vs Earl's C
 rew (WCCC)
LOCATION:Newhall Court 3
END:VEVENT
BEGIN:VEVENT
DTSTAMP:20260426T000000Z
UID:f7af6233-32b9-470e-9807-7ab849e53bbb@ClaytonBocce
DTSTART;TZID=America/Los_Angeles:20260624T183000
DTEND;TZID=America/Los_Angeles:20260624T210000
STATUS:CONFIRMED
SUMMARY:Bocce Italiane vs Sandbox Girls
URL:/League/Schedule/3220
DESCRIPTION:Regular Season match: Bocce Italiane vs Sandbox 
 Girls
LOCATION:Newhall Court 4
END:VEVENT
BEGIN:VEVENT
DTSTAMP:20260426T000000Z
UID:f4955b71-e32b-4154-931c-786a29e3407c@ClaytonBocce
DTSTART;TZID=America/Los_Angeles:20260708T183000
DTEND;TZID=America/Los_Angeles:20260708T210000
STATUS:CONFIRMED
SUMMARY:Bocce Italiane vs Balls of Fire
URL:/League/Schedule/3220
DESCRIPTION:Regular Season match: Bocce Italiane vs Balls of
  Fire
LOCATION:Newhall Court 8
END:VEVENT
BEGIN:VEVENT
DTSTAMP:20260426T000000Z
UID:807b0fe6-304d-425a-84c5-2610db5058c2@ClaytonBocce
DTSTART;TZID=America/Los_Angeles:20260715T183000
DTEND;TZID=America/Los_Angeles:20260715T210000
STATUS:CONFIRMED
SUMMARY:Bocce Italiane vs Bocce Cumari
URL:/League/Schedule/3220
DESCRIPTION:Regular Season match: Bocce Italiane vs Bocce Cu
 mari
LOCATION:Newhall Court 2
END:VEVENT
BEGIN:VEVENT
DTSTAMP:20260426T000000Z
UID:ce6dab47-9195-40da-a75a-91d9fda530fa@ClaytonBocce
DTSTART;TZID=America/Los_Angeles:20260722T183000
DTEND;TZID=America/Los_Angeles:20260722T210000
STATUS:CONFIRMED
SUMMARY:Bocce Italiane vs Bocce Ball Buddies
URL:/League/Schedule/3220
DESCRIPTION:Regular Season match: Bocce Italiane vs Bocce Ba
 ll Buddies
LOCATION:Newhall Court 1
END:VEVENT
BEGIN:VEVENT
DTSTAMP:20260426T000000Z
UID:36bbde6b-afc0-48ed-bcdb-e47f9728eb5e@ClaytonBocce
DTSTART;TZID=America/Los_Angeles:20260805T183000
DTEND;TZID=America/Los_Angeles:20260805T210000
STATUS:CONFIRMED
SUMMARY:Bocce Italiane vs Bocce Sound Machine
URL:/League/Schedule/3220
DESCRIPTION:Regular Season match: Bocce Italiane vs Bocce So
 und Machine
LOCATION:Newhall Court 5
END:VEVENT
BEGIN:VEVENT
DTSTAMP:20260426T000000Z
UID:2c395687-94e8-4f99-812b-4d35b99942a5@ClaytonBocce
DTSTART;TZID=America/Los_Angeles:20260812T183000
DTEND;TZID=America/Los_Angeles:20260812T210000
STATUS:CONFIRMED
SUMMARY:Bocce Italiane vs Bocce Botch Ups
URL:/League/Schedule/3220
DESCRIPTION:Regular Season match: Bocce Italiane vs Bocce Bo
 tch Ups
LOCATION:Newhall Court 3
END:VEVENT
BEGIN:VEVENT
DTSTAMP:20260426T000000Z
UID:7e046de3-8be4-45ae-a84c-11df7eaac400@ClaytonBocce
DTSTART;TZID=America/Los_Angeles:20260819T183000
DTEND;TZID=America/Los_Angeles:20260819T210000
STATUS:CONFIRMED
SUMMARY:Bocce Italiane vs Ball Busters 2.0
URL:/League/Schedule/3220
DESCRIPTION:Regular Season match: Bocce Italiane vs Ball Bus
 ters 2.0
LOCATION:Newhall Court 6
END:VEVENT
BEGIN:VEVENT
DTSTAMP:20260426T000000Z
UID:be37175b-c1bd-4e04-aeb6-72e7f9f202f8@ClaytonBocce
DTSTART;TZID=America/Los_Angeles:20260826T183000
DTEND;TZID=America/Los_Angeles:20260826T210000
STATUS:CONFIRMED
SUMMARY:Bocce Italiane vs Earl's Crew (WCCC)
URL:/League/Schedule/3220
DESCRIPTION:Regular Season match: Bocce Italiane vs Earl's C
 rew (WCCC)
LOCATION:Newhall Court 8
END:VEVENT
BEGIN:VEVENT
DTSTAMP:20260426T000000Z
UID:3c27d4dd-8e60-46bc-b088-4bcd39452e9f@ClaytonBocce
DTSTART;TZID=America/Los_Angeles:20260902T183000
DTEND;TZID=America/Los_Angeles:20260902T210000
STATUS:CONFIRMED
SUMMARY:Bocce Italiane vs Sandbox Girls
URL:/League/Schedule/3220
DESCRIPTION:Regular Season match: Bocce Italiane vs Sandbox 
 Girls
LOCATION:Newhall Court 6
END:VEVENT
END:VCALENDAR
