BEGIN:VCALENDAR
VERSION:2.0
PRODID:-//Clayton Bocce League
METHOD:PUBLISH
BEGIN:VTIMEZONE
TZID:America/Los_Angeles
X-LIC-LOCATION:America/Los_Angeles
BEGIN:DAYLIGHT
TZOFFSETFROM:-0800
TZOFFSETTO:-0700
TZNAME:PDT
DTSTART:20070311T020000
RRULE:FREQ=YEARLY;BYMONTH=3;BYDAY=2SU
END:DAYLIGHT
BEGIN:STANDARD
TZOFFSETFROM:-0700
TZOFFSETTO:-0800
TZNAME:PST
DTSTART:20071104T020000
RRULE:FREQ=YEARLY;BYMONTH=11;BYDAY=1SU
END:STANDARD
END:VTIMEZONE
BEGIN:VEVENT
DTSTAMP:20260426T000000Z
UID:f73a36a9-34ab-4107-bb3e-19633f091793@ClaytonBocce
DTSTART;TZID=America/Los_Angeles:20260429T183000
DTEND;TZID=America/Los_Angeles:20260429T210000
STATUS:CONFIRMED
SUMMARY:4 Watch 4 Play vs Squeaks Bunch
URL:/League/Schedule/3213
DESCRIPTION:Regular Season match: 4 Watch 4 Play vs Squeaks 
 Bunch
LOCATION:Newhall Court 3
END:VEVENT
BEGIN:VEVENT
DTSTAMP:20260426T000000Z
UID:f713cd84-46c5-44a4-8e1c-84c3dc3ffe7c@ClaytonBocce
DTSTART;TZID=America/Los_Angeles:20260506T183000
DTEND;TZID=America/Los_Angeles:20260506T210000
STATUS:CONFIRMED
SUMMARY:4 Watch 4 Play vs Off The Rails
URL:/League/Schedule/3213
DESCRIPTION:Regular Season match: 4 Watch 4 Play vs Off The 
 Rails
LOCATION:Newhall Court 7
END:VEVENT
BEGIN:VEVENT
DTSTAMP:20260426T000000Z
UID:130da404-5de9-44fa-9fc5-fad2841b3136@ClaytonBocce
DTSTART;TZID=America/Los_Angeles:20260513T183000
DTEND;TZID=America/Los_Angeles:20260513T210000
STATUS:CONFIRMED
SUMMARY:4 Watch 4 Play vs Bocce Mo's
URL:/League/Schedule/3213
DESCRIPTION:Regular Season match: 4 Watch 4 Play vs Bocce Mo
 's
LOCATION:Newhall Court 5
END:VEVENT
BEGIN:VEVENT
DTSTAMP:20260426T000000Z
UID:52cf0c21-132b-4f21-9e1d-939b8f3257dc@ClaytonBocce
DTSTART;TZID=America/Los_Angeles:20260520T183000
DTEND;TZID=America/Los_Angeles:20260520T210000
STATUS:CONFIRMED
SUMMARY:4 Watch 4 Play vs Crushers
URL:/League/Schedule/3213
DESCRIPTION:Regular Season match: 4 Watch 4 Play vs Crushers
LOCATION:Newhall Court 4
END:VEVENT
BEGIN:VEVENT
DTSTAMP:20260426T000000Z
UID:770bc1ee-2317-4862-8505-f304c4fc6994@ClaytonBocce
DTSTART;TZID=America/Los_Angeles:20260527T183000
DTEND;TZID=America/Los_Angeles:20260527T210000
STATUS:CONFIRMED
SUMMARY:4 Watch 4 Play vs Mission Imbocce
URL:/League/Schedule/3213
DESCRIPTION:Regular Season match: 4 Watch 4 Play vs Mission 
 Imbocce
LOCATION:Newhall Court 6
END:VEVENT
BEGIN:VEVENT
DTSTAMP:20260426T000000Z
UID:e1456d50-3d30-4dd2-8ee0-beb92d186216@ClaytonBocce
DTSTART;TZID=America/Los_Angeles:20260603T183000
DTEND;TZID=America/Los_Angeles:20260603T210000
STATUS:CONFIRMED
SUMMARY:4 Watch 4 Play vs Rat Pack
URL:/League/Schedule/3213
DESCRIPTION:Regular Season match: 4 Watch 4 Play vs Rat Pack
LOCATION:Newhall Court 2
END:VEVENT
BEGIN:VEVENT
DTSTAMP:20260426T000000Z
UID:5a23ac09-11f4-4a2a-939f-612263b674fa@ClaytonBocce
DTSTART;TZID=America/Los_Angeles:20260617T183000
DTEND;TZID=America/Los_Angeles:20260617T210000
STATUS:CONFIRMED
SUMMARY:4 Watch 4 Play vs Spot Club
URL:/League/Schedule/3213
DESCRIPTION:Regular Season match: 4 Watch 4 Play vs Spot Clu
 b
LOCATION:Newhall Court 1
END:VEVENT
BEGIN:VEVENT
DTSTAMP:20260426T000000Z
UID:fb227aeb-dcd1-42e6-81fa-043935fa7a6f@ClaytonBocce
DTSTART;TZID=America/Los_Angeles:20260624T183000
DTEND;TZID=America/Los_Angeles:20260624T210000
STATUS:CONFIRMED
SUMMARY:4 Watch 4 Play vs Bank Rollers
URL:/League/Schedule/3213
DESCRIPTION:Regular Season match: 4 Watch 4 Play vs Bank Rol
 lers
LOCATION:Newhall Court 8
END:VEVENT
BEGIN:VEVENT
DTSTAMP:20260426T000000Z
UID:4a0a3775-1af0-4506-90e0-224bdaaa6156@ClaytonBocce
DTSTART;TZID=America/Los_Angeles:20260708T183000
DTEND;TZID=America/Los_Angeles:20260708T210000
STATUS:CONFIRMED
SUMMARY:4 Watch 4 Play vs Squeaks Bunch
URL:/League/Schedule/3213
DESCRIPTION:Regular Season match: 4 Watch 4 Play vs Squeaks 
 Bunch
LOCATION:Newhall Court 5
END:VEVENT
BEGIN:VEVENT
DTSTAMP:20260426T000000Z
UID:4a920d86-5d47-4c5a-a767-ee97759fc02c@ClaytonBocce
DTSTART;TZID=America/Los_Angeles:20260715T183000
DTEND;TZID=America/Los_Angeles:20260715T210000
STATUS:CONFIRMED
SUMMARY:4 Watch 4 Play vs Off The Rails
URL:/League/Schedule/3213
DESCRIPTION:Regular Season match: 4 Watch 4 Play vs Off The 
 Rails
LOCATION:Newhall Court 6
END:VEVENT
BEGIN:VEVENT
DTSTAMP:20260426T000000Z
UID:ff244591-cc7a-4bc5-94b1-dfd99d46ecea@ClaytonBocce
DTSTART;TZID=America/Los_Angeles:20260722T183000
DTEND;TZID=America/Los_Angeles:20260722T210000
STATUS:CONFIRMED
SUMMARY:4 Watch 4 Play vs Bocce Mo's
URL:/League/Schedule/3213
DESCRIPTION:Regular Season match: 4 Watch 4 Play vs Bocce Mo
 's
LOCATION:Newhall Court 2
END:VEVENT
BEGIN:VEVENT
DTSTAMP:20260426T000000Z
UID:299324de-31bc-4773-94ee-5d27dde9c6bc@ClaytonBocce
DTSTART;TZID=America/Los_Angeles:20260729T183000
DTEND;TZID=America/Los_Angeles:20260729T210000
STATUS:CONFIRMED
SUMMARY:4 Watch 4 Play vs Crushers
URL:/League/Schedule/3213
DESCRIPTION:Regular Season match: 4 Watch 4 Play vs Crushers
LOCATION:Newhall Court 8
END:VEVENT
BEGIN:VEVENT
DTSTAMP:20260426T000000Z
UID:0b2ab293-bce1-41e6-ab9f-fe01878507af@ClaytonBocce
DTSTART;TZID=America/Los_Angeles:20260805T183000
DTEND;TZID=America/Los_Angeles:20260805T210000
STATUS:CONFIRMED
SUMMARY:4 Watch 4 Play vs Mission Imbocce
URL:/League/Schedule/3213
DESCRIPTION:Regular Season match: 4 Watch 4 Play vs Mission 
 Imbocce
LOCATION:Newhall Court 3
END:VEVENT
BEGIN:VEVENT
DTSTAMP:20260426T000000Z
UID:63c57df9-599c-4b23-9ad2-3cebaccdcf97@ClaytonBocce
DTSTART;TZID=America/Los_Angeles:20260812T183000
DTEND;TZID=America/Los_Angeles:20260812T210000
STATUS:CONFIRMED
SUMMARY:4 Watch 4 Play vs Rat Pack
URL:/League/Schedule/3213
DESCRIPTION:Regular Season match: 4 Watch 4 Play vs Rat Pack
LOCATION:Newhall Court 1
END:VEVENT
BEGIN:VEVENT
DTSTAMP:20260426T000000Z
UID:f0886740-87a6-4d3e-b635-1b8649e53af1@ClaytonBocce
DTSTART;TZID=America/Los_Angeles:20260826T183000
DTEND;TZID=America/Los_Angeles:20260826T210000
STATUS:CONFIRMED
SUMMARY:4 Watch 4 Play vs Spot Club
URL:/League/Schedule/3213
DESCRIPTION:Regular Season match: 4 Watch 4 Play vs Spot Clu
 b
LOCATION:Newhall Court 7
END:VEVENT
BEGIN:VEVENT
DTSTAMP:20260426T000000Z
UID:effad87b-3421-45a9-a958-3b1635cee23b@ClaytonBocce
DTSTART;TZID=America/Los_Angeles:20260902T183000
DTEND;TZID=America/Los_Angeles:20260902T210000
STATUS:CONFIRMED
SUMMARY:4 Watch 4 Play vs Bank Rollers
URL:/League/Schedule/3213
DESCRIPTION:Regular Season match: 4 Watch 4 Play vs Bank Rol
 lers
LOCATION:Newhall Court 4
END:VEVENT
END:VCALENDAR
