BEGIN:VCALENDAR
VERSION:2.0
PRODID:-//Clayton Bocce League
METHOD:PUBLISH
BEGIN:VTIMEZONE
TZID:America/Los_Angeles
X-LIC-LOCATION:America/Los_Angeles
BEGIN:DAYLIGHT
TZOFFSETFROM:-0800
TZOFFSETTO:-0700
TZNAME:PDT
DTSTART:20070311T020000
RRULE:FREQ=YEARLY;BYMONTH=3;BYDAY=2SU
END:DAYLIGHT
BEGIN:STANDARD
TZOFFSETFROM:-0700
TZOFFSETTO:-0800
TZNAME:PST
DTSTART:20071104T020000
RRULE:FREQ=YEARLY;BYMONTH=11;BYDAY=1SU
END:STANDARD
END:VTIMEZONE
BEGIN:VEVENT
DTSTAMP:20260426T000000Z
UID:f73a36a9-34ab-4107-bb3e-19633f091793@ClaytonBocce
DTSTART;TZID=America/Los_Angeles:20260429T183000
DTEND;TZID=America/Los_Angeles:20260429T210000
STATUS:CONFIRMED
SUMMARY:Squeaks Bunch vs 4 Watch 4 Play
URL:/League/Schedule/3217
DESCRIPTION:Regular Season match: Squeaks Bunch vs 4 Watch 4
  Play
LOCATION:Newhall Court 3
END:VEVENT
BEGIN:VEVENT
DTSTAMP:20260426T000000Z
UID:ff9c171e-d41c-46e1-8b7c-e5541f500e5b@ClaytonBocce
DTSTART;TZID=America/Los_Angeles:20260506T183000
DTEND;TZID=America/Los_Angeles:20260506T210000
STATUS:CONFIRMED
SUMMARY:Squeaks Bunch vs Spot Club
URL:/League/Schedule/3217
DESCRIPTION:Regular Season match: Squeaks Bunch vs Spot Club
LOCATION:Newhall Court 5
END:VEVENT
BEGIN:VEVENT
DTSTAMP:20260426T000000Z
UID:6b836e3b-abef-4391-8cf1-eb948d7b8fe6@ClaytonBocce
DTSTART;TZID=America/Los_Angeles:20260513T183000
DTEND;TZID=America/Los_Angeles:20260513T210000
STATUS:CONFIRMED
SUMMARY:Squeaks Bunch vs Bank Rollers
URL:/League/Schedule/3217
DESCRIPTION:Regular Season match: Squeaks Bunch vs Bank Roll
 ers
LOCATION:Newhall Court 7
END:VEVENT
BEGIN:VEVENT
DTSTAMP:20260426T000000Z
UID:cbca37b2-841b-4291-bfea-cf5120d07ed8@ClaytonBocce
DTSTART;TZID=America/Los_Angeles:20260527T183000
DTEND;TZID=America/Los_Angeles:20260527T210000
STATUS:CONFIRMED
SUMMARY:Squeaks Bunch vs Off The Rails
URL:/League/Schedule/3217
DESCRIPTION:Regular Season match: Squeaks Bunch vs Off The R
 ails
LOCATION:Newhall Court 8
END:VEVENT
BEGIN:VEVENT
DTSTAMP:20260426T000000Z
UID:e8cfa854-fb9f-4ce3-86b7-6cead75bad11@ClaytonBocce
DTSTART;TZID=America/Los_Angeles:20260603T183000
DTEND;TZID=America/Los_Angeles:20260603T210000
STATUS:CONFIRMED
SUMMARY:Squeaks Bunch vs Bocce Mo's
URL:/League/Schedule/3217
DESCRIPTION:Regular Season match: Squeaks Bunch vs Bocce Mo'
 s
LOCATION:Newhall Court 4
END:VEVENT
BEGIN:VEVENT
DTSTAMP:20260426T000000Z
UID:96695106-0774-455f-9af7-797ed12a7969@ClaytonBocce
DTSTART;TZID=America/Los_Angeles:20260610T183000
DTEND;TZID=America/Los_Angeles:20260610T210000
STATUS:CONFIRMED
SUMMARY:Squeaks Bunch vs Crushers
URL:/League/Schedule/3217
DESCRIPTION:Regular Season match: Squeaks Bunch vs Crushers
LOCATION:Newhall Court 1
END:VEVENT
BEGIN:VEVENT
DTSTAMP:20260426T000000Z
UID:2ae7bb14-d11e-4a67-912d-73c855b6b374@ClaytonBocce
DTSTART;TZID=America/Los_Angeles:20260617T183000
DTEND;TZID=America/Los_Angeles:20260617T210000
STATUS:CONFIRMED
SUMMARY:Squeaks Bunch vs Mission Imbocce
URL:/League/Schedule/3217
DESCRIPTION:Regular Season match: Squeaks Bunch vs Mission I
 mbocce
LOCATION:Newhall Court 2
END:VEVENT
BEGIN:VEVENT
DTSTAMP:20260426T000000Z
UID:45e91b5d-9c78-4bcc-ae10-d20cf80cd8a6@ClaytonBocce
DTSTART;TZID=America/Los_Angeles:20260624T183000
DTEND;TZID=America/Los_Angeles:20260624T210000
STATUS:CONFIRMED
SUMMARY:Squeaks Bunch vs Rat Pack
URL:/League/Schedule/3217
DESCRIPTION:Regular Season match: Squeaks Bunch vs Rat Pack
LOCATION:Newhall Court 6
END:VEVENT
BEGIN:VEVENT
DTSTAMP:20260426T000000Z
UID:4a0a3775-1af0-4506-90e0-224bdaaa6156@ClaytonBocce
DTSTART;TZID=America/Los_Angeles:20260708T183000
DTEND;TZID=America/Los_Angeles:20260708T210000
STATUS:CONFIRMED
SUMMARY:Squeaks Bunch vs 4 Watch 4 Play
URL:/League/Schedule/3217
DESCRIPTION:Regular Season match: Squeaks Bunch vs 4 Watch 4
  Play
LOCATION:Newhall Court 5
END:VEVENT
BEGIN:VEVENT
DTSTAMP:20260426T000000Z
UID:e7c8ab62-2f38-4f8c-994e-f8b68c52f7d3@ClaytonBocce
DTSTART;TZID=America/Los_Angeles:20260715T183000
DTEND;TZID=America/Los_Angeles:20260715T210000
STATUS:CONFIRMED
SUMMARY:Squeaks Bunch vs Spot Club
URL:/League/Schedule/3217
DESCRIPTION:Regular Season match: Squeaks Bunch vs Spot Club
LOCATION:Newhall Court 4
END:VEVENT
BEGIN:VEVENT
DTSTAMP:20260426T000000Z
UID:ffd436ee-4ec5-473e-8a64-9cb94509961a@ClaytonBocce
DTSTART;TZID=America/Los_Angeles:20260722T183000
DTEND;TZID=America/Los_Angeles:20260722T210000
STATUS:CONFIRMED
SUMMARY:Squeaks Bunch vs Bank Rollers
URL:/League/Schedule/3217
DESCRIPTION:Regular Season match: Squeaks Bunch vs Bank Roll
 ers
LOCATION:Newhall Court 3
END:VEVENT
BEGIN:VEVENT
DTSTAMP:20260426T000000Z
UID:b695b4f8-8db6-48e2-ae29-159b31e97720@ClaytonBocce
DTSTART;TZID=America/Los_Angeles:20260805T183000
DTEND;TZID=America/Los_Angeles:20260805T210000
STATUS:CONFIRMED
SUMMARY:Squeaks Bunch vs Off The Rails
URL:/League/Schedule/3217
DESCRIPTION:Regular Season match: Squeaks Bunch vs Off The R
 ails
LOCATION:Newhall Court 7
END:VEVENT
BEGIN:VEVENT
DTSTAMP:20260426T000000Z
UID:28019b38-2e0e-46ab-af2a-1f1026e206f5@ClaytonBocce
DTSTART;TZID=America/Los_Angeles:20260812T183000
DTEND;TZID=America/Los_Angeles:20260812T210000
STATUS:CONFIRMED
SUMMARY:Squeaks Bunch vs Bocce Mo's
URL:/League/Schedule/3217
DESCRIPTION:Regular Season match: Squeaks Bunch vs Bocce Mo'
 s
LOCATION:Newhall Court 6
END:VEVENT
BEGIN:VEVENT
DTSTAMP:20260426T000000Z
UID:14879f78-9fad-4988-a4c9-3ff5c9190846@ClaytonBocce
DTSTART;TZID=America/Los_Angeles:20260819T183000
DTEND;TZID=America/Los_Angeles:20260819T210000
STATUS:CONFIRMED
SUMMARY:Squeaks Bunch vs Crushers
URL:/League/Schedule/3217
DESCRIPTION:Regular Season match: Squeaks Bunch vs Crushers
LOCATION:Newhall Court 2
END:VEVENT
BEGIN:VEVENT
DTSTAMP:20260426T000000Z
UID:21463de8-5d5e-4953-a970-8287045c7582@ClaytonBocce
DTSTART;TZID=America/Los_Angeles:20260826T183000
DTEND;TZID=America/Los_Angeles:20260826T210000
STATUS:CONFIRMED
SUMMARY:Squeaks Bunch vs Mission Imbocce
URL:/League/Schedule/3217
DESCRIPTION:Regular Season match: Squeaks Bunch vs Mission I
 mbocce
LOCATION:Newhall Court 4
END:VEVENT
BEGIN:VEVENT
DTSTAMP:20260426T000000Z
UID:12e4eca1-b37b-4d2e-88ec-8c1ac3df381f@ClaytonBocce
DTSTART;TZID=America/Los_Angeles:20260902T183000
DTEND;TZID=America/Los_Angeles:20260902T210000
STATUS:CONFIRMED
SUMMARY:Squeaks Bunch vs Rat Pack
URL:/League/Schedule/3217
DESCRIPTION:Regular Season match: Squeaks Bunch vs Rat Pack
LOCATION:Newhall Court 1
END:VEVENT
END:VCALENDAR
