BEGIN:VCALENDAR
VERSION:2.0
PRODID:-//Clayton Bocce League
METHOD:PUBLISH
BEGIN:VTIMEZONE
TZID:America/Los_Angeles
X-LIC-LOCATION:America/Los_Angeles
BEGIN:DAYLIGHT
TZOFFSETFROM:-0800
TZOFFSETTO:-0700
TZNAME:PDT
DTSTART:20070311T020000
RRULE:FREQ=YEARLY;BYMONTH=3;BYDAY=2SU
END:DAYLIGHT
BEGIN:STANDARD
TZOFFSETFROM:-0700
TZOFFSETTO:-0800
TZNAME:PST
DTSTART:20071104T020000
RRULE:FREQ=YEARLY;BYMONTH=11;BYDAY=1SU
END:STANDARD
END:VTIMEZONE
BEGIN:VEVENT
DTSTAMP:20260426T000000Z
UID:c72a5662-0e0f-4f2e-a785-91b9b6c58020@ClaytonBocce
DTSTART;TZID=America/Los_Angeles:20260429T183000
DTEND;TZID=America/Los_Angeles:20260429T210000
STATUS:CONFIRMED
SUMMARY:Bocce Sound Machine vs Sandbox Girls
URL:/League/Schedule/3211
DESCRIPTION:Regular Season match: Bocce Sound Machine vs San
 dbox Girls
LOCATION:Newhall Court 6
END:VEVENT
BEGIN:VEVENT
DTSTAMP:20260426T000000Z
UID:a3bcb116-c1e8-42f9-9d73-d9a9dbd4e635@ClaytonBocce
DTSTART;TZID=America/Los_Angeles:20260506T183000
DTEND;TZID=America/Los_Angeles:20260506T210000
STATUS:CONFIRMED
SUMMARY:Bocce Sound Machine vs Balls of Fire
URL:/League/Schedule/3211
DESCRIPTION:Regular Season match: Bocce Sound Machine vs Bal
 ls of Fire
LOCATION:Newhall Court 4
END:VEVENT
BEGIN:VEVENT
DTSTAMP:20260426T000000Z
UID:4de19f92-fccf-48a4-8957-e719145877da@ClaytonBocce
DTSTART;TZID=America/Los_Angeles:20260513T183000
DTEND;TZID=America/Los_Angeles:20260513T210000
STATUS:CONFIRMED
SUMMARY:Bocce Sound Machine vs Bocce Cumari
URL:/League/Schedule/3211
DESCRIPTION:Regular Season match: Bocce Sound Machine vs Boc
 ce Cumari
LOCATION:Newhall Court 2
END:VEVENT
BEGIN:VEVENT
DTSTAMP:20260426T000000Z
UID:e3f157c2-8d1d-413e-ac2c-19c6fdd7de59@ClaytonBocce
DTSTART;TZID=America/Los_Angeles:20260520T183000
DTEND;TZID=America/Los_Angeles:20260520T210000
STATUS:CONFIRMED
SUMMARY:Bocce Sound Machine vs Bocce Ball Buddies
URL:/League/Schedule/3211
DESCRIPTION:Regular Season match: Bocce Sound Machine vs Boc
 ce Ball Buddies
LOCATION:Newhall Court 3
END:VEVENT
BEGIN:VEVENT
DTSTAMP:20260426T000000Z
UID:440847d4-4130-4a8e-8453-fe18f1c2d3ea@ClaytonBocce
DTSTART;TZID=America/Los_Angeles:20260527T183000
DTEND;TZID=America/Los_Angeles:20260527T210000
STATUS:CONFIRMED
SUMMARY:Bocce Sound Machine vs Bocce Italiane
URL:/League/Schedule/3211
DESCRIPTION:Regular Season match: Bocce Sound Machine vs Boc
 ce Italiane
LOCATION:Newhall Court 5
END:VEVENT
BEGIN:VEVENT
DTSTAMP:20260426T000000Z
UID:16979e68-ae4c-4355-b797-8bd4d4b0b216@ClaytonBocce
DTSTART;TZID=America/Los_Angeles:20260610T183000
DTEND;TZID=America/Los_Angeles:20260610T210000
STATUS:CONFIRMED
SUMMARY:Bocce Sound Machine vs Bocce Botch Ups
URL:/League/Schedule/3211
DESCRIPTION:Regular Season match: Bocce Sound Machine vs Boc
 ce Botch Ups
LOCATION:Newhall Court 2
END:VEVENT
BEGIN:VEVENT
DTSTAMP:20260426T000000Z
UID:2d0dd5ba-9f66-4296-a25f-a16a9e60cf4c@ClaytonBocce
DTSTART;TZID=America/Los_Angeles:20260617T183000
DTEND;TZID=America/Los_Angeles:20260617T210000
STATUS:CONFIRMED
SUMMARY:Bocce Sound Machine vs Ball Busters 2.0
URL:/League/Schedule/3211
DESCRIPTION:Regular Season match: Bocce Sound Machine vs Bal
 l Busters 2.0
LOCATION:Newhall Court 8
END:VEVENT
BEGIN:VEVENT
DTSTAMP:20260426T000000Z
UID:bfe1a2ad-b9ba-4b26-aeb9-a601c9cec8de@ClaytonBocce
DTSTART;TZID=America/Los_Angeles:20260624T183000
DTEND;TZID=America/Los_Angeles:20260624T210000
STATUS:CONFIRMED
SUMMARY:Bocce Sound Machine vs Earl's Crew (WCCC)
URL:/League/Schedule/3211
DESCRIPTION:Regular Season match: Bocce Sound Machine vs Ear
 l's Crew (WCCC)
LOCATION:Newhall Court 5
END:VEVENT
BEGIN:VEVENT
DTSTAMP:20260426T000000Z
UID:0c5882cb-e080-4351-8fa7-2e5109cda9d3@ClaytonBocce
DTSTART;TZID=America/Los_Angeles:20260708T183000
DTEND;TZID=America/Los_Angeles:20260708T210000
STATUS:CONFIRMED
SUMMARY:Bocce Sound Machine vs Sandbox Girls
URL:/League/Schedule/3211
DESCRIPTION:Regular Season match: Bocce Sound Machine vs San
 dbox Girls
LOCATION:Newhall Court 3
END:VEVENT
BEGIN:VEVENT
DTSTAMP:20260426T000000Z
UID:57ad903e-9cf3-49e8-be29-4f98c43828bc@ClaytonBocce
DTSTART;TZID=America/Los_Angeles:20260715T183000
DTEND;TZID=America/Los_Angeles:20260715T210000
STATUS:CONFIRMED
SUMMARY:Bocce Sound Machine vs Balls of Fire
URL:/League/Schedule/3211
DESCRIPTION:Regular Season match: Bocce Sound Machine vs Bal
 ls of Fire
LOCATION:Newhall Court 1
END:VEVENT
BEGIN:VEVENT
DTSTAMP:20260426T000000Z
UID:5bdcd848-5cf1-42e9-ba3e-582bc9cb27b9@ClaytonBocce
DTSTART;TZID=America/Los_Angeles:20260722T183000
DTEND;TZID=America/Los_Angeles:20260722T210000
STATUS:CONFIRMED
SUMMARY:Bocce Sound Machine vs Bocce Cumari
URL:/League/Schedule/3211
DESCRIPTION:Regular Season match: Bocce Sound Machine vs Boc
 ce Cumari
LOCATION:Newhall Court 8
END:VEVENT
BEGIN:VEVENT
DTSTAMP:20260426T000000Z
UID:2081555e-dab9-4b51-ba63-525688973b60@ClaytonBocce
DTSTART;TZID=America/Los_Angeles:20260729T183000
DTEND;TZID=America/Los_Angeles:20260729T210000
STATUS:CONFIRMED
SUMMARY:Bocce Sound Machine vs Bocce Ball Buddies
URL:/League/Schedule/3211
DESCRIPTION:Regular Season match: Bocce Sound Machine vs Boc
 ce Ball Buddies
LOCATION:Newhall Court 6
END:VEVENT
BEGIN:VEVENT
DTSTAMP:20260426T000000Z
UID:36bbde6b-afc0-48ed-bcdb-e47f9728eb5e@ClaytonBocce
DTSTART;TZID=America/Los_Angeles:20260805T183000
DTEND;TZID=America/Los_Angeles:20260805T210000
STATUS:CONFIRMED
SUMMARY:Bocce Sound Machine vs Bocce Italiane
URL:/League/Schedule/3211
DESCRIPTION:Regular Season match: Bocce Sound Machine vs Boc
 ce Italiane
LOCATION:Newhall Court 5
END:VEVENT
BEGIN:VEVENT
DTSTAMP:20260426T000000Z
UID:1a52fc84-00da-41e0-b0c7-bea649f6cda1@ClaytonBocce
DTSTART;TZID=America/Los_Angeles:20260819T183000
DTEND;TZID=America/Los_Angeles:20260819T210000
STATUS:CONFIRMED
SUMMARY:Bocce Sound Machine vs Bocce Botch Ups
URL:/League/Schedule/3211
DESCRIPTION:Regular Season match: Bocce Sound Machine vs Boc
 ce Botch Ups
LOCATION:Newhall Court 4
END:VEVENT
BEGIN:VEVENT
DTSTAMP:20260426T000000Z
UID:c9247398-7c39-4c94-afa3-3dadde03a2af@ClaytonBocce
DTSTART;TZID=America/Los_Angeles:20260826T183000
DTEND;TZID=America/Los_Angeles:20260826T210000
STATUS:CONFIRMED
SUMMARY:Bocce Sound Machine vs Ball Busters 2.0
URL:/League/Schedule/3211
DESCRIPTION:Regular Season match: Bocce Sound Machine vs Bal
 l Busters 2.0
LOCATION:Newhall Court 1
END:VEVENT
BEGIN:VEVENT
DTSTAMP:20260426T000000Z
UID:8653b058-f641-4731-8f74-50668660899c@ClaytonBocce
DTSTART;TZID=America/Los_Angeles:20260902T183000
DTEND;TZID=America/Los_Angeles:20260902T210000
STATUS:CONFIRMED
SUMMARY:Bocce Sound Machine vs Earl's Crew (WCCC)
URL:/League/Schedule/3211
DESCRIPTION:Regular Season match: Bocce Sound Machine vs Ear
 l's Crew (WCCC)
LOCATION:Newhall Court 5
END:VEVENT
END:VCALENDAR
