BEGIN:VCALENDAR
VERSION:2.0
PRODID:-//Clayton Bocce League
METHOD:PUBLISH
BEGIN:VTIMEZONE
TZID:America/Los_Angeles
X-LIC-LOCATION:America/Los_Angeles
BEGIN:DAYLIGHT
TZOFFSETFROM:-0800
TZOFFSETTO:-0700
TZNAME:PDT
DTSTART:20070311T020000
RRULE:FREQ=YEARLY;BYMONTH=3;BYDAY=2SU
END:DAYLIGHT
BEGIN:STANDARD
TZOFFSETFROM:-0700
TZOFFSETTO:-0800
TZNAME:PST
DTSTART:20071104T020000
RRULE:FREQ=YEARLY;BYMONTH=11;BYDAY=1SU
END:STANDARD
END:VTIMEZONE
BEGIN:VEVENT
DTSTAMP:20260426T000000Z
UID:c72a5662-0e0f-4f2e-a785-91b9b6c58020@ClaytonBocce
DTSTART;TZID=America/Los_Angeles:20260429T183000
DTEND;TZID=America/Los_Angeles:20260429T210000
STATUS:CONFIRMED
SUMMARY:Sandbox Girls vs Bocce Sound Machine
URL:/League/Schedule/3223
DESCRIPTION:Regular Season match: Sandbox Girls vs Bocce Sou
 nd Machine
LOCATION:Newhall Court 6
END:VEVENT
BEGIN:VEVENT
DTSTAMP:20260426T000000Z
UID:917a1bb4-ecbb-46b8-8e6a-c9fb120fdbeb@ClaytonBocce
DTSTART;TZID=America/Los_Angeles:20260506T183000
DTEND;TZID=America/Los_Angeles:20260506T210000
STATUS:CONFIRMED
SUMMARY:Sandbox Girls vs Bocce Botch Ups
URL:/League/Schedule/3223
DESCRIPTION:Regular Season match: Sandbox Girls vs Bocce Bot
 ch Ups
LOCATION:Newhall Court 2
END:VEVENT
BEGIN:VEVENT
DTSTAMP:20260426T000000Z
UID:b0cbd938-8891-45c1-8d41-67b77fe4ea05@ClaytonBocce
DTSTART;TZID=America/Los_Angeles:20260513T183000
DTEND;TZID=America/Los_Angeles:20260513T210000
STATUS:CONFIRMED
SUMMARY:Sandbox Girls vs Ball Busters 2.0
URL:/League/Schedule/3223
DESCRIPTION:Regular Season match: Sandbox Girls vs Ball Bust
 ers 2.0
LOCATION:Newhall Court 4
END:VEVENT
BEGIN:VEVENT
DTSTAMP:20260426T000000Z
UID:49a42c05-5c88-42a1-b7a4-26ff70fe72aa@ClaytonBocce
DTSTART;TZID=America/Los_Angeles:20260520T183000
DTEND;TZID=America/Los_Angeles:20260520T210000
STATUS:CONFIRMED
SUMMARY:Sandbox Girls vs Earl's Crew (WCCC)
URL:/League/Schedule/3223
DESCRIPTION:Regular Season match: Sandbox Girls vs Earl's Cr
 ew (WCCC)
LOCATION:Newhall Court 1
END:VEVENT
BEGIN:VEVENT
DTSTAMP:20260426T000000Z
UID:8c1b4483-6ffe-4ebc-b84a-cded2588ec8a@ClaytonBocce
DTSTART;TZID=America/Los_Angeles:20260603T183000
DTEND;TZID=America/Los_Angeles:20260603T210000
STATUS:CONFIRMED
SUMMARY:Sandbox Girls vs Balls of Fire
URL:/League/Schedule/3223
DESCRIPTION:Regular Season match: Sandbox Girls vs Balls of 
 Fire
LOCATION:Newhall Court 8
END:VEVENT
BEGIN:VEVENT
DTSTAMP:20260426T000000Z
UID:33db2947-af11-4c83-8f1b-1eca1bade7ee@ClaytonBocce
DTSTART;TZID=America/Los_Angeles:20260610T183000
DTEND;TZID=America/Los_Angeles:20260610T210000
STATUS:CONFIRMED
SUMMARY:Sandbox Girls vs Bocce Cumari
URL:/League/Schedule/3223
DESCRIPTION:Regular Season match: Sandbox Girls vs Bocce Cum
 ari
LOCATION:Newhall Court 3
END:VEVENT
BEGIN:VEVENT
DTSTAMP:20260426T000000Z
UID:6f9bbd74-d72d-4f18-b5d4-84275ef2e8b5@ClaytonBocce
DTSTART;TZID=America/Los_Angeles:20260617T183000
DTEND;TZID=America/Los_Angeles:20260617T210000
STATUS:CONFIRMED
SUMMARY:Sandbox Girls vs Bocce Ball Buddies
URL:/League/Schedule/3223
DESCRIPTION:Regular Season match: Sandbox Girls vs Bocce Bal
 l Buddies
LOCATION:Newhall Court 7
END:VEVENT
BEGIN:VEVENT
DTSTAMP:20260426T000000Z
UID:f7af6233-32b9-470e-9807-7ab849e53bbb@ClaytonBocce
DTSTART;TZID=America/Los_Angeles:20260624T183000
DTEND;TZID=America/Los_Angeles:20260624T210000
STATUS:CONFIRMED
SUMMARY:Sandbox Girls vs Bocce Italiane
URL:/League/Schedule/3223
DESCRIPTION:Regular Season match: Sandbox Girls vs Bocce Ita
 liane
LOCATION:Newhall Court 4
END:VEVENT
BEGIN:VEVENT
DTSTAMP:20260426T000000Z
UID:0c5882cb-e080-4351-8fa7-2e5109cda9d3@ClaytonBocce
DTSTART;TZID=America/Los_Angeles:20260708T183000
DTEND;TZID=America/Los_Angeles:20260708T210000
STATUS:CONFIRMED
SUMMARY:Sandbox Girls vs Bocce Sound Machine
URL:/League/Schedule/3223
DESCRIPTION:Regular Season match: Sandbox Girls vs Bocce Sou
 nd Machine
LOCATION:Newhall Court 3
END:VEVENT
BEGIN:VEVENT
DTSTAMP:20260426T000000Z
UID:08bf1185-4ca7-449f-9055-c09ed096281e@ClaytonBocce
DTSTART;TZID=America/Los_Angeles:20260715T183000
DTEND;TZID=America/Los_Angeles:20260715T210000
STATUS:CONFIRMED
SUMMARY:Sandbox Girls vs Bocce Botch Ups
URL:/League/Schedule/3223
DESCRIPTION:Regular Season match: Sandbox Girls vs Bocce Bot
 ch Ups
LOCATION:Newhall Court 8
END:VEVENT
BEGIN:VEVENT
DTSTAMP:20260426T000000Z
UID:bd5f9a0c-f67e-4fdc-a20b-de3b8adf3d9f@ClaytonBocce
DTSTART;TZID=America/Los_Angeles:20260722T183000
DTEND;TZID=America/Los_Angeles:20260722T210000
STATUS:CONFIRMED
SUMMARY:Sandbox Girls vs Ball Busters 2.0
URL:/League/Schedule/3223
DESCRIPTION:Regular Season match: Sandbox Girls vs Ball Bust
 ers 2.0
LOCATION:Newhall Court 6
END:VEVENT
BEGIN:VEVENT
DTSTAMP:20260426T000000Z
UID:47e196c5-2bd5-4d68-a6c9-c90e4502a815@ClaytonBocce
DTSTART;TZID=America/Los_Angeles:20260729T183000
DTEND;TZID=America/Los_Angeles:20260729T210000
STATUS:CONFIRMED
SUMMARY:Sandbox Girls vs Earl's Crew (WCCC)
URL:/League/Schedule/3223
DESCRIPTION:Regular Season match: Sandbox Girls vs Earl's Cr
 ew (WCCC)
LOCATION:Newhall Court 2
END:VEVENT
BEGIN:VEVENT
DTSTAMP:20260426T000000Z
UID:7a35f7c0-f67d-450b-9b99-375a2848f4cc@ClaytonBocce
DTSTART;TZID=America/Los_Angeles:20260812T183000
DTEND;TZID=America/Los_Angeles:20260812T210000
STATUS:CONFIRMED
SUMMARY:Sandbox Girls vs Balls of Fire
URL:/League/Schedule/3223
DESCRIPTION:Regular Season match: Sandbox Girls vs Balls of 
 Fire
LOCATION:Newhall Court 7
END:VEVENT
BEGIN:VEVENT
DTSTAMP:20260426T000000Z
UID:737f883f-28f2-4d2f-96b6-7a64c682ac64@ClaytonBocce
DTSTART;TZID=America/Los_Angeles:20260819T183000
DTEND;TZID=America/Los_Angeles:20260819T210000
STATUS:CONFIRMED
SUMMARY:Sandbox Girls vs Bocce Cumari
URL:/League/Schedule/3223
DESCRIPTION:Regular Season match: Sandbox Girls vs Bocce Cum
 ari
LOCATION:Newhall Court 3
END:VEVENT
BEGIN:VEVENT
DTSTAMP:20260426T000000Z
UID:64b84e59-9ddd-40a4-a36c-51808d8733e6@ClaytonBocce
DTSTART;TZID=America/Los_Angeles:20260826T183000
DTEND;TZID=America/Los_Angeles:20260826T210000
STATUS:CONFIRMED
SUMMARY:Sandbox Girls vs Bocce Ball Buddies
URL:/League/Schedule/3223
DESCRIPTION:Regular Season match: Sandbox Girls vs Bocce Bal
 l Buddies
LOCATION:Newhall Court 5
END:VEVENT
BEGIN:VEVENT
DTSTAMP:20260426T000000Z
UID:3c27d4dd-8e60-46bc-b088-4bcd39452e9f@ClaytonBocce
DTSTART;TZID=America/Los_Angeles:20260902T183000
DTEND;TZID=America/Los_Angeles:20260902T210000
STATUS:CONFIRMED
SUMMARY:Sandbox Girls vs Bocce Italiane
URL:/League/Schedule/3223
DESCRIPTION:Regular Season match: Sandbox Girls vs Bocce Ita
 liane
LOCATION:Newhall Court 6
END:VEVENT
END:VCALENDAR
