BEGIN:VCALENDAR
VERSION:2.0
PRODID:-//Clayton Bocce League
METHOD:PUBLISH
BEGIN:VTIMEZONE
TZID:America/Los_Angeles
X-LIC-LOCATION:America/Los_Angeles
BEGIN:DAYLIGHT
TZOFFSETFROM:-0800
TZOFFSETTO:-0700
TZNAME:PDT
DTSTART:20070311T020000
RRULE:FREQ=YEARLY;BYMONTH=3;BYDAY=2SU
END:DAYLIGHT
BEGIN:STANDARD
TZOFFSETFROM:-0700
TZOFFSETTO:-0800
TZNAME:PST
DTSTART:20071104T020000
RRULE:FREQ=YEARLY;BYMONTH=11;BYDAY=1SU
END:STANDARD
END:VTIMEZONE
BEGIN:VEVENT
DTSTAMP:20260426T000000Z
UID:3bd87cc7-04dd-4d75-953d-61d9b253a55a@ClaytonBocce
DTSTART;TZID=America/Los_Angeles:20260429T183000
DTEND;TZID=America/Los_Angeles:20260429T210000
STATUS:CONFIRMED
SUMMARY:Bocce Ball Buddies vs Bocce Cumari
URL:/League/Schedule/3219
DESCRIPTION:Regular Season match: Bocce Ball Buddies vs Bocc
 e Cumari
LOCATION:Newhall Court 5
END:VEVENT
BEGIN:VEVENT
DTSTAMP:20260426T000000Z
UID:aac54374-5e95-4061-8135-0de941496541@ClaytonBocce
DTSTART;TZID=America/Los_Angeles:20260513T183000
DTEND;TZID=America/Los_Angeles:20260513T210000
STATUS:CONFIRMED
SUMMARY:Bocce Ball Buddies vs Bocce Italiane
URL:/League/Schedule/3219
DESCRIPTION:Regular Season match: Bocce Ball Buddies vs Bocc
 e Italiane
LOCATION:Newhall Court 8
END:VEVENT
BEGIN:VEVENT
DTSTAMP:20260426T000000Z
UID:e3f157c2-8d1d-413e-ac2c-19c6fdd7de59@ClaytonBocce
DTSTART;TZID=America/Los_Angeles:20260520T183000
DTEND;TZID=America/Los_Angeles:20260520T210000
STATUS:CONFIRMED
SUMMARY:Bocce Ball Buddies vs Bocce Sound Machine
URL:/League/Schedule/3219
DESCRIPTION:Regular Season match: Bocce Ball Buddies vs Bocc
 e Sound Machine
LOCATION:Newhall Court 3
END:VEVENT
BEGIN:VEVENT
DTSTAMP:20260426T000000Z
UID:f808f6f4-d89c-4939-ad41-931c0fcbaad3@ClaytonBocce
DTSTART;TZID=America/Los_Angeles:20260527T183000
DTEND;TZID=America/Los_Angeles:20260527T210000
STATUS:CONFIRMED
SUMMARY:Bocce Ball Buddies vs Bocce Botch Ups
URL:/League/Schedule/3219
DESCRIPTION:Regular Season match: Bocce Ball Buddies vs Bocc
 e Botch Ups
LOCATION:Newhall Court 7
END:VEVENT
BEGIN:VEVENT
DTSTAMP:20260426T000000Z
UID:a1612d05-f2c2-4faf-b142-43bfbd75bf68@ClaytonBocce
DTSTART;TZID=America/Los_Angeles:20260603T183000
DTEND;TZID=America/Los_Angeles:20260603T210000
STATUS:CONFIRMED
SUMMARY:Bocce Ball Buddies vs Ball Busters 2.0
URL:/League/Schedule/3219
DESCRIPTION:Regular Season match: Bocce Ball Buddies vs Ball
  Busters 2.0
LOCATION:Newhall Court 5
END:VEVENT
BEGIN:VEVENT
DTSTAMP:20260426T000000Z
UID:c2dc93f2-7e45-43b6-b2c7-c59a4f07564d@ClaytonBocce
DTSTART;TZID=America/Los_Angeles:20260610T183000
DTEND;TZID=America/Los_Angeles:20260610T210000
STATUS:CONFIRMED
SUMMARY:Bocce Ball Buddies vs Earl's Crew (WCCC)
URL:/League/Schedule/3219
DESCRIPTION:Regular Season match: Bocce Ball Buddies vs Earl
 's Crew (WCCC)
LOCATION:Newhall Court 6
END:VEVENT
BEGIN:VEVENT
DTSTAMP:20260426T000000Z
UID:6f9bbd74-d72d-4f18-b5d4-84275ef2e8b5@ClaytonBocce
DTSTART;TZID=America/Los_Angeles:20260617T183000
DTEND;TZID=America/Los_Angeles:20260617T210000
STATUS:CONFIRMED
SUMMARY:Bocce Ball Buddies vs Sandbox Girls
URL:/League/Schedule/3219
DESCRIPTION:Regular Season match: Bocce Ball Buddies vs Sand
 box Girls
LOCATION:Newhall Court 7
END:VEVENT
BEGIN:VEVENT
DTSTAMP:20260426T000000Z
UID:f02846b9-ea78-446e-bf4a-12c6ca6c1372@ClaytonBocce
DTSTART;TZID=America/Los_Angeles:20260624T183000
DTEND;TZID=America/Los_Angeles:20260624T210000
STATUS:CONFIRMED
SUMMARY:Bocce Ball Buddies vs Balls of Fire
URL:/League/Schedule/3219
DESCRIPTION:Regular Season match: Bocce Ball Buddies vs Ball
 s of Fire
LOCATION:Newhall Court 2
END:VEVENT
BEGIN:VEVENT
DTSTAMP:20260426T000000Z
UID:ab06312a-990a-4c45-8406-21ea75c6c619@ClaytonBocce
DTSTART;TZID=America/Los_Angeles:20260708T183000
DTEND;TZID=America/Los_Angeles:20260708T210000
STATUS:CONFIRMED
SUMMARY:Bocce Ball Buddies vs Bocce Cumari
URL:/League/Schedule/3219
DESCRIPTION:Regular Season match: Bocce Ball Buddies vs Bocc
 e Cumari
LOCATION:Newhall Court 4
END:VEVENT
BEGIN:VEVENT
DTSTAMP:20260426T000000Z
UID:ce6dab47-9195-40da-a75a-91d9fda530fa@ClaytonBocce
DTSTART;TZID=America/Los_Angeles:20260722T183000
DTEND;TZID=America/Los_Angeles:20260722T210000
STATUS:CONFIRMED
SUMMARY:Bocce Ball Buddies vs Bocce Italiane
URL:/League/Schedule/3219
DESCRIPTION:Regular Season match: Bocce Ball Buddies vs Bocc
 e Italiane
LOCATION:Newhall Court 1
END:VEVENT
BEGIN:VEVENT
DTSTAMP:20260426T000000Z
UID:2081555e-dab9-4b51-ba63-525688973b60@ClaytonBocce
DTSTART;TZID=America/Los_Angeles:20260729T183000
DTEND;TZID=America/Los_Angeles:20260729T210000
STATUS:CONFIRMED
SUMMARY:Bocce Ball Buddies vs Bocce Sound Machine
URL:/League/Schedule/3219
DESCRIPTION:Regular Season match: Bocce Ball Buddies vs Bocc
 e Sound Machine
LOCATION:Newhall Court 6
END:VEVENT
BEGIN:VEVENT
DTSTAMP:20260426T000000Z
UID:ed1b088b-5d98-4b2f-85bb-11e2a4256462@ClaytonBocce
DTSTART;TZID=America/Los_Angeles:20260805T183000
DTEND;TZID=America/Los_Angeles:20260805T210000
STATUS:CONFIRMED
SUMMARY:Bocce Ball Buddies vs Bocce Botch Ups
URL:/League/Schedule/3219
DESCRIPTION:Regular Season match: Bocce Ball Buddies vs Bocc
 e Botch Ups
LOCATION:Newhall Court 4
END:VEVENT
BEGIN:VEVENT
DTSTAMP:20260426T000000Z
UID:afa72bc3-543b-4503-9110-6d164a2f5305@ClaytonBocce
DTSTART;TZID=America/Los_Angeles:20260812T183000
DTEND;TZID=America/Los_Angeles:20260812T210000
STATUS:CONFIRMED
SUMMARY:Bocce Ball Buddies vs Ball Busters 2.0
URL:/League/Schedule/3219
DESCRIPTION:Regular Season match: Bocce Ball Buddies vs Ball
  Busters 2.0
LOCATION:Newhall Court 8
END:VEVENT
BEGIN:VEVENT
DTSTAMP:20260426T000000Z
UID:800149bd-85f5-4ec3-8d2f-5e5da2975201@ClaytonBocce
DTSTART;TZID=America/Los_Angeles:20260819T183000
DTEND;TZID=America/Los_Angeles:20260819T210000
STATUS:CONFIRMED
SUMMARY:Bocce Ball Buddies vs Earl's Crew (WCCC)
URL:/League/Schedule/3219
DESCRIPTION:Regular Season match: Bocce Ball Buddies vs Earl
 's Crew (WCCC)
LOCATION:Newhall Court 7
END:VEVENT
BEGIN:VEVENT
DTSTAMP:20260426T000000Z
UID:64b84e59-9ddd-40a4-a36c-51808d8733e6@ClaytonBocce
DTSTART;TZID=America/Los_Angeles:20260826T183000
DTEND;TZID=America/Los_Angeles:20260826T210000
STATUS:CONFIRMED
SUMMARY:Bocce Ball Buddies vs Sandbox Girls
URL:/League/Schedule/3219
DESCRIPTION:Regular Season match: Bocce Ball Buddies vs Sand
 box Girls
LOCATION:Newhall Court 5
END:VEVENT
BEGIN:VEVENT
DTSTAMP:20260426T000000Z
UID:69c33742-5eee-47b9-8390-e84bd9957d46@ClaytonBocce
DTSTART;TZID=America/Los_Angeles:20260902T183000
DTEND;TZID=America/Los_Angeles:20260902T210000
STATUS:CONFIRMED
SUMMARY:Bocce Ball Buddies vs Balls of Fire
URL:/League/Schedule/3219
DESCRIPTION:Regular Season match: Bocce Ball Buddies vs Ball
 s of Fire
LOCATION:Newhall Court 3
END:VEVENT
END:VCALENDAR
