BEGIN:VCALENDAR
VERSION:2.0
PRODID:-//Clayton Bocce League
METHOD:PUBLISH
BEGIN:VTIMEZONE
TZID:America/Los_Angeles
X-LIC-LOCATION:America/Los_Angeles
BEGIN:DAYLIGHT
TZOFFSETFROM:-0800
TZOFFSETTO:-0700
TZNAME:PDT
DTSTART:20070311T020000
RRULE:FREQ=YEARLY;BYMONTH=3;BYDAY=2SU
END:DAYLIGHT
BEGIN:STANDARD
TZOFFSETFROM:-0700
TZOFFSETTO:-0800
TZNAME:PST
DTSTART:20071104T020000
RRULE:FREQ=YEARLY;BYMONTH=11;BYDAY=1SU
END:STANDARD
END:VTIMEZONE
BEGIN:VEVENT
DTSTAMP:20260426T000000Z
UID:3bd87cc7-04dd-4d75-953d-61d9b253a55a@ClaytonBocce
DTSTART;TZID=America/Los_Angeles:20260429T183000
DTEND;TZID=America/Los_Angeles:20260429T210000
STATUS:CONFIRMED
SUMMARY:Bocce Cumari vs Bocce Ball Buddies
URL:/League/Schedule/3212
DESCRIPTION:Regular Season match: Bocce Cumari vs Bocce Ball
  Buddies
LOCATION:Newhall Court 5
END:VEVENT
BEGIN:VEVENT
DTSTAMP:20260426T000000Z
UID:7b7d2497-b9fd-47ac-b714-8d5f0600efb0@ClaytonBocce
DTSTART;TZID=America/Los_Angeles:20260506T183000
DTEND;TZID=America/Los_Angeles:20260506T210000
STATUS:CONFIRMED
SUMMARY:Bocce Cumari vs Bocce Italiane
URL:/League/Schedule/3212
DESCRIPTION:Regular Season match: Bocce Cumari vs Bocce Ital
 iane
LOCATION:Newhall Court 3
END:VEVENT
BEGIN:VEVENT
DTSTAMP:20260426T000000Z
UID:4de19f92-fccf-48a4-8957-e719145877da@ClaytonBocce
DTSTART;TZID=America/Los_Angeles:20260513T183000
DTEND;TZID=America/Los_Angeles:20260513T210000
STATUS:CONFIRMED
SUMMARY:Bocce Cumari vs Bocce Sound Machine
URL:/League/Schedule/3212
DESCRIPTION:Regular Season match: Bocce Cumari vs Bocce Soun
 d Machine
LOCATION:Newhall Court 2
END:VEVENT
BEGIN:VEVENT
DTSTAMP:20260426T000000Z
UID:3415cb1d-fac2-45d2-b424-6e8d27bc3fff@ClaytonBocce
DTSTART;TZID=America/Los_Angeles:20260520T183000
DTEND;TZID=America/Los_Angeles:20260520T210000
STATUS:CONFIRMED
SUMMARY:Bocce Cumari vs Bocce Botch Ups
URL:/League/Schedule/3212
DESCRIPTION:Regular Season match: Bocce Cumari vs Bocce Botc
 h Ups
LOCATION:Newhall Court 6
END:VEVENT
BEGIN:VEVENT
DTSTAMP:20260426T000000Z
UID:cbaa2729-50fa-4f90-9595-e33737d77f27@ClaytonBocce
DTSTART;TZID=America/Los_Angeles:20260527T183000
DTEND;TZID=America/Los_Angeles:20260527T210000
STATUS:CONFIRMED
SUMMARY:Bocce Cumari vs Ball Busters 2.0
URL:/League/Schedule/3212
DESCRIPTION:Regular Season match: Bocce Cumari vs Ball Buste
 rs 2.0
LOCATION:Newhall Court 1
END:VEVENT
BEGIN:VEVENT
DTSTAMP:20260426T000000Z
UID:77ecb7b9-911f-4e7f-b97b-ce2b32519781@ClaytonBocce
DTSTART;TZID=America/Los_Angeles:20260603T183000
DTEND;TZID=America/Los_Angeles:20260603T210000
STATUS:CONFIRMED
SUMMARY:Bocce Cumari vs Earl's Crew (WCCC)
URL:/League/Schedule/3212
DESCRIPTION:Regular Season match: Bocce Cumari vs Earl's Cre
 w (WCCC)
LOCATION:Newhall Court 7
END:VEVENT
BEGIN:VEVENT
DTSTAMP:20260426T000000Z
UID:33db2947-af11-4c83-8f1b-1eca1bade7ee@ClaytonBocce
DTSTART;TZID=America/Los_Angeles:20260610T183000
DTEND;TZID=America/Los_Angeles:20260610T210000
STATUS:CONFIRMED
SUMMARY:Bocce Cumari vs Sandbox Girls
URL:/League/Schedule/3212
DESCRIPTION:Regular Season match: Bocce Cumari vs Sandbox Gi
 rls
LOCATION:Newhall Court 3
END:VEVENT
BEGIN:VEVENT
DTSTAMP:20260426T000000Z
UID:bec52765-252d-42bb-b266-e520bb4d8bec@ClaytonBocce
DTSTART;TZID=America/Los_Angeles:20260617T183000
DTEND;TZID=America/Los_Angeles:20260617T210000
STATUS:CONFIRMED
SUMMARY:Bocce Cumari vs Balls of Fire
URL:/League/Schedule/3212
DESCRIPTION:Regular Season match: Bocce Cumari vs Balls of F
 ire
LOCATION:Newhall Court 6
END:VEVENT
BEGIN:VEVENT
DTSTAMP:20260426T000000Z
UID:ab06312a-990a-4c45-8406-21ea75c6c619@ClaytonBocce
DTSTART;TZID=America/Los_Angeles:20260708T183000
DTEND;TZID=America/Los_Angeles:20260708T210000
STATUS:CONFIRMED
SUMMARY:Bocce Cumari vs Bocce Ball Buddies
URL:/League/Schedule/3212
DESCRIPTION:Regular Season match: Bocce Cumari vs Bocce Ball
  Buddies
LOCATION:Newhall Court 4
END:VEVENT
BEGIN:VEVENT
DTSTAMP:20260426T000000Z
UID:807b0fe6-304d-425a-84c5-2610db5058c2@ClaytonBocce
DTSTART;TZID=America/Los_Angeles:20260715T183000
DTEND;TZID=America/Los_Angeles:20260715T210000
STATUS:CONFIRMED
SUMMARY:Bocce Cumari vs Bocce Italiane
URL:/League/Schedule/3212
DESCRIPTION:Regular Season match: Bocce Cumari vs Bocce Ital
 iane
LOCATION:Newhall Court 2
END:VEVENT
BEGIN:VEVENT
DTSTAMP:20260426T000000Z
UID:5bdcd848-5cf1-42e9-ba3e-582bc9cb27b9@ClaytonBocce
DTSTART;TZID=America/Los_Angeles:20260722T183000
DTEND;TZID=America/Los_Angeles:20260722T210000
STATUS:CONFIRMED
SUMMARY:Bocce Cumari vs Bocce Sound Machine
URL:/League/Schedule/3212
DESCRIPTION:Regular Season match: Bocce Cumari vs Bocce Soun
 d Machine
LOCATION:Newhall Court 8
END:VEVENT
BEGIN:VEVENT
DTSTAMP:20260426T000000Z
UID:528dd2f7-debc-45c0-ad8a-4ed49f0f32f5@ClaytonBocce
DTSTART;TZID=America/Los_Angeles:20260729T183000
DTEND;TZID=America/Los_Angeles:20260729T210000
STATUS:CONFIRMED
SUMMARY:Bocce Cumari vs Bocce Botch Ups
URL:/League/Schedule/3212
DESCRIPTION:Regular Season match: Bocce Cumari vs Bocce Botc
 h Ups
LOCATION:Newhall Court 5
END:VEVENT
BEGIN:VEVENT
DTSTAMP:20260426T000000Z
UID:7b2e9aae-1caf-4842-bed5-43e284cf15ce@ClaytonBocce
DTSTART;TZID=America/Los_Angeles:20260805T183000
DTEND;TZID=America/Los_Angeles:20260805T210000
STATUS:CONFIRMED
SUMMARY:Bocce Cumari vs Ball Busters 2.0
URL:/League/Schedule/3212
DESCRIPTION:Regular Season match: Bocce Cumari vs Ball Buste
 rs 2.0
LOCATION:Newhall Court 1
END:VEVENT
BEGIN:VEVENT
DTSTAMP:20260426T000000Z
UID:5981b4b5-d15a-4c9b-b3b4-ee7946d6b4ee@ClaytonBocce
DTSTART;TZID=America/Los_Angeles:20260812T183000
DTEND;TZID=America/Los_Angeles:20260812T210000
STATUS:CONFIRMED
SUMMARY:Bocce Cumari vs Earl's Crew (WCCC)
URL:/League/Schedule/3212
DESCRIPTION:Regular Season match: Bocce Cumari vs Earl's Cre
 w (WCCC)
LOCATION:Newhall Court 4
END:VEVENT
BEGIN:VEVENT
DTSTAMP:20260426T000000Z
UID:737f883f-28f2-4d2f-96b6-7a64c682ac64@ClaytonBocce
DTSTART;TZID=America/Los_Angeles:20260819T183000
DTEND;TZID=America/Los_Angeles:20260819T210000
STATUS:CONFIRMED
SUMMARY:Bocce Cumari vs Sandbox Girls
URL:/League/Schedule/3212
DESCRIPTION:Regular Season match: Bocce Cumari vs Sandbox Gi
 rls
LOCATION:Newhall Court 3
END:VEVENT
BEGIN:VEVENT
DTSTAMP:20260426T000000Z
UID:de349c2d-b874-4578-9d55-735229c0d3ae@ClaytonBocce
DTSTART;TZID=America/Los_Angeles:20260826T183000
DTEND;TZID=America/Los_Angeles:20260826T210000
STATUS:CONFIRMED
SUMMARY:Bocce Cumari vs Balls of Fire
URL:/League/Schedule/3212
DESCRIPTION:Regular Season match: Bocce Cumari vs Balls of F
 ire
LOCATION:Newhall Court 2
END:VEVENT
END:VCALENDAR
