BEGIN:VCALENDAR
VERSION:2.0
PRODID:-//Clayton Bocce League
METHOD:PUBLISH
BEGIN:VTIMEZONE
TZID:America/Los_Angeles
X-LIC-LOCATION:America/Los_Angeles
BEGIN:DAYLIGHT
TZOFFSETFROM:-0800
TZOFFSETTO:-0700
TZNAME:PDT
DTSTART:20070311T020000
RRULE:FREQ=YEARLY;BYMONTH=3;BYDAY=2SU
END:DAYLIGHT
BEGIN:STANDARD
TZOFFSETFROM:-0700
TZOFFSETTO:-0800
TZNAME:PST
DTSTART:20071104T020000
RRULE:FREQ=YEARLY;BYMONTH=11;BYDAY=1SU
END:STANDARD
END:VTIMEZONE
BEGIN:VEVENT
DTSTAMP:20260426T000000Z
UID:093e73fa-8754-4d2f-a8a2-2d0542a57513@ClaytonBocce
DTSTART;TZID=America/Los_Angeles:20260429T183000
DTEND;TZID=America/Los_Angeles:20260429T210000
STATUS:CONFIRMED
SUMMARY:Mission Imbocce vs Bocce Mo's
URL:/League/Schedule/3224
DESCRIPTION:Regular Season match: Mission Imbocce vs Bocce M
 o's
LOCATION:Newhall Court 2
END:VEVENT
BEGIN:VEVENT
DTSTAMP:20260426T000000Z
UID:32bc75b8-5b89-4a35-9e03-463516fa72c3@ClaytonBocce
DTSTART;TZID=America/Los_Angeles:20260506T183000
DTEND;TZID=America/Los_Angeles:20260506T210000
STATUS:CONFIRMED
SUMMARY:Mission Imbocce vs Crushers
URL:/League/Schedule/3224
DESCRIPTION:Regular Season match: Mission Imbocce vs Crusher
 s
LOCATION:Newhall Court 8
END:VEVENT
BEGIN:VEVENT
DTSTAMP:20260426T000000Z
UID:b996a605-f898-4908-8ede-102c4e739a78@ClaytonBocce
DTSTART;TZID=America/Los_Angeles:20260520T183000
DTEND;TZID=America/Los_Angeles:20260520T210000
STATUS:CONFIRMED
SUMMARY:Mission Imbocce vs Rat Pack
URL:/League/Schedule/3224
DESCRIPTION:Regular Season match: Mission Imbocce vs Rat Pac
 k
LOCATION:Newhall Court 7
END:VEVENT
BEGIN:VEVENT
DTSTAMP:20260426T000000Z
UID:770bc1ee-2317-4862-8505-f304c4fc6994@ClaytonBocce
DTSTART;TZID=America/Los_Angeles:20260527T183000
DTEND;TZID=America/Los_Angeles:20260527T210000
STATUS:CONFIRMED
SUMMARY:Mission Imbocce vs 4 Watch 4 Play
URL:/League/Schedule/3224
DESCRIPTION:Regular Season match: Mission Imbocce vs 4 Watch
  4 Play
LOCATION:Newhall Court 6
END:VEVENT
BEGIN:VEVENT
DTSTAMP:20260426T000000Z
UID:bb94e7e2-8a1a-4a28-a16f-42a19894441b@ClaytonBocce
DTSTART;TZID=America/Los_Angeles:20260603T183000
DTEND;TZID=America/Los_Angeles:20260603T210000
STATUS:CONFIRMED
SUMMARY:Mission Imbocce vs Spot Club
URL:/League/Schedule/3224
DESCRIPTION:Regular Season match: Mission Imbocce vs Spot Cl
 ub
LOCATION:Newhall Court 3
END:VEVENT
BEGIN:VEVENT
DTSTAMP:20260426T000000Z
UID:9d78a7e9-96d8-4fec-b2e4-2a94cae696b2@ClaytonBocce
DTSTART;TZID=America/Los_Angeles:20260610T183000
DTEND;TZID=America/Los_Angeles:20260610T210000
STATUS:CONFIRMED
SUMMARY:Mission Imbocce vs Bank Rollers
URL:/League/Schedule/3224
DESCRIPTION:Regular Season match: Mission Imbocce vs Bank Ro
 llers
LOCATION:Newhall Court 4
END:VEVENT
BEGIN:VEVENT
DTSTAMP:20260426T000000Z
UID:2ae7bb14-d11e-4a67-912d-73c855b6b374@ClaytonBocce
DTSTART;TZID=America/Los_Angeles:20260617T183000
DTEND;TZID=America/Los_Angeles:20260617T210000
STATUS:CONFIRMED
SUMMARY:Mission Imbocce vs Squeaks Bunch
URL:/League/Schedule/3224
DESCRIPTION:Regular Season match: Mission Imbocce vs Squeaks
  Bunch
LOCATION:Newhall Court 2
END:VEVENT
BEGIN:VEVENT
DTSTAMP:20260426T000000Z
UID:2336cf23-e79b-4fa9-95d2-02be9690a844@ClaytonBocce
DTSTART;TZID=America/Los_Angeles:20260624T183000
DTEND;TZID=America/Los_Angeles:20260624T210000
STATUS:CONFIRMED
SUMMARY:Mission Imbocce vs Off The Rails
URL:/League/Schedule/3224
DESCRIPTION:Regular Season match: Mission Imbocce vs Off The
  Rails
LOCATION:Newhall Court 1
END:VEVENT
BEGIN:VEVENT
DTSTAMP:20260426T000000Z
UID:f75dc1e5-cddb-4223-b914-2d2205b67788@ClaytonBocce
DTSTART;TZID=America/Los_Angeles:20260708T183000
DTEND;TZID=America/Los_Angeles:20260708T210000
STATUS:CONFIRMED
SUMMARY:Mission Imbocce vs Bocce Mo's
URL:/League/Schedule/3224
DESCRIPTION:Regular Season match: Mission Imbocce vs Bocce M
 o's
LOCATION:Newhall Court 6
END:VEVENT
BEGIN:VEVENT
DTSTAMP:20260426T000000Z
UID:91e64ae5-877e-48c6-b0e8-13316208accd@ClaytonBocce
DTSTART;TZID=America/Los_Angeles:20260715T183000
DTEND;TZID=America/Los_Angeles:20260715T210000
STATUS:CONFIRMED
SUMMARY:Mission Imbocce vs Crushers
URL:/League/Schedule/3224
DESCRIPTION:Regular Season match: Mission Imbocce vs Crusher
 s
LOCATION:Newhall Court 5
END:VEVENT
BEGIN:VEVENT
DTSTAMP:20260426T000000Z
UID:edf0ad87-7092-457b-82bf-605ffe9e39f2@ClaytonBocce
DTSTART;TZID=America/Los_Angeles:20260729T183000
DTEND;TZID=America/Los_Angeles:20260729T210000
STATUS:CONFIRMED
SUMMARY:Mission Imbocce vs Rat Pack
URL:/League/Schedule/3224
DESCRIPTION:Regular Season match: Mission Imbocce vs Rat Pac
 k
LOCATION:Newhall Court 7
END:VEVENT
BEGIN:VEVENT
DTSTAMP:20260426T000000Z
UID:0b2ab293-bce1-41e6-ab9f-fe01878507af@ClaytonBocce
DTSTART;TZID=America/Los_Angeles:20260805T183000
DTEND;TZID=America/Los_Angeles:20260805T210000
STATUS:CONFIRMED
SUMMARY:Mission Imbocce vs 4 Watch 4 Play
URL:/League/Schedule/3224
DESCRIPTION:Regular Season match: Mission Imbocce vs 4 Watch
  4 Play
LOCATION:Newhall Court 3
END:VEVENT
BEGIN:VEVENT
DTSTAMP:20260426T000000Z
UID:4f5e8cf4-6611-4490-bbea-932db2f52ee2@ClaytonBocce
DTSTART;TZID=America/Los_Angeles:20260812T183000
DTEND;TZID=America/Los_Angeles:20260812T210000
STATUS:CONFIRMED
SUMMARY:Mission Imbocce vs Spot Club
URL:/League/Schedule/3224
DESCRIPTION:Regular Season match: Mission Imbocce vs Spot Cl
 ub
LOCATION:Newhall Court 2
END:VEVENT
BEGIN:VEVENT
DTSTAMP:20260426T000000Z
UID:511c7800-fa26-42ad-a99e-3ed7f7c2528a@ClaytonBocce
DTSTART;TZID=America/Los_Angeles:20260819T183000
DTEND;TZID=America/Los_Angeles:20260819T210000
STATUS:CONFIRMED
SUMMARY:Mission Imbocce vs Bank Rollers
URL:/League/Schedule/3224
DESCRIPTION:Regular Season match: Mission Imbocce vs Bank Ro
 llers
LOCATION:Newhall Court 1
END:VEVENT
BEGIN:VEVENT
DTSTAMP:20260426T000000Z
UID:21463de8-5d5e-4953-a970-8287045c7582@ClaytonBocce
DTSTART;TZID=America/Los_Angeles:20260826T183000
DTEND;TZID=America/Los_Angeles:20260826T210000
STATUS:CONFIRMED
SUMMARY:Mission Imbocce vs Squeaks Bunch
URL:/League/Schedule/3224
DESCRIPTION:Regular Season match: Mission Imbocce vs Squeaks
  Bunch
LOCATION:Newhall Court 4
END:VEVENT
BEGIN:VEVENT
DTSTAMP:20260426T000000Z
UID:67995753-7e3d-40fc-8296-ad7e0d547a22@ClaytonBocce
DTSTART;TZID=America/Los_Angeles:20260902T183000
DTEND;TZID=America/Los_Angeles:20260902T210000
STATUS:CONFIRMED
SUMMARY:Mission Imbocce vs Off The Rails
URL:/League/Schedule/3224
DESCRIPTION:Regular Season match: Mission Imbocce vs Off The
  Rails
LOCATION:Newhall Court 8
END:VEVENT
END:VCALENDAR
