BEGIN:VCALENDAR
VERSION:2.0
PRODID:-//Clayton Bocce League
METHOD:PUBLISH
BEGIN:VTIMEZONE
TZID:America/Los_Angeles
X-LIC-LOCATION:America/Los_Angeles
BEGIN:DAYLIGHT
TZOFFSETFROM:-0800
TZOFFSETTO:-0700
TZNAME:PDT
DTSTART:20070311T020000
RRULE:FREQ=YEARLY;BYMONTH=3;BYDAY=2SU
END:DAYLIGHT
BEGIN:STANDARD
TZOFFSETFROM:-0700
TZOFFSETTO:-0800
TZNAME:PST
DTSTART:20071104T020000
RRULE:FREQ=YEARLY;BYMONTH=11;BYDAY=1SU
END:STANDARD
END:VTIMEZONE
BEGIN:VEVENT
DTSTAMP:20260426T000000Z
UID:093e73fa-8754-4d2f-a8a2-2d0542a57513@ClaytonBocce
DTSTART;TZID=America/Los_Angeles:20260429T183000
DTEND;TZID=America/Los_Angeles:20260429T210000
STATUS:CONFIRMED
SUMMARY:Bocce Mo's vs Mission Imbocce
URL:/League/Schedule/3209
DESCRIPTION:Regular Season match: Bocce Mo's vs Mission Imbo
 cce
LOCATION:Newhall Court 2
END:VEVENT
BEGIN:VEVENT
DTSTAMP:20260426T000000Z
UID:96cd390c-23b1-422f-880f-e12a2e879946@ClaytonBocce
DTSTART;TZID=America/Los_Angeles:20260506T183000
DTEND;TZID=America/Los_Angeles:20260506T210000
STATUS:CONFIRMED
SUMMARY:Bocce Mo's vs Rat Pack
URL:/League/Schedule/3209
DESCRIPTION:Regular Season match: Bocce Mo's vs Rat Pack
LOCATION:Newhall Court 1
END:VEVENT
BEGIN:VEVENT
DTSTAMP:20260426T000000Z
UID:130da404-5de9-44fa-9fc5-fad2841b3136@ClaytonBocce
DTSTART;TZID=America/Los_Angeles:20260513T183000
DTEND;TZID=America/Los_Angeles:20260513T210000
STATUS:CONFIRMED
SUMMARY:Bocce Mo's vs 4 Watch 4 Play
URL:/League/Schedule/3209
DESCRIPTION:Regular Season match: Bocce Mo's vs 4 Watch 4 Pl
 ay
LOCATION:Newhall Court 5
END:VEVENT
BEGIN:VEVENT
DTSTAMP:20260426T000000Z
UID:98788da6-fc59-4d6e-b51a-f5f6abc71fb7@ClaytonBocce
DTSTART;TZID=America/Los_Angeles:20260520T183000
DTEND;TZID=America/Los_Angeles:20260520T210000
STATUS:CONFIRMED
SUMMARY:Bocce Mo's vs Spot Club
URL:/League/Schedule/3209
DESCRIPTION:Regular Season match: Bocce Mo's vs Spot Club
LOCATION:Newhall Court 8
END:VEVENT
BEGIN:VEVENT
DTSTAMP:20260426T000000Z
UID:aa35be8d-cc87-496e-a039-eed5f895a299@ClaytonBocce
DTSTART;TZID=America/Los_Angeles:20260527T183000
DTEND;TZID=America/Los_Angeles:20260527T210000
STATUS:CONFIRMED
SUMMARY:Bocce Mo's vs Bank Rollers
URL:/League/Schedule/3209
DESCRIPTION:Regular Season match: Bocce Mo's vs Bank Rollers
LOCATION:Newhall Court 3
END:VEVENT
BEGIN:VEVENT
DTSTAMP:20260426T000000Z
UID:e8cfa854-fb9f-4ce3-86b7-6cead75bad11@ClaytonBocce
DTSTART;TZID=America/Los_Angeles:20260603T183000
DTEND;TZID=America/Los_Angeles:20260603T210000
STATUS:CONFIRMED
SUMMARY:Bocce Mo's vs Squeaks Bunch
URL:/League/Schedule/3209
DESCRIPTION:Regular Season match: Bocce Mo's vs Squeaks Bunc
 h
LOCATION:Newhall Court 4
END:VEVENT
BEGIN:VEVENT
DTSTAMP:20260426T000000Z
UID:d434dfac-b32b-4428-b9cb-ed1b54ed988a@ClaytonBocce
DTSTART;TZID=America/Los_Angeles:20260610T183000
DTEND;TZID=America/Los_Angeles:20260610T210000
STATUS:CONFIRMED
SUMMARY:Bocce Mo's vs Off The Rails
URL:/League/Schedule/3209
DESCRIPTION:Regular Season match: Bocce Mo's vs Off The Rail
 s
LOCATION:Newhall Court 5
END:VEVENT
BEGIN:VEVENT
DTSTAMP:20260426T000000Z
UID:8e7433de-7ee3-4b43-9198-b14524459283@ClaytonBocce
DTSTART;TZID=America/Los_Angeles:20260624T183000
DTEND;TZID=America/Los_Angeles:20260624T210000
STATUS:CONFIRMED
SUMMARY:Bocce Mo's vs Crushers
URL:/League/Schedule/3209
DESCRIPTION:Regular Season match: Bocce Mo's vs Crushers
LOCATION:Newhall Court 7
END:VEVENT
BEGIN:VEVENT
DTSTAMP:20260426T000000Z
UID:f75dc1e5-cddb-4223-b914-2d2205b67788@ClaytonBocce
DTSTART;TZID=America/Los_Angeles:20260708T183000
DTEND;TZID=America/Los_Angeles:20260708T210000
STATUS:CONFIRMED
SUMMARY:Bocce Mo's vs Mission Imbocce
URL:/League/Schedule/3209
DESCRIPTION:Regular Season match: Bocce Mo's vs Mission Imbo
 cce
LOCATION:Newhall Court 6
END:VEVENT
BEGIN:VEVENT
DTSTAMP:20260426T000000Z
UID:c55e94c3-e03e-4989-b21a-125d8626c447@ClaytonBocce
DTSTART;TZID=America/Los_Angeles:20260715T183000
DTEND;TZID=America/Los_Angeles:20260715T210000
STATUS:CONFIRMED
SUMMARY:Bocce Mo's vs Rat Pack
URL:/League/Schedule/3209
DESCRIPTION:Regular Season match: Bocce Mo's vs Rat Pack
LOCATION:Newhall Court 3
END:VEVENT
BEGIN:VEVENT
DTSTAMP:20260426T000000Z
UID:ff244591-cc7a-4bc5-94b1-dfd99d46ecea@ClaytonBocce
DTSTART;TZID=America/Los_Angeles:20260722T183000
DTEND;TZID=America/Los_Angeles:20260722T210000
STATUS:CONFIRMED
SUMMARY:Bocce Mo's vs 4 Watch 4 Play
URL:/League/Schedule/3209
DESCRIPTION:Regular Season match: Bocce Mo's vs 4 Watch 4 Pl
 ay
LOCATION:Newhall Court 2
END:VEVENT
BEGIN:VEVENT
DTSTAMP:20260426T000000Z
UID:091d29ac-4cb0-4859-8d1a-1921304bd50e@ClaytonBocce
DTSTART;TZID=America/Los_Angeles:20260729T183000
DTEND;TZID=America/Los_Angeles:20260729T210000
STATUS:CONFIRMED
SUMMARY:Bocce Mo's vs Spot Club
URL:/League/Schedule/3209
DESCRIPTION:Regular Season match: Bocce Mo's vs Spot Club
LOCATION:Newhall Court 1
END:VEVENT
BEGIN:VEVENT
DTSTAMP:20260426T000000Z
UID:a457dfa3-f173-4944-bbe7-a4384cb10ea0@ClaytonBocce
DTSTART;TZID=America/Los_Angeles:20260805T183000
DTEND;TZID=America/Los_Angeles:20260805T210000
STATUS:CONFIRMED
SUMMARY:Bocce Mo's vs Bank Rollers
URL:/League/Schedule/3209
DESCRIPTION:Regular Season match: Bocce Mo's vs Bank Rollers
LOCATION:Newhall Court 2
END:VEVENT
BEGIN:VEVENT
DTSTAMP:20260426T000000Z
UID:28019b38-2e0e-46ab-af2a-1f1026e206f5@ClaytonBocce
DTSTART;TZID=America/Los_Angeles:20260812T183000
DTEND;TZID=America/Los_Angeles:20260812T210000
STATUS:CONFIRMED
SUMMARY:Bocce Mo's vs Squeaks Bunch
URL:/League/Schedule/3209
DESCRIPTION:Regular Season match: Bocce Mo's vs Squeaks Bunc
 h
LOCATION:Newhall Court 6
END:VEVENT
BEGIN:VEVENT
DTSTAMP:20260426T000000Z
UID:717d5cd6-876d-48a7-9839-a28ac01762c5@ClaytonBocce
DTSTART;TZID=America/Los_Angeles:20260819T183000
DTEND;TZID=America/Los_Angeles:20260819T210000
STATUS:CONFIRMED
SUMMARY:Bocce Mo's vs Off The Rails
URL:/League/Schedule/3209
DESCRIPTION:Regular Season match: Bocce Mo's vs Off The Rail
 s
LOCATION:Newhall Court 5
END:VEVENT
BEGIN:VEVENT
DTSTAMP:20260426T000000Z
UID:69e07485-dd14-458c-8b87-0942faa3beb8@ClaytonBocce
DTSTART;TZID=America/Los_Angeles:20260902T183000
DTEND;TZID=America/Los_Angeles:20260902T210000
STATUS:CONFIRMED
SUMMARY:Bocce Mo's vs Crushers
URL:/League/Schedule/3209
DESCRIPTION:Regular Season match: Bocce Mo's vs Crushers
LOCATION:Newhall Court 7
END:VEVENT
END:VCALENDAR
