BEGIN:VCALENDAR
VERSION:2.0
PRODID:-//Clayton Bocce League
METHOD:PUBLISH
BEGIN:VTIMEZONE
TZID:America/Los_Angeles
X-LIC-LOCATION:America/Los_Angeles
BEGIN:DAYLIGHT
TZOFFSETFROM:-0800
TZOFFSETTO:-0700
TZNAME:PDT
DTSTART:20070311T020000
RRULE:FREQ=YEARLY;BYMONTH=3;BYDAY=2SU
END:DAYLIGHT
BEGIN:STANDARD
TZOFFSETFROM:-0700
TZOFFSETTO:-0800
TZNAME:PST
DTSTART:20071104T020000
RRULE:FREQ=YEARLY;BYMONTH=11;BYDAY=1SU
END:STANDARD
END:VTIMEZONE
BEGIN:VEVENT
DTSTAMP:20260426T000000Z
UID:aaea22dd-c29c-4aaa-8ce6-cb2cc32e56e6@ClaytonBocce
DTSTART;TZID=America/Los_Angeles:20260429T183000
DTEND;TZID=America/Los_Angeles:20260429T210000
STATUS:CONFIRMED
SUMMARY:Bank Rollers vs Spot Club
URL:/League/Schedule/3216
DESCRIPTION:Regular Season match: Bank Rollers vs Spot Club
LOCATION:Newhall Court 1
END:VEVENT
BEGIN:VEVENT
DTSTAMP:20260426T000000Z
UID:6b836e3b-abef-4391-8cf1-eb948d7b8fe6@ClaytonBocce
DTSTART;TZID=America/Los_Angeles:20260513T183000
DTEND;TZID=America/Los_Angeles:20260513T210000
STATUS:CONFIRMED
SUMMARY:Bank Rollers vs Squeaks Bunch
URL:/League/Schedule/3216
DESCRIPTION:Regular Season match: Bank Rollers vs Squeaks Bu
 nch
LOCATION:Newhall Court 7
END:VEVENT
BEGIN:VEVENT
DTSTAMP:20260426T000000Z
UID:979cdd69-9a20-442c-8a99-d48c84a49982@ClaytonBocce
DTSTART;TZID=America/Los_Angeles:20260520T183000
DTEND;TZID=America/Los_Angeles:20260520T210000
STATUS:CONFIRMED
SUMMARY:Bank Rollers vs Off The Rails
URL:/League/Schedule/3216
DESCRIPTION:Regular Season match: Bank Rollers vs Off The Ra
 ils
LOCATION:Newhall Court 2
END:VEVENT
BEGIN:VEVENT
DTSTAMP:20260426T000000Z
UID:aa35be8d-cc87-496e-a039-eed5f895a299@ClaytonBocce
DTSTART;TZID=America/Los_Angeles:20260527T183000
DTEND;TZID=America/Los_Angeles:20260527T210000
STATUS:CONFIRMED
SUMMARY:Bank Rollers vs Bocce Mo's
URL:/League/Schedule/3216
DESCRIPTION:Regular Season match: Bank Rollers vs Bocce Mo's
LOCATION:Newhall Court 3
END:VEVENT
BEGIN:VEVENT
DTSTAMP:20260426T000000Z
UID:3920bb35-981e-4cba-836a-44111e03f675@ClaytonBocce
DTSTART;TZID=America/Los_Angeles:20260603T183000
DTEND;TZID=America/Los_Angeles:20260603T210000
STATUS:CONFIRMED
SUMMARY:Bank Rollers vs Crushers
URL:/League/Schedule/3216
DESCRIPTION:Regular Season match: Bank Rollers vs Crushers
LOCATION:Newhall Court 6
END:VEVENT
BEGIN:VEVENT
DTSTAMP:20260426T000000Z
UID:9d78a7e9-96d8-4fec-b2e4-2a94cae696b2@ClaytonBocce
DTSTART;TZID=America/Los_Angeles:20260610T183000
DTEND;TZID=America/Los_Angeles:20260610T210000
STATUS:CONFIRMED
SUMMARY:Bank Rollers vs Mission Imbocce
URL:/League/Schedule/3216
DESCRIPTION:Regular Season match: Bank Rollers vs Mission Im
 bocce
LOCATION:Newhall Court 4
END:VEVENT
BEGIN:VEVENT
DTSTAMP:20260426T000000Z
UID:ec1652a5-a46a-4fba-87ed-950e075d9afb@ClaytonBocce
DTSTART;TZID=America/Los_Angeles:20260617T183000
DTEND;TZID=America/Los_Angeles:20260617T210000
STATUS:CONFIRMED
SUMMARY:Bank Rollers vs Rat Pack
URL:/League/Schedule/3216
DESCRIPTION:Regular Season match: Bank Rollers vs Rat Pack
LOCATION:Newhall Court 5
END:VEVENT
BEGIN:VEVENT
DTSTAMP:20260426T000000Z
UID:fb227aeb-dcd1-42e6-81fa-043935fa7a6f@ClaytonBocce
DTSTART;TZID=America/Los_Angeles:20260624T183000
DTEND;TZID=America/Los_Angeles:20260624T210000
STATUS:CONFIRMED
SUMMARY:Bank Rollers vs 4 Watch 4 Play
URL:/League/Schedule/3216
DESCRIPTION:Regular Season match: Bank Rollers vs 4 Watch 4 
 Play
LOCATION:Newhall Court 8
END:VEVENT
BEGIN:VEVENT
DTSTAMP:20260426T000000Z
UID:97547652-1082-4122-8f9f-63b517aa4843@ClaytonBocce
DTSTART;TZID=America/Los_Angeles:20260708T183000
DTEND;TZID=America/Los_Angeles:20260708T210000
STATUS:CONFIRMED
SUMMARY:Bank Rollers vs Spot Club
URL:/League/Schedule/3216
DESCRIPTION:Regular Season match: Bank Rollers vs Spot Club
LOCATION:Newhall Court 7
END:VEVENT
BEGIN:VEVENT
DTSTAMP:20260426T000000Z
UID:ffd436ee-4ec5-473e-8a64-9cb94509961a@ClaytonBocce
DTSTART;TZID=America/Los_Angeles:20260722T183000
DTEND;TZID=America/Los_Angeles:20260722T210000
STATUS:CONFIRMED
SUMMARY:Bank Rollers vs Squeaks Bunch
URL:/League/Schedule/3216
DESCRIPTION:Regular Season match: Bank Rollers vs Squeaks Bu
 nch
LOCATION:Newhall Court 3
END:VEVENT
BEGIN:VEVENT
DTSTAMP:20260426T000000Z
UID:a61f9434-a88a-4bff-a4aa-82a0a167ad02@ClaytonBocce
DTSTART;TZID=America/Los_Angeles:20260729T183000
DTEND;TZID=America/Los_Angeles:20260729T210000
STATUS:CONFIRMED
SUMMARY:Bank Rollers vs Off The Rails
URL:/League/Schedule/3216
DESCRIPTION:Regular Season match: Bank Rollers vs Off The Ra
 ils
LOCATION:Newhall Court 4
END:VEVENT
BEGIN:VEVENT
DTSTAMP:20260426T000000Z
UID:a457dfa3-f173-4944-bbe7-a4384cb10ea0@ClaytonBocce
DTSTART;TZID=America/Los_Angeles:20260805T183000
DTEND;TZID=America/Los_Angeles:20260805T210000
STATUS:CONFIRMED
SUMMARY:Bank Rollers vs Bocce Mo's
URL:/League/Schedule/3216
DESCRIPTION:Regular Season match: Bank Rollers vs Bocce Mo's
LOCATION:Newhall Court 2
END:VEVENT
BEGIN:VEVENT
DTSTAMP:20260426T000000Z
UID:f5851716-dc2a-4055-a7d9-f7daabc39cb6@ClaytonBocce
DTSTART;TZID=America/Los_Angeles:20260812T183000
DTEND;TZID=America/Los_Angeles:20260812T210000
STATUS:CONFIRMED
SUMMARY:Bank Rollers vs Crushers
URL:/League/Schedule/3216
DESCRIPTION:Regular Season match: Bank Rollers vs Crushers
LOCATION:Newhall Court 5
END:VEVENT
BEGIN:VEVENT
DTSTAMP:20260426T000000Z
UID:511c7800-fa26-42ad-a99e-3ed7f7c2528a@ClaytonBocce
DTSTART;TZID=America/Los_Angeles:20260819T183000
DTEND;TZID=America/Los_Angeles:20260819T210000
STATUS:CONFIRMED
SUMMARY:Bank Rollers vs Mission Imbocce
URL:/League/Schedule/3216
DESCRIPTION:Regular Season match: Bank Rollers vs Mission Im
 bocce
LOCATION:Newhall Court 1
END:VEVENT
BEGIN:VEVENT
DTSTAMP:20260426T000000Z
UID:34e797f2-e384-4c2c-b6a7-5daa878c9e73@ClaytonBocce
DTSTART;TZID=America/Los_Angeles:20260826T183000
DTEND;TZID=America/Los_Angeles:20260826T210000
STATUS:CONFIRMED
SUMMARY:Bank Rollers vs Rat Pack
URL:/League/Schedule/3216
DESCRIPTION:Regular Season match: Bank Rollers vs Rat Pack
LOCATION:Newhall Court 6
END:VEVENT
BEGIN:VEVENT
DTSTAMP:20260426T000000Z
UID:effad87b-3421-45a9-a958-3b1635cee23b@ClaytonBocce
DTSTART;TZID=America/Los_Angeles:20260902T183000
DTEND;TZID=America/Los_Angeles:20260902T210000
STATUS:CONFIRMED
SUMMARY:Bank Rollers vs 4 Watch 4 Play
URL:/League/Schedule/3216
DESCRIPTION:Regular Season match: Bank Rollers vs 4 Watch 4 
 Play
LOCATION:Newhall Court 4
END:VEVENT
END:VCALENDAR
