BEGIN:VCALENDAR
VERSION:2.0
PRODID:-//Clayton Bocce League
METHOD:PUBLISH
BEGIN:VTIMEZONE
TZID:America/Los_Angeles
X-LIC-LOCATION:America/Los_Angeles
BEGIN:DAYLIGHT
TZOFFSETFROM:-0800
TZOFFSETTO:-0700
TZNAME:PDT
DTSTART:20070311T020000
RRULE:FREQ=YEARLY;BYMONTH=3;BYDAY=2SU
END:DAYLIGHT
BEGIN:STANDARD
TZOFFSETFROM:-0700
TZOFFSETTO:-0800
TZNAME:PST
DTSTART:20071104T020000
RRULE:FREQ=YEARLY;BYMONTH=11;BYDAY=1SU
END:STANDARD
END:VTIMEZONE
BEGIN:VEVENT
DTSTAMP:20260426T000000Z
UID:aaea22dd-c29c-4aaa-8ce6-cb2cc32e56e6@ClaytonBocce
DTSTART;TZID=America/Los_Angeles:20260429T183000
DTEND;TZID=America/Los_Angeles:20260429T210000
STATUS:CONFIRMED
SUMMARY:Spot Club vs Bank Rollers
URL:/League/Schedule/3210
DESCRIPTION:Regular Season match: Spot Club vs Bank Rollers
LOCATION:Newhall Court 1
END:VEVENT
BEGIN:VEVENT
DTSTAMP:20260426T000000Z
UID:ff9c171e-d41c-46e1-8b7c-e5541f500e5b@ClaytonBocce
DTSTART;TZID=America/Los_Angeles:20260506T183000
DTEND;TZID=America/Los_Angeles:20260506T210000
STATUS:CONFIRMED
SUMMARY:Spot Club vs Squeaks Bunch
URL:/League/Schedule/3210
DESCRIPTION:Regular Season match: Spot Club vs Squeaks Bunch
LOCATION:Newhall Court 5
END:VEVENT
BEGIN:VEVENT
DTSTAMP:20260426T000000Z
UID:e0b964ff-2f9c-457d-acf7-f845f246ed6b@ClaytonBocce
DTSTART;TZID=America/Los_Angeles:20260513T183000
DTEND;TZID=America/Los_Angeles:20260513T210000
STATUS:CONFIRMED
SUMMARY:Spot Club vs Off The Rails
URL:/League/Schedule/3210
DESCRIPTION:Regular Season match: Spot Club vs Off The Rails
LOCATION:Newhall Court 6
END:VEVENT
BEGIN:VEVENT
DTSTAMP:20260426T000000Z
UID:98788da6-fc59-4d6e-b51a-f5f6abc71fb7@ClaytonBocce
DTSTART;TZID=America/Los_Angeles:20260520T183000
DTEND;TZID=America/Los_Angeles:20260520T210000
STATUS:CONFIRMED
SUMMARY:Spot Club vs Bocce Mo's
URL:/League/Schedule/3210
DESCRIPTION:Regular Season match: Spot Club vs Bocce Mo's
LOCATION:Newhall Court 8
END:VEVENT
BEGIN:VEVENT
DTSTAMP:20260426T000000Z
UID:9db2eff6-f676-4976-8e5c-c3a75eba0464@ClaytonBocce
DTSTART;TZID=America/Los_Angeles:20260527T183000
DTEND;TZID=America/Los_Angeles:20260527T210000
STATUS:CONFIRMED
SUMMARY:Spot Club vs Crushers
URL:/League/Schedule/3210
DESCRIPTION:Regular Season match: Spot Club vs Crushers
LOCATION:Newhall Court 2
END:VEVENT
BEGIN:VEVENT
DTSTAMP:20260426T000000Z
UID:bb94e7e2-8a1a-4a28-a16f-42a19894441b@ClaytonBocce
DTSTART;TZID=America/Los_Angeles:20260603T183000
DTEND;TZID=America/Los_Angeles:20260603T210000
STATUS:CONFIRMED
SUMMARY:Spot Club vs Mission Imbocce
URL:/League/Schedule/3210
DESCRIPTION:Regular Season match: Spot Club vs Mission Imboc
 ce
LOCATION:Newhall Court 3
END:VEVENT
BEGIN:VEVENT
DTSTAMP:20260426T000000Z
UID:a5ad92d2-a4c9-42dc-b8c6-face9c7616bb@ClaytonBocce
DTSTART;TZID=America/Los_Angeles:20260610T183000
DTEND;TZID=America/Los_Angeles:20260610T210000
STATUS:CONFIRMED
SUMMARY:Spot Club vs Rat Pack
URL:/League/Schedule/3210
DESCRIPTION:Regular Season match: Spot Club vs Rat Pack
LOCATION:Newhall Court 8
END:VEVENT
BEGIN:VEVENT
DTSTAMP:20260426T000000Z
UID:5a23ac09-11f4-4a2a-939f-612263b674fa@ClaytonBocce
DTSTART;TZID=America/Los_Angeles:20260617T183000
DTEND;TZID=America/Los_Angeles:20260617T210000
STATUS:CONFIRMED
SUMMARY:Spot Club vs 4 Watch 4 Play
URL:/League/Schedule/3210
DESCRIPTION:Regular Season match: Spot Club vs 4 Watch 4 Pla
 y
LOCATION:Newhall Court 1
END:VEVENT
BEGIN:VEVENT
DTSTAMP:20260426T000000Z
UID:97547652-1082-4122-8f9f-63b517aa4843@ClaytonBocce
DTSTART;TZID=America/Los_Angeles:20260708T183000
DTEND;TZID=America/Los_Angeles:20260708T210000
STATUS:CONFIRMED
SUMMARY:Spot Club vs Bank Rollers
URL:/League/Schedule/3210
DESCRIPTION:Regular Season match: Spot Club vs Bank Rollers
LOCATION:Newhall Court 7
END:VEVENT
BEGIN:VEVENT
DTSTAMP:20260426T000000Z
UID:e7c8ab62-2f38-4f8c-994e-f8b68c52f7d3@ClaytonBocce
DTSTART;TZID=America/Los_Angeles:20260715T183000
DTEND;TZID=America/Los_Angeles:20260715T210000
STATUS:CONFIRMED
SUMMARY:Spot Club vs Squeaks Bunch
URL:/League/Schedule/3210
DESCRIPTION:Regular Season match: Spot Club vs Squeaks Bunch
LOCATION:Newhall Court 4
END:VEVENT
BEGIN:VEVENT
DTSTAMP:20260426T000000Z
UID:9792ecf6-4459-46c6-9df6-c53137e78a9e@ClaytonBocce
DTSTART;TZID=America/Los_Angeles:20260722T183000
DTEND;TZID=America/Los_Angeles:20260722T210000
STATUS:CONFIRMED
SUMMARY:Spot Club vs Off The Rails
URL:/League/Schedule/3210
DESCRIPTION:Regular Season match: Spot Club vs Off The Rails
LOCATION:Newhall Court 5
END:VEVENT
BEGIN:VEVENT
DTSTAMP:20260426T000000Z
UID:091d29ac-4cb0-4859-8d1a-1921304bd50e@ClaytonBocce
DTSTART;TZID=America/Los_Angeles:20260729T183000
DTEND;TZID=America/Los_Angeles:20260729T210000
STATUS:CONFIRMED
SUMMARY:Spot Club vs Bocce Mo's
URL:/League/Schedule/3210
DESCRIPTION:Regular Season match: Spot Club vs Bocce Mo's
LOCATION:Newhall Court 1
END:VEVENT
BEGIN:VEVENT
DTSTAMP:20260426T000000Z
UID:353cd5ef-2051-420e-81e6-7edd21e9ff58@ClaytonBocce
DTSTART;TZID=America/Los_Angeles:20260805T183000
DTEND;TZID=America/Los_Angeles:20260805T210000
STATUS:CONFIRMED
SUMMARY:Spot Club vs Crushers
URL:/League/Schedule/3210
DESCRIPTION:Regular Season match: Spot Club vs Crushers
LOCATION:Newhall Court 6
END:VEVENT
BEGIN:VEVENT
DTSTAMP:20260426T000000Z
UID:4f5e8cf4-6611-4490-bbea-932db2f52ee2@ClaytonBocce
DTSTART;TZID=America/Los_Angeles:20260812T183000
DTEND;TZID=America/Los_Angeles:20260812T210000
STATUS:CONFIRMED
SUMMARY:Spot Club vs Mission Imbocce
URL:/League/Schedule/3210
DESCRIPTION:Regular Season match: Spot Club vs Mission Imboc
 ce
LOCATION:Newhall Court 2
END:VEVENT
BEGIN:VEVENT
DTSTAMP:20260426T000000Z
UID:9f46887f-6d50-4be5-a16f-cb01a979801f@ClaytonBocce
DTSTART;TZID=America/Los_Angeles:20260819T183000
DTEND;TZID=America/Los_Angeles:20260819T210000
STATUS:CONFIRMED
SUMMARY:Spot Club vs Rat Pack
URL:/League/Schedule/3210
DESCRIPTION:Regular Season match: Spot Club vs Rat Pack
LOCATION:Newhall Court 8
END:VEVENT
BEGIN:VEVENT
DTSTAMP:20260426T000000Z
UID:f0886740-87a6-4d3e-b635-1b8649e53af1@ClaytonBocce
DTSTART;TZID=America/Los_Angeles:20260826T183000
DTEND;TZID=America/Los_Angeles:20260826T210000
STATUS:CONFIRMED
SUMMARY:Spot Club vs 4 Watch 4 Play
URL:/League/Schedule/3210
DESCRIPTION:Regular Season match: Spot Club vs 4 Watch 4 Pla
 y
LOCATION:Newhall Court 7
END:VEVENT
END:VCALENDAR
