BEGIN:VCALENDAR
VERSION:2.0
PRODID:-//Clayton Bocce League
METHOD:PUBLISH
BEGIN:VTIMEZONE
TZID:America/Los_Angeles
X-LIC-LOCATION:America/Los_Angeles
BEGIN:DAYLIGHT
TZOFFSETFROM:-0800
TZOFFSETTO:-0700
TZNAME:PDT
DTSTART:20070311T020000
RRULE:FREQ=YEARLY;BYMONTH=3;BYDAY=2SU
END:DAYLIGHT
BEGIN:STANDARD
TZOFFSETFROM:-0700
TZOFFSETTO:-0800
TZNAME:PST
DTSTART:20071104T020000
RRULE:FREQ=YEARLY;BYMONTH=11;BYDAY=1SU
END:STANDARD
END:VTIMEZONE
BEGIN:VEVENT
DTSTAMP:20260426T000000Z
UID:e1fac5be-0b57-4792-93e3-7b45003cfcb0@ClaytonBocce
DTSTART;TZID=America/Los_Angeles:20260505T183000
DTEND;TZID=America/Los_Angeles:20260505T210000
STATUS:CONFIRMED
SUMMARY:BallBarians vs Rock N Rollers
URL:/League/Schedule/3208
DESCRIPTION:Regular Season match: BallBarians vs Rock N Roll
 ers
LOCATION:Newhall Court 8
END:VEVENT
BEGIN:VEVENT
DTSTAMP:20260426T000000Z
UID:99abaf30-2c83-4914-85e0-adc44d5d83c5@ClaytonBocce
DTSTART;TZID=America/Los_Angeles:20260512T183000
DTEND;TZID=America/Los_Angeles:20260512T210000
STATUS:CONFIRMED
SUMMARY:BallBarians vs High Bocce Burners
URL:/League/Schedule/3208
DESCRIPTION:Regular Season match: BallBarians vs High Bocce 
 Burners
LOCATION:Newhall Court 3
END:VEVENT
BEGIN:VEVENT
DTSTAMP:20260426T000000Z
UID:de9fb62d-8ec2-4d96-9b52-02539d087101@ClaytonBocce
DTSTART;TZID=America/Los_Angeles:20260519T183000
DTEND;TZID=America/Los_Angeles:20260519T210000
STATUS:CONFIRMED
SUMMARY:BallBarians vs Get To Saturday
URL:/League/Schedule/3208
DESCRIPTION:Regular Season match: BallBarians vs Get To Satu
 rday
LOCATION:Newhall Court 4
END:VEVENT
BEGIN:VEVENT
DTSTAMP:20260426T000000Z
UID:7434d35a-dec4-4fdf-97ad-d1338247fdfb@ClaytonBocce
DTSTART;TZID=America/Los_Angeles:20260526T183000
DTEND;TZID=America/Los_Angeles:20260526T210000
STATUS:CONFIRMED
SUMMARY:BallBarians vs Sempre Bocce
URL:/League/Schedule/3208
DESCRIPTION:Regular Season match: BallBarians vs Sempre Bocc
 e
LOCATION:Newhall Court 2
END:VEVENT
BEGIN:VEVENT
DTSTAMP:20260426T000000Z
UID:f60fe17c-3436-4182-98d4-420e150790a5@ClaytonBocce
DTSTART;TZID=America/Los_Angeles:20260602T183000
DTEND;TZID=America/Los_Angeles:20260602T210000
STATUS:CONFIRMED
SUMMARY:BallBarians vs Dusty Balls
URL:/League/Schedule/3208
DESCRIPTION:Regular Season match: BallBarians vs Dusty Balls
LOCATION:Newhall Court 6
END:VEVENT
BEGIN:VEVENT
DTSTAMP:20260426T000000Z
UID:e95b7676-8940-4584-9f2a-a6e89d2cdc49@ClaytonBocce
DTSTART;TZID=America/Los_Angeles:20260609T183000
DTEND;TZID=America/Los_Angeles:20260609T210000
STATUS:CONFIRMED
SUMMARY:BallBarians vs Bada Bing Bada Boom
URL:/League/Schedule/3208
DESCRIPTION:Regular Season match: BallBarians vs Bada Bing B
 ada Boom
LOCATION:Newhall Court 1
END:VEVENT
BEGIN:VEVENT
DTSTAMP:20260426T000000Z
UID:7127fb59-cce8-4d6f-b71a-627c447c55c9@ClaytonBocce
DTSTART;TZID=America/Los_Angeles:20260616T183000
DTEND;TZID=America/Los_Angeles:20260616T210000
STATUS:CONFIRMED
SUMMARY:BallBarians vs Unity Bro's
URL:/League/Schedule/3208
DESCRIPTION:Regular Season match: BallBarians vs Unity Bro's
LOCATION:Newhall Court 4
END:VEVENT
BEGIN:VEVENT
DTSTAMP:20260426T000000Z
UID:0a312fc9-c57d-400f-994d-85640150f735@ClaytonBocce
DTSTART;TZID=America/Los_Angeles:20260623T183000
DTEND;TZID=America/Los_Angeles:20260623T210000
STATUS:CONFIRMED
SUMMARY:BallBarians vs El Wapo
URL:/League/Schedule/3208
DESCRIPTION:Regular Season match: BallBarians vs El Wapo
LOCATION:Newhall Court 7
END:VEVENT
BEGIN:VEVENT
DTSTAMP:20260426T000000Z
UID:39a1ff47-4baf-4fb9-9c9f-caccca269b2f@ClaytonBocce
DTSTART;TZID=America/Los_Angeles:20260714T183000
DTEND;TZID=America/Los_Angeles:20260714T210000
STATUS:CONFIRMED
SUMMARY:BallBarians vs Rock N Rollers
URL:/League/Schedule/3208
DESCRIPTION:Regular Season match: BallBarians vs Rock N Roll
 ers
LOCATION:Newhall Court 5
END:VEVENT
BEGIN:VEVENT
DTSTAMP:20260426T000000Z
UID:604cd76f-8350-46b5-aef3-96971d274543@ClaytonBocce
DTSTART;TZID=America/Los_Angeles:20260721T183000
DTEND;TZID=America/Los_Angeles:20260721T210000
STATUS:CONFIRMED
SUMMARY:BallBarians vs High Bocce Burners
URL:/League/Schedule/3208
DESCRIPTION:Regular Season match: BallBarians vs High Bocce 
 Burners
LOCATION:Newhall Court 4
END:VEVENT
BEGIN:VEVENT
DTSTAMP:20260426T000000Z
UID:677d57e0-f62a-4507-bd07-552aa33b677c@ClaytonBocce
DTSTART;TZID=America/Los_Angeles:20260728T183000
DTEND;TZID=America/Los_Angeles:20260728T210000
STATUS:CONFIRMED
SUMMARY:BallBarians vs Get To Saturday
URL:/League/Schedule/3208
DESCRIPTION:Regular Season match: BallBarians vs Get To Satu
 rday
LOCATION:Newhall Court 8
END:VEVENT
BEGIN:VEVENT
DTSTAMP:20260426T000000Z
UID:0a3ed74e-ce18-4be5-a022-a13f64a91fa8@ClaytonBocce
DTSTART;TZID=America/Los_Angeles:20260804T183000
DTEND;TZID=America/Los_Angeles:20260804T210000
STATUS:CONFIRMED
SUMMARY:BallBarians vs Sempre Bocce
URL:/League/Schedule/3208
DESCRIPTION:Regular Season match: BallBarians vs Sempre Bocc
 e
LOCATION:Newhall Court 6
END:VEVENT
BEGIN:VEVENT
DTSTAMP:20260426T000000Z
UID:1b8401ff-ef19-40a8-8163-ccea0d8074e2@ClaytonBocce
DTSTART;TZID=America/Los_Angeles:20260811T183000
DTEND;TZID=America/Los_Angeles:20260811T210000
STATUS:CONFIRMED
SUMMARY:BallBarians vs Dusty Balls
URL:/League/Schedule/3208
DESCRIPTION:Regular Season match: BallBarians vs Dusty Balls
LOCATION:Newhall Court 5
END:VEVENT
BEGIN:VEVENT
DTSTAMP:20260426T000000Z
UID:27caf1c5-174f-4d0f-a504-8388db8d5da7@ClaytonBocce
DTSTART;TZID=America/Los_Angeles:20260818T183000
DTEND;TZID=America/Los_Angeles:20260818T210000
STATUS:CONFIRMED
SUMMARY:BallBarians vs Bada Bing Bada Boom
URL:/League/Schedule/3208
DESCRIPTION:Regular Season match: BallBarians vs Bada Bing B
 ada Boom
LOCATION:Newhall Court 2
END:VEVENT
BEGIN:VEVENT
DTSTAMP:20260426T000000Z
UID:ab21d007-bcc2-45e3-b353-b20e4d53aaf8@ClaytonBocce
DTSTART;TZID=America/Los_Angeles:20260825T183000
DTEND;TZID=America/Los_Angeles:20260825T210000
STATUS:CONFIRMED
SUMMARY:BallBarians vs Unity Bro's
URL:/League/Schedule/3208
DESCRIPTION:Regular Season match: BallBarians vs Unity Bro's
LOCATION:Newhall Court 3
END:VEVENT
BEGIN:VEVENT
DTSTAMP:20260426T000000Z
UID:bee052d8-5307-40f8-b5a8-bd9ec6b8be3d@ClaytonBocce
DTSTART;TZID=America/Los_Angeles:20260901T183000
DTEND;TZID=America/Los_Angeles:20260901T210000
STATUS:CONFIRMED
SUMMARY:BallBarians vs El Wapo
URL:/League/Schedule/3208
DESCRIPTION:Regular Season match: BallBarians vs El Wapo
LOCATION:Newhall Court 7
END:VEVENT
END:VCALENDAR
