BEGIN:VCALENDAR
VERSION:2.0
PRODID:-//Clayton Bocce League
METHOD:PUBLISH
BEGIN:VTIMEZONE
TZID:America/Los_Angeles
X-LIC-LOCATION:America/Los_Angeles
BEGIN:DAYLIGHT
TZOFFSETFROM:-0800
TZOFFSETTO:-0700
TZNAME:PDT
DTSTART:20070311T020000
RRULE:FREQ=YEARLY;BYMONTH=3;BYDAY=2SU
END:DAYLIGHT
BEGIN:STANDARD
TZOFFSETFROM:-0700
TZOFFSETTO:-0800
TZNAME:PST
DTSTART:20071104T020000
RRULE:FREQ=YEARLY;BYMONTH=11;BYDAY=1SU
END:STANDARD
END:VTIMEZONE
BEGIN:VEVENT
DTSTAMP:20260426T000000Z
UID:e74b3906-424d-4092-8a17-b22229d9cbef@ClaytonBocce
DTSTART;TZID=America/Los_Angeles:20260526T183000
DTEND;TZID=America/Los_Angeles:20260526T210000
STATUS:CONFIRMED
SUMMARY:What The Hell Was That vs Bocce Madness
URL:/League/Schedule/3204
DESCRIPTION:Regular Season match: What The Hell Was That vs 
 Bocce Madness
LOCATION:Newhall Court 4
END:VEVENT
END:VCALENDAR
