BEGIN:VCALENDAR
VERSION:2.0
PRODID:-//Clayton Bocce League
METHOD:PUBLISH
BEGIN:VTIMEZONE
TZID:America/Los_Angeles
X-LIC-LOCATION:America/Los_Angeles
BEGIN:DAYLIGHT
TZOFFSETFROM:-0800
TZOFFSETTO:-0700
TZNAME:PDT
DTSTART:20070311T020000
RRULE:FREQ=YEARLY;BYMONTH=3;BYDAY=2SU
END:DAYLIGHT
BEGIN:STANDARD
TZOFFSETFROM:-0700
TZOFFSETTO:-0800
TZNAME:PST
DTSTART:20071104T020000
RRULE:FREQ=YEARLY;BYMONTH=11;BYDAY=1SU
END:STANDARD
END:VTIMEZONE
BEGIN:VEVENT
DTSTAMP:20260426T000000Z
UID:5fde990a-b4dc-4247-bf84-796455cefe42@ClaytonBocce
DTSTART;TZID=America/Los_Angeles:20260505T183000
DTEND;TZID=America/Los_Angeles:20260505T210000
STATUS:CONFIRMED
SUMMARY:Beginner's Luck vs What The Hell Was That
URL:/League/Schedule/3203
DESCRIPTION:Regular Season match: Beginner's Luck vs What Th
 e Hell Was That
LOCATION:Newhall Court 6
END:VEVENT
BEGIN:VEVENT
DTSTAMP:20260426T000000Z
UID:0066ad5a-6917-4f6a-9e53-aa41032bcd70@ClaytonBocce
DTSTART;TZID=America/Los_Angeles:20260512T183000
DTEND;TZID=America/Los_Angeles:20260512T210000
STATUS:CONFIRMED
SUMMARY:Beginner's Luck vs Holy Rollers
URL:/League/Schedule/3203
DESCRIPTION:Regular Season match: Beginner's Luck vs Holy Ro
 llers
LOCATION:Newhall Court 4
END:VEVENT
BEGIN:VEVENT
DTSTAMP:20260426T000000Z
UID:e4cb25ab-5602-48df-bdc0-f16b17586118@ClaytonBocce
DTSTART;TZID=America/Los_Angeles:20260519T183000
DTEND;TZID=America/Los_Angeles:20260519T210000
STATUS:CONFIRMED
SUMMARY:Beginner's Luck vs Bocce Madness
URL:/League/Schedule/3203
DESCRIPTION:Regular Season match: Beginner's Luck vs Bocce M
 adness
LOCATION:Newhall Court 5
END:VEVENT
BEGIN:VEVENT
DTSTAMP:20260426T000000Z
UID:7edd4837-8538-46cb-9516-7ce810944fbb@ClaytonBocce
DTSTART;TZID=America/Los_Angeles:20260526T183000
DTEND;TZID=America/Los_Angeles:20260526T210000
STATUS:CONFIRMED
SUMMARY:Beginner's Luck vs Good Fellas
URL:/League/Schedule/3203
DESCRIPTION:Regular Season match: Beginner's Luck vs Good Fe
 llas
LOCATION:Newhall Court 1
END:VEVENT
BEGIN:VEVENT
DTSTAMP:20260426T000000Z
UID:c016f037-c94c-4b35-912c-7f4d7c6055e7@ClaytonBocce
DTSTART;TZID=America/Los_Angeles:20260602T183000
DTEND;TZID=America/Los_Angeles:20260602T210000
STATUS:CONFIRMED
SUMMARY:Beginner's Luck vs Pallino Pirates
URL:/League/Schedule/3203
DESCRIPTION:Regular Season match: Beginner's Luck vs Pallino
  Pirates
LOCATION:Newhall Court 5
END:VEVENT
BEGIN:VEVENT
DTSTAMP:20260426T000000Z
UID:42e1e1c4-bae9-471a-a387-a1be6d23a111@ClaytonBocce
DTSTART;TZID=America/Los_Angeles:20260609T183000
DTEND;TZID=America/Los_Angeles:20260609T210000
STATUS:CONFIRMED
SUMMARY:Beginner's Luck vs Wing - It!
URL:/League/Schedule/3203
DESCRIPTION:Regular Season match: Beginner's Luck vs Wing - 
 It!
LOCATION:Newhall Court 7
END:VEVENT
BEGIN:VEVENT
DTSTAMP:20260426T000000Z
UID:1f46227c-1f58-46dc-9ec9-46eba8641358@ClaytonBocce
DTSTART;TZID=America/Los_Angeles:20260616T183000
DTEND;TZID=America/Los_Angeles:20260616T210000
STATUS:CONFIRMED
SUMMARY:Beginner's Luck vs Pallino Chasers
URL:/League/Schedule/3203
DESCRIPTION:Regular Season match: Beginner's Luck vs Pallino
  Chasers
LOCATION:Newhall Court 8
END:VEVENT
BEGIN:VEVENT
DTSTAMP:20260426T000000Z
UID:ba3578d7-5ac0-4df3-85ed-76920c73072d@ClaytonBocce
DTSTART;TZID=America/Los_Angeles:20260623T183000
DTEND;TZID=America/Los_Angeles:20260623T210000
STATUS:CONFIRMED
SUMMARY:Beginner's Luck vs Spark Plugs
URL:/League/Schedule/3203
DESCRIPTION:Regular Season match: Beginner's Luck vs Spark P
 lugs
LOCATION:Newhall Court 3
END:VEVENT
BEGIN:VEVENT
DTSTAMP:20260426T000000Z
UID:ee699dcb-25ec-44bd-8a91-2281238562f9@ClaytonBocce
DTSTART;TZID=America/Los_Angeles:20260714T183000
DTEND;TZID=America/Los_Angeles:20260714T210000
STATUS:CONFIRMED
SUMMARY:Beginner's Luck vs What The Hell Was That
URL:/League/Schedule/3203
DESCRIPTION:Regular Season match: Beginner's Luck vs What Th
 e Hell Was That
LOCATION:Newhall Court 7
END:VEVENT
BEGIN:VEVENT
DTSTAMP:20260426T000000Z
UID:7a9fba1d-d27d-4e99-8185-189c46624e2d@ClaytonBocce
DTSTART;TZID=America/Los_Angeles:20260721T183000
DTEND;TZID=America/Los_Angeles:20260721T210000
STATUS:CONFIRMED
SUMMARY:Beginner's Luck vs Holy Rollers
URL:/League/Schedule/3203
DESCRIPTION:Regular Season match: Beginner's Luck vs Holy Ro
 llers
LOCATION:Newhall Court 6
END:VEVENT
BEGIN:VEVENT
DTSTAMP:20260426T000000Z
UID:e4a83395-bc1b-4dc9-8991-64274552d53b@ClaytonBocce
DTSTART;TZID=America/Los_Angeles:20260728T183000
DTEND;TZID=America/Los_Angeles:20260728T210000
STATUS:CONFIRMED
SUMMARY:Beginner's Luck vs Bocce Madness
URL:/League/Schedule/3203
DESCRIPTION:Regular Season match: Beginner's Luck vs Bocce M
 adness
LOCATION:Newhall Court 3
END:VEVENT
BEGIN:VEVENT
DTSTAMP:20260426T000000Z
UID:4497b5e3-6917-482a-a8c9-6806fb59d4b8@ClaytonBocce
DTSTART;TZID=America/Los_Angeles:20260804T183000
DTEND;TZID=America/Los_Angeles:20260804T210000
STATUS:CONFIRMED
SUMMARY:Beginner's Luck vs Good Fellas
URL:/League/Schedule/3203
DESCRIPTION:Regular Season match: Beginner's Luck vs Good Fe
 llas
LOCATION:Newhall Court 1
END:VEVENT
BEGIN:VEVENT
DTSTAMP:20260426T000000Z
UID:404053f1-f63b-41a7-808c-1c90ab069b9c@ClaytonBocce
DTSTART;TZID=America/Los_Angeles:20260811T183000
DTEND;TZID=America/Los_Angeles:20260811T210000
STATUS:CONFIRMED
SUMMARY:Beginner's Luck vs Pallino Pirates
URL:/League/Schedule/3203
DESCRIPTION:Regular Season match: Beginner's Luck vs Pallino
  Pirates
LOCATION:Newhall Court 8
END:VEVENT
BEGIN:VEVENT
DTSTAMP:20260426T000000Z
UID:034e4a42-9d8a-4864-a064-e77d9321eeca@ClaytonBocce
DTSTART;TZID=America/Los_Angeles:20260818T183000
DTEND;TZID=America/Los_Angeles:20260818T210000
STATUS:CONFIRMED
SUMMARY:Beginner's Luck vs Wing - It!
URL:/League/Schedule/3203
DESCRIPTION:Regular Season match: Beginner's Luck vs Wing - 
 It!
LOCATION:Newhall Court 6
END:VEVENT
BEGIN:VEVENT
DTSTAMP:20260426T000000Z
UID:7ff21957-ef76-4191-87f9-143f32fc685c@ClaytonBocce
DTSTART;TZID=America/Los_Angeles:20260825T183000
DTEND;TZID=America/Los_Angeles:20260825T210000
STATUS:CONFIRMED
SUMMARY:Beginner's Luck vs Pallino Chasers
URL:/League/Schedule/3203
DESCRIPTION:Regular Season match: Beginner's Luck vs Pallino
  Chasers
LOCATION:Newhall Court 1
END:VEVENT
BEGIN:VEVENT
DTSTAMP:20260426T000000Z
UID:5ad5c27f-91ce-4e47-9974-cb90aa4418ed@ClaytonBocce
DTSTART;TZID=America/Los_Angeles:20260901T183000
DTEND;TZID=America/Los_Angeles:20260901T210000
STATUS:CONFIRMED
SUMMARY:Beginner's Luck vs Spark Plugs
URL:/League/Schedule/3203
DESCRIPTION:Regular Season match: Beginner's Luck vs Spark P
 lugs
LOCATION:Newhall Court 2
END:VEVENT
END:VCALENDAR
