BEGIN:VCALENDAR
VERSION:2.0
PRODID:-//Clayton Bocce League
METHOD:PUBLISH
BEGIN:VTIMEZONE
TZID:America/Los_Angeles
X-LIC-LOCATION:America/Los_Angeles
BEGIN:DAYLIGHT
TZOFFSETFROM:-0800
TZOFFSETTO:-0700
TZNAME:PDT
DTSTART:20070311T020000
RRULE:FREQ=YEARLY;BYMONTH=3;BYDAY=2SU
END:DAYLIGHT
BEGIN:STANDARD
TZOFFSETFROM:-0700
TZOFFSETTO:-0800
TZNAME:PST
DTSTART:20071104T020000
RRULE:FREQ=YEARLY;BYMONTH=11;BYDAY=1SU
END:STANDARD
END:VTIMEZONE
BEGIN:VEVENT
DTSTAMP:20260426T000000Z
UID:c82c8460-c706-411d-91dc-536ab1cf935e@ClaytonBocce
DTSTART;TZID=America/Los_Angeles:20260428T183000
DTEND;TZID=America/Los_Angeles:20260428T210000
STATUS:CONFIRMED
SUMMARY:What The Hell Was That vs Spark Plugs
URL:/League/Schedule/3204
DESCRIPTION:Regular Season match: What The Hell Was That vs 
 Spark Plugs
LOCATION:Newhall Court 8
END:VEVENT
BEGIN:VEVENT
DTSTAMP:20260426T000000Z
UID:5fde990a-b4dc-4247-bf84-796455cefe42@ClaytonBocce
DTSTART;TZID=America/Los_Angeles:20260505T183000
DTEND;TZID=America/Los_Angeles:20260505T210000
STATUS:CONFIRMED
SUMMARY:What The Hell Was That vs Beginner's Luck
URL:/League/Schedule/3204
DESCRIPTION:Regular Season match: What The Hell Was That vs 
 Beginner's Luck
LOCATION:Newhall Court 6
END:VEVENT
BEGIN:VEVENT
DTSTAMP:20260426T000000Z
UID:1086ca25-ba7f-407b-8c06-9bcc2c99d5e0@ClaytonBocce
DTSTART;TZID=America/Los_Angeles:20260519T183000
DTEND;TZID=America/Los_Angeles:20260519T210000
STATUS:CONFIRMED
SUMMARY:What The Hell Was That vs Holy Rollers
URL:/League/Schedule/3204
DESCRIPTION:Regular Season match: What The Hell Was That vs 
 Holy Rollers
LOCATION:Newhall Court 1
END:VEVENT
BEGIN:VEVENT
DTSTAMP:20260426T000000Z
UID:e74b3906-424d-4092-8a17-b22229d9cbef@ClaytonBocce
DTSTART;TZID=America/Los_Angeles:20260526T183000
DTEND;TZID=America/Los_Angeles:20260526T210000
STATUS:CONFIRMED
SUMMARY:What The Hell Was That vs Bocce Madness
URL:/League/Schedule/3204
DESCRIPTION:Regular Season match: What The Hell Was That vs 
 Bocce Madness
LOCATION:Newhall Court 4
END:VEVENT
BEGIN:VEVENT
DTSTAMP:20260426T000000Z
UID:d12f2edb-4665-4bda-a4b2-2f72911d1ed5@ClaytonBocce
DTSTART;TZID=America/Los_Angeles:20260602T183000
DTEND;TZID=America/Los_Angeles:20260602T210000
STATUS:CONFIRMED
SUMMARY:What The Hell Was That vs Good Fellas
URL:/League/Schedule/3204
DESCRIPTION:Regular Season match: What The Hell Was That vs 
 Good Fellas
LOCATION:Newhall Court 7
END:VEVENT
BEGIN:VEVENT
DTSTAMP:20260426T000000Z
UID:c4aaf16b-0e38-456f-abf9-5df1540e1799@ClaytonBocce
DTSTART;TZID=America/Los_Angeles:20260609T183000
DTEND;TZID=America/Los_Angeles:20260609T210000
STATUS:CONFIRMED
SUMMARY:What The Hell Was That vs Pallino Pirates
URL:/League/Schedule/3204
DESCRIPTION:Regular Season match: What The Hell Was That vs 
 Pallino Pirates
LOCATION:Newhall Court 6
END:VEVENT
BEGIN:VEVENT
DTSTAMP:20260426T000000Z
UID:36c68af8-c262-4d8e-8c4a-211769b507b7@ClaytonBocce
DTSTART;TZID=America/Los_Angeles:20260616T183000
DTEND;TZID=America/Los_Angeles:20260616T210000
STATUS:CONFIRMED
SUMMARY:What The Hell Was That vs Wing - It!
URL:/League/Schedule/3204
DESCRIPTION:Regular Season match: What The Hell Was That vs 
 Wing - It!
LOCATION:Newhall Court 3
END:VEVENT
BEGIN:VEVENT
DTSTAMP:20260426T000000Z
UID:12257c82-915f-4b59-85ef-a6d49330d691@ClaytonBocce
DTSTART;TZID=America/Los_Angeles:20260623T183000
DTEND;TZID=America/Los_Angeles:20260623T210000
STATUS:CONFIRMED
SUMMARY:What The Hell Was That vs Pallino Chasers
URL:/League/Schedule/3204
DESCRIPTION:Regular Season match: What The Hell Was That vs 
 Pallino Chasers
LOCATION:Newhall Court 5
END:VEVENT
BEGIN:VEVENT
DTSTAMP:20260426T000000Z
UID:0d9b985c-af6f-4a7c-8a60-a16539cf6cf4@ClaytonBocce
DTSTART;TZID=America/Los_Angeles:20260630T183000
DTEND;TZID=America/Los_Angeles:20260630T210000
STATUS:CONFIRMED
SUMMARY:What The Hell Was That vs Spark Plugs
URL:/League/Schedule/3204
DESCRIPTION:Regular Season match: What The Hell Was That vs 
 Spark Plugs
LOCATION:Newhall Court 1
END:VEVENT
BEGIN:VEVENT
DTSTAMP:20260426T000000Z
UID:ee699dcb-25ec-44bd-8a91-2281238562f9@ClaytonBocce
DTSTART;TZID=America/Los_Angeles:20260714T183000
DTEND;TZID=America/Los_Angeles:20260714T210000
STATUS:CONFIRMED
SUMMARY:What The Hell Was That vs Beginner's Luck
URL:/League/Schedule/3204
DESCRIPTION:Regular Season match: What The Hell Was That vs 
 Beginner's Luck
LOCATION:Newhall Court 7
END:VEVENT
BEGIN:VEVENT
DTSTAMP:20260426T000000Z
UID:55cb6f20-7d37-4c28-b95d-dd7587b41cca@ClaytonBocce
DTSTART;TZID=America/Los_Angeles:20260728T183000
DTEND;TZID=America/Los_Angeles:20260728T210000
STATUS:CONFIRMED
SUMMARY:What The Hell Was That vs Holy Rollers
URL:/League/Schedule/3204
DESCRIPTION:Regular Season match: What The Hell Was That vs 
 Holy Rollers
LOCATION:Newhall Court 2
END:VEVENT
BEGIN:VEVENT
DTSTAMP:20260426T000000Z
UID:cb2187ba-3553-4988-82b8-55570db99d13@ClaytonBocce
DTSTART;TZID=America/Los_Angeles:20260804T183000
DTEND;TZID=America/Los_Angeles:20260804T210000
STATUS:CONFIRMED
SUMMARY:What The Hell Was That vs Bocce Madness
URL:/League/Schedule/3204
DESCRIPTION:Regular Season match: What The Hell Was That vs 
 Bocce Madness
LOCATION:Newhall Court 8
END:VEVENT
BEGIN:VEVENT
DTSTAMP:20260426T000000Z
UID:f6995163-0429-4563-a502-d9bb2a2f0be4@ClaytonBocce
DTSTART;TZID=America/Los_Angeles:20260811T183000
DTEND;TZID=America/Los_Angeles:20260811T210000
STATUS:CONFIRMED
SUMMARY:What The Hell Was That vs Good Fellas
URL:/League/Schedule/3204
DESCRIPTION:Regular Season match: What The Hell Was That vs 
 Good Fellas
LOCATION:Newhall Court 4
END:VEVENT
BEGIN:VEVENT
DTSTAMP:20260426T000000Z
UID:3cd775a6-ebef-45f0-adbe-949fa0cfc05d@ClaytonBocce
DTSTART;TZID=America/Los_Angeles:20260818T183000
DTEND;TZID=America/Los_Angeles:20260818T210000
STATUS:CONFIRMED
SUMMARY:What The Hell Was That vs Pallino Pirates
URL:/League/Schedule/3204
DESCRIPTION:Regular Season match: What The Hell Was That vs 
 Pallino Pirates
LOCATION:Newhall Court 7
END:VEVENT
BEGIN:VEVENT
DTSTAMP:20260426T000000Z
UID:adaea299-62c3-4ca3-887c-7e9cdd6d4a17@ClaytonBocce
DTSTART;TZID=America/Los_Angeles:20260825T183000
DTEND;TZID=America/Los_Angeles:20260825T210000
STATUS:CONFIRMED
SUMMARY:What The Hell Was That vs Wing - It!
URL:/League/Schedule/3204
DESCRIPTION:Regular Season match: What The Hell Was That vs 
 Wing - It!
LOCATION:Newhall Court 8
END:VEVENT
BEGIN:VEVENT
DTSTAMP:20260426T000000Z
UID:28f26bf7-5173-4613-954f-9c98d0cef37c@ClaytonBocce
DTSTART;TZID=America/Los_Angeles:20260901T183000
DTEND;TZID=America/Los_Angeles:20260901T210000
STATUS:CONFIRMED
SUMMARY:What The Hell Was That vs Pallino Chasers
URL:/League/Schedule/3204
DESCRIPTION:Regular Season match: What The Hell Was That vs 
 Pallino Chasers
LOCATION:Newhall Court 5
END:VEVENT
END:VCALENDAR
