BEGIN:VCALENDAR
VERSION:2.0
PRODID:-//Clayton Bocce League
METHOD:PUBLISH
BEGIN:VTIMEZONE
TZID:America/Los_Angeles
X-LIC-LOCATION:America/Los_Angeles
BEGIN:DAYLIGHT
TZOFFSETFROM:-0800
TZOFFSETTO:-0700
TZNAME:PDT
DTSTART:20070311T020000
RRULE:FREQ=YEARLY;BYMONTH=3;BYDAY=2SU
END:DAYLIGHT
BEGIN:STANDARD
TZOFFSETFROM:-0700
TZOFFSETTO:-0800
TZNAME:PST
DTSTART:20071104T020000
RRULE:FREQ=YEARLY;BYMONTH=11;BYDAY=1SU
END:STANDARD
END:VTIMEZONE
BEGIN:VEVENT
DTSTAMP:20260426T000000Z
UID:c82c8460-c706-411d-91dc-536ab1cf935e@ClaytonBocce
DTSTART;TZID=America/Los_Angeles:20260428T183000
DTEND;TZID=America/Los_Angeles:20260428T210000
STATUS:CONFIRMED
SUMMARY:Spark Plugs vs What The Hell Was That
URL:/League/Schedule/3200
DESCRIPTION:Regular Season match: Spark Plugs vs What The He
 ll Was That
LOCATION:Newhall Court 8
END:VEVENT
BEGIN:VEVENT
DTSTAMP:20260426T000000Z
UID:fe1b49e2-40f7-4847-a9f3-5d91776b9b2b@ClaytonBocce
DTSTART;TZID=America/Los_Angeles:20260505T183000
DTEND;TZID=America/Los_Angeles:20260505T210000
STATUS:CONFIRMED
SUMMARY:Spark Plugs vs Holy Rollers
URL:/League/Schedule/3200
DESCRIPTION:Regular Season match: Spark Plugs vs Holy Roller
 s
LOCATION:Newhall Court 2
END:VEVENT
BEGIN:VEVENT
DTSTAMP:20260426T000000Z
UID:3813c4cc-53c0-4c9c-8a46-9890bff1682b@ClaytonBocce
DTSTART;TZID=America/Los_Angeles:20260512T183000
DTEND;TZID=America/Los_Angeles:20260512T210000
STATUS:CONFIRMED
SUMMARY:Spark Plugs vs Bocce Madness
URL:/League/Schedule/3200
DESCRIPTION:Regular Season match: Spark Plugs vs Bocce Madne
 ss
LOCATION:Newhall Court 1
END:VEVENT
BEGIN:VEVENT
DTSTAMP:20260426T000000Z
UID:fd4cc23f-d0a5-4e5f-a525-ff5decb41812@ClaytonBocce
DTSTART;TZID=America/Los_Angeles:20260519T183000
DTEND;TZID=America/Los_Angeles:20260519T210000
STATUS:CONFIRMED
SUMMARY:Spark Plugs vs Good Fellas
URL:/League/Schedule/3200
DESCRIPTION:Regular Season match: Spark Plugs vs Good Fellas
LOCATION:Newhall Court 6
END:VEVENT
BEGIN:VEVENT
DTSTAMP:20260426T000000Z
UID:4222ad5e-7343-40f4-a466-3c696b0ce7be@ClaytonBocce
DTSTART;TZID=America/Los_Angeles:20260526T183000
DTEND;TZID=America/Los_Angeles:20260526T210000
STATUS:CONFIRMED
SUMMARY:Spark Plugs vs Pallino Pirates
URL:/League/Schedule/3200
DESCRIPTION:Regular Season match: Spark Plugs vs Pallino Pir
 ates
LOCATION:Newhall Court 7
END:VEVENT
BEGIN:VEVENT
DTSTAMP:20260426T000000Z
UID:4cf315a8-19d7-4423-a267-caa051b5d23d@ClaytonBocce
DTSTART;TZID=America/Los_Angeles:20260602T183000
DTEND;TZID=America/Los_Angeles:20260602T210000
STATUS:CONFIRMED
SUMMARY:Spark Plugs vs Wing - It!
URL:/League/Schedule/3200
DESCRIPTION:Regular Season match: Spark Plugs vs Wing - It!
LOCATION:Newhall Court 1
END:VEVENT
BEGIN:VEVENT
DTSTAMP:20260426T000000Z
UID:e0361426-a328-42be-aeac-e6a273485e14@ClaytonBocce
DTSTART;TZID=America/Los_Angeles:20260609T183000
DTEND;TZID=America/Los_Angeles:20260609T210000
STATUS:CONFIRMED
SUMMARY:Spark Plugs vs Pallino Chasers
URL:/League/Schedule/3200
DESCRIPTION:Regular Season match: Spark Plugs vs Pallino Cha
 sers
LOCATION:Newhall Court 2
END:VEVENT
BEGIN:VEVENT
DTSTAMP:20260426T000000Z
UID:ba3578d7-5ac0-4df3-85ed-76920c73072d@ClaytonBocce
DTSTART;TZID=America/Los_Angeles:20260623T183000
DTEND;TZID=America/Los_Angeles:20260623T210000
STATUS:CONFIRMED
SUMMARY:Spark Plugs vs Beginner's Luck
URL:/League/Schedule/3200
DESCRIPTION:Regular Season match: Spark Plugs vs Beginner's 
 Luck
LOCATION:Newhall Court 3
END:VEVENT
BEGIN:VEVENT
DTSTAMP:20260426T000000Z
UID:0d9b985c-af6f-4a7c-8a60-a16539cf6cf4@ClaytonBocce
DTSTART;TZID=America/Los_Angeles:20260630T183000
DTEND;TZID=America/Los_Angeles:20260630T210000
STATUS:CONFIRMED
SUMMARY:Spark Plugs vs What The Hell Was That
URL:/League/Schedule/3200
DESCRIPTION:Regular Season match: Spark Plugs vs What The He
 ll Was That
LOCATION:Newhall Court 1
END:VEVENT
BEGIN:VEVENT
DTSTAMP:20260426T000000Z
UID:303c255a-c92a-4ddc-997c-a73590255d33@ClaytonBocce
DTSTART;TZID=America/Los_Angeles:20260714T183000
DTEND;TZID=America/Los_Angeles:20260714T210000
STATUS:CONFIRMED
SUMMARY:Spark Plugs vs Holy Rollers
URL:/League/Schedule/3200
DESCRIPTION:Regular Season match: Spark Plugs vs Holy Roller
 s
LOCATION:Newhall Court 8
END:VEVENT
BEGIN:VEVENT
DTSTAMP:20260426T000000Z
UID:37a3d272-26a3-40bf-9fc2-43097a99d988@ClaytonBocce
DTSTART;TZID=America/Los_Angeles:20260721T183000
DTEND;TZID=America/Los_Angeles:20260721T210000
STATUS:CONFIRMED
SUMMARY:Spark Plugs vs Bocce Madness
URL:/League/Schedule/3200
DESCRIPTION:Regular Season match: Spark Plugs vs Bocce Madne
 ss
LOCATION:Newhall Court 7
END:VEVENT
BEGIN:VEVENT
DTSTAMP:20260426T000000Z
UID:c471b65b-deeb-42b7-afb3-51ce38fe7065@ClaytonBocce
DTSTART;TZID=America/Los_Angeles:20260728T183000
DTEND;TZID=America/Los_Angeles:20260728T210000
STATUS:CONFIRMED
SUMMARY:Spark Plugs vs Good Fellas
URL:/League/Schedule/3200
DESCRIPTION:Regular Season match: Spark Plugs vs Good Fellas
LOCATION:Newhall Court 5
END:VEVENT
BEGIN:VEVENT
DTSTAMP:20260426T000000Z
UID:4b250f15-71ae-47a6-9819-7007e21e80ce@ClaytonBocce
DTSTART;TZID=America/Los_Angeles:20260804T183000
DTEND;TZID=America/Los_Angeles:20260804T210000
STATUS:CONFIRMED
SUMMARY:Spark Plugs vs Pallino Pirates
URL:/League/Schedule/3200
DESCRIPTION:Regular Season match: Spark Plugs vs Pallino Pir
 ates
LOCATION:Newhall Court 4
END:VEVENT
BEGIN:VEVENT
DTSTAMP:20260426T000000Z
UID:59461bf6-82e0-45fb-9a3d-37a4c2dd342b@ClaytonBocce
DTSTART;TZID=America/Los_Angeles:20260811T183000
DTEND;TZID=America/Los_Angeles:20260811T210000
STATUS:CONFIRMED
SUMMARY:Spark Plugs vs Wing - It!
URL:/League/Schedule/3200
DESCRIPTION:Regular Season match: Spark Plugs vs Wing - It!
LOCATION:Newhall Court 3
END:VEVENT
BEGIN:VEVENT
DTSTAMP:20260426T000000Z
UID:1c9108e0-129c-4418-91c4-28cab5ef1900@ClaytonBocce
DTSTART;TZID=America/Los_Angeles:20260818T183000
DTEND;TZID=America/Los_Angeles:20260818T210000
STATUS:CONFIRMED
SUMMARY:Spark Plugs vs Pallino Chasers
URL:/League/Schedule/3200
DESCRIPTION:Regular Season match: Spark Plugs vs Pallino Cha
 sers
LOCATION:Newhall Court 4
END:VEVENT
BEGIN:VEVENT
DTSTAMP:20260426T000000Z
UID:5ad5c27f-91ce-4e47-9974-cb90aa4418ed@ClaytonBocce
DTSTART;TZID=America/Los_Angeles:20260901T183000
DTEND;TZID=America/Los_Angeles:20260901T210000
STATUS:CONFIRMED
SUMMARY:Spark Plugs vs Beginner's Luck
URL:/League/Schedule/3200
DESCRIPTION:Regular Season match: Spark Plugs vs Beginner's 
 Luck
LOCATION:Newhall Court 2
END:VEVENT
END:VCALENDAR
