BEGIN:VCALENDAR
VERSION:2.0
PRODID:-//Clayton Bocce League
METHOD:PUBLISH
BEGIN:VTIMEZONE
TZID:America/Los_Angeles
X-LIC-LOCATION:America/Los_Angeles
BEGIN:DAYLIGHT
TZOFFSETFROM:-0800
TZOFFSETTO:-0700
TZNAME:PDT
DTSTART:20070311T020000
RRULE:FREQ=YEARLY;BYMONTH=3;BYDAY=2SU
END:DAYLIGHT
BEGIN:STANDARD
TZOFFSETFROM:-0700
TZOFFSETTO:-0800
TZNAME:PST
DTSTART:20071104T020000
RRULE:FREQ=YEARLY;BYMONTH=11;BYDAY=1SU
END:STANDARD
END:VTIMEZONE
BEGIN:VEVENT
DTSTAMP:20260426T000000Z
UID:6f898179-0fcb-4c14-8e8d-7a4ba5728120@ClaytonBocce
DTSTART;TZID=America/Los_Angeles:20260428T183000
DTEND;TZID=America/Los_Angeles:20260428T210000
STATUS:CONFIRMED
SUMMARY:Unity Bro's vs High Bocce Burners
URL:/League/Schedule/3197
DESCRIPTION:Regular Season match: Unity Bro's vs High Bocce 
 Burners
LOCATION:Newhall Court 4
END:VEVENT
BEGIN:VEVENT
DTSTAMP:20260426T000000Z
UID:289302e0-271f-4946-85da-9db1520490c3@ClaytonBocce
DTSTART;TZID=America/Los_Angeles:20260505T183000
DTEND;TZID=America/Los_Angeles:20260505T210000
STATUS:CONFIRMED
SUMMARY:Unity Bro's vs Get To Saturday
URL:/League/Schedule/3197
DESCRIPTION:Regular Season match: Unity Bro's vs Get To Satu
 rday
LOCATION:Newhall Court 7
END:VEVENT
BEGIN:VEVENT
DTSTAMP:20260426T000000Z
UID:55266394-d8ea-44f6-b31a-f0ed4afdf29d@ClaytonBocce
DTSTART;TZID=America/Los_Angeles:20260512T183000
DTEND;TZID=America/Los_Angeles:20260512T210000
STATUS:CONFIRMED
SUMMARY:Unity Bro's vs Sempre Bocce
URL:/League/Schedule/3197
DESCRIPTION:Regular Season match: Unity Bro's vs Sempre Bocc
 e
LOCATION:Newhall Court 6
END:VEVENT
BEGIN:VEVENT
DTSTAMP:20260426T000000Z
UID:59c85162-75a9-4d82-b407-359db830d894@ClaytonBocce
DTSTART;TZID=America/Los_Angeles:20260519T183000
DTEND;TZID=America/Los_Angeles:20260519T210000
STATUS:CONFIRMED
SUMMARY:Unity Bro's vs Dusty Balls
URL:/League/Schedule/3197
DESCRIPTION:Regular Season match: Unity Bro's vs Dusty Balls
LOCATION:Newhall Court 2
END:VEVENT
BEGIN:VEVENT
DTSTAMP:20260426T000000Z
UID:93bb2b6c-be6f-4620-9442-e2ab0ab65596@ClaytonBocce
DTSTART;TZID=America/Los_Angeles:20260526T183000
DTEND;TZID=America/Los_Angeles:20260526T210000
STATUS:CONFIRMED
SUMMARY:Unity Bro's vs Bada Bing Bada Boom
URL:/League/Schedule/3197
DESCRIPTION:Regular Season match: Unity Bro's vs Bada Bing B
 ada Boom
LOCATION:Newhall Court 8
END:VEVENT
BEGIN:VEVENT
DTSTAMP:20260426T000000Z
UID:4af839a0-981d-4745-a356-576c47430bfc@ClaytonBocce
DTSTART;TZID=America/Los_Angeles:20260609T183000
DTEND;TZID=America/Los_Angeles:20260609T210000
STATUS:CONFIRMED
SUMMARY:Unity Bro's vs El Wapo
URL:/League/Schedule/3197
DESCRIPTION:Regular Season match: Unity Bro's vs El Wapo
LOCATION:Newhall Court 5
END:VEVENT
BEGIN:VEVENT
DTSTAMP:20260426T000000Z
UID:7127fb59-cce8-4d6f-b71a-627c447c55c9@ClaytonBocce
DTSTART;TZID=America/Los_Angeles:20260616T183000
DTEND;TZID=America/Los_Angeles:20260616T210000
STATUS:CONFIRMED
SUMMARY:Unity Bro's vs BallBarians
URL:/League/Schedule/3197
DESCRIPTION:Regular Season match: Unity Bro's vs BallBarians
LOCATION:Newhall Court 4
END:VEVENT
BEGIN:VEVENT
DTSTAMP:20260426T000000Z
UID:3114bde6-5489-4296-93d5-06a8bdfc842b@ClaytonBocce
DTSTART;TZID=America/Los_Angeles:20260623T183000
DTEND;TZID=America/Los_Angeles:20260623T210000
STATUS:CONFIRMED
SUMMARY:Unity Bro's vs Rock N Rollers
URL:/League/Schedule/3197
DESCRIPTION:Regular Season match: Unity Bro's vs Rock N Roll
 ers
LOCATION:Newhall Court 1
END:VEVENT
BEGIN:VEVENT
DTSTAMP:20260426T000000Z
UID:927eeadb-c260-4963-8875-7e8f279010b5@ClaytonBocce
DTSTART;TZID=America/Los_Angeles:20260630T183000
DTEND;TZID=America/Los_Angeles:20260630T210000
STATUS:CONFIRMED
SUMMARY:Unity Bro's vs High Bocce Burners
URL:/League/Schedule/3197
DESCRIPTION:Regular Season match: Unity Bro's vs High Bocce 
 Burners
LOCATION:Newhall Court 2
END:VEVENT
BEGIN:VEVENT
DTSTAMP:20260426T000000Z
UID:f164e03d-bc8f-461d-858b-78a3b71256fb@ClaytonBocce
DTSTART;TZID=America/Los_Angeles:20260714T183000
DTEND;TZID=America/Los_Angeles:20260714T210000
STATUS:CONFIRMED
SUMMARY:Unity Bro's vs Get To Saturday
URL:/League/Schedule/3197
DESCRIPTION:Regular Season match: Unity Bro's vs Get To Satu
 rday
LOCATION:Newhall Court 6
END:VEVENT
BEGIN:VEVENT
DTSTAMP:20260426T000000Z
UID:2fe7e07e-b9e8-4930-80df-07b23de1994b@ClaytonBocce
DTSTART;TZID=America/Los_Angeles:20260721T183000
DTEND;TZID=America/Los_Angeles:20260721T210000
STATUS:CONFIRMED
SUMMARY:Unity Bro's vs Sempre Bocce
URL:/League/Schedule/3197
DESCRIPTION:Regular Season match: Unity Bro's vs Sempre Bocc
 e
LOCATION:Newhall Court 5
END:VEVENT
BEGIN:VEVENT
DTSTAMP:20260426T000000Z
UID:8e1e9931-a735-4702-9397-2ddd37f77d9a@ClaytonBocce
DTSTART;TZID=America/Los_Angeles:20260728T183000
DTEND;TZID=America/Los_Angeles:20260728T210000
STATUS:CONFIRMED
SUMMARY:Unity Bro's vs Dusty Balls
URL:/League/Schedule/3197
DESCRIPTION:Regular Season match: Unity Bro's vs Dusty Balls
LOCATION:Newhall Court 4
END:VEVENT
BEGIN:VEVENT
DTSTAMP:20260426T000000Z
UID:44f01be6-1d76-407c-a883-337b8271e65d@ClaytonBocce
DTSTART;TZID=America/Los_Angeles:20260804T183000
DTEND;TZID=America/Los_Angeles:20260804T210000
STATUS:CONFIRMED
SUMMARY:Unity Bro's vs Bada Bing Bada Boom
URL:/League/Schedule/3197
DESCRIPTION:Regular Season match: Unity Bro's vs Bada Bing B
 ada Boom
LOCATION:Newhall Court 7
END:VEVENT
BEGIN:VEVENT
DTSTAMP:20260426T000000Z
UID:63629106-f649-40e9-8e44-444ada722df3@ClaytonBocce
DTSTART;TZID=America/Los_Angeles:20260818T183000
DTEND;TZID=America/Los_Angeles:20260818T210000
STATUS:CONFIRMED
SUMMARY:Unity Bro's vs El Wapo
URL:/League/Schedule/3197
DESCRIPTION:Regular Season match: Unity Bro's vs El Wapo
LOCATION:Newhall Court 5
END:VEVENT
BEGIN:VEVENT
DTSTAMP:20260426T000000Z
UID:ab21d007-bcc2-45e3-b353-b20e4d53aaf8@ClaytonBocce
DTSTART;TZID=America/Los_Angeles:20260825T183000
DTEND;TZID=America/Los_Angeles:20260825T210000
STATUS:CONFIRMED
SUMMARY:Unity Bro's vs BallBarians
URL:/League/Schedule/3197
DESCRIPTION:Regular Season match: Unity Bro's vs BallBarians
LOCATION:Newhall Court 3
END:VEVENT
BEGIN:VEVENT
DTSTAMP:20260426T000000Z
UID:3d2d9699-8993-4ce6-a353-16d4893f52c5@ClaytonBocce
DTSTART;TZID=America/Los_Angeles:20260901T183000
DTEND;TZID=America/Los_Angeles:20260901T210000
STATUS:CONFIRMED
SUMMARY:Unity Bro's vs Rock N Rollers
URL:/League/Schedule/3197
DESCRIPTION:Regular Season match: Unity Bro's vs Rock N Roll
 ers
LOCATION:Newhall Court 8
END:VEVENT
END:VCALENDAR
