BEGIN:VCALENDAR
VERSION:2.0
PRODID:-//Clayton Bocce League
METHOD:PUBLISH
BEGIN:VTIMEZONE
TZID:America/Los_Angeles
X-LIC-LOCATION:America/Los_Angeles
BEGIN:DAYLIGHT
TZOFFSETFROM:-0800
TZOFFSETTO:-0700
TZNAME:PDT
DTSTART:20070311T020000
RRULE:FREQ=YEARLY;BYMONTH=3;BYDAY=2SU
END:DAYLIGHT
BEGIN:STANDARD
TZOFFSETFROM:-0700
TZOFFSETTO:-0800
TZNAME:PST
DTSTART:20071104T020000
RRULE:FREQ=YEARLY;BYMONTH=11;BYDAY=1SU
END:STANDARD
END:VTIMEZONE
BEGIN:VEVENT
DTSTAMP:20260426T000000Z
UID:6f898179-0fcb-4c14-8e8d-7a4ba5728120@ClaytonBocce
DTSTART;TZID=America/Los_Angeles:20260428T183000
DTEND;TZID=America/Los_Angeles:20260428T210000
STATUS:CONFIRMED
SUMMARY:High Bocce Burners vs Unity Bro's
URL:/League/Schedule/3207
DESCRIPTION:Regular Season match: High Bocce Burners vs Unit
 y Bro's
LOCATION:Newhall Court 4
END:VEVENT
BEGIN:VEVENT
DTSTAMP:20260426T000000Z
UID:ec2bbebd-4c57-473b-98a0-170166d5eca2@ClaytonBocce
DTSTART;TZID=America/Los_Angeles:20260505T183000
DTEND;TZID=America/Los_Angeles:20260505T210000
STATUS:CONFIRMED
SUMMARY:High Bocce Burners vs El Wapo
URL:/League/Schedule/3207
DESCRIPTION:Regular Season match: High Bocce Burners vs El W
 apo
LOCATION:Newhall Court 1
END:VEVENT
BEGIN:VEVENT
DTSTAMP:20260426T000000Z
UID:99abaf30-2c83-4914-85e0-adc44d5d83c5@ClaytonBocce
DTSTART;TZID=America/Los_Angeles:20260512T183000
DTEND;TZID=America/Los_Angeles:20260512T210000
STATUS:CONFIRMED
SUMMARY:High Bocce Burners vs BallBarians
URL:/League/Schedule/3207
DESCRIPTION:Regular Season match: High Bocce Burners vs Ball
 Barians
LOCATION:Newhall Court 3
END:VEVENT
BEGIN:VEVENT
DTSTAMP:20260426T000000Z
UID:be2b75ed-792f-4c0c-bb6b-af97208bcf3e@ClaytonBocce
DTSTART;TZID=America/Los_Angeles:20260519T183000
DTEND;TZID=America/Los_Angeles:20260519T210000
STATUS:CONFIRMED
SUMMARY:High Bocce Burners vs Rock N Rollers
URL:/League/Schedule/3207
DESCRIPTION:Regular Season match: High Bocce Burners vs Rock
  N Rollers
LOCATION:Newhall Court 7
END:VEVENT
BEGIN:VEVENT
DTSTAMP:20260426T000000Z
UID:a9c1382a-cf55-4d68-8f54-244a7d76e554@ClaytonBocce
DTSTART;TZID=America/Los_Angeles:20260602T183000
DTEND;TZID=America/Los_Angeles:20260602T210000
STATUS:CONFIRMED
SUMMARY:High Bocce Burners vs Get To Saturday
URL:/League/Schedule/3207
DESCRIPTION:Regular Season match: High Bocce Burners vs Get 
 To Saturday
LOCATION:Newhall Court 2
END:VEVENT
BEGIN:VEVENT
DTSTAMP:20260426T000000Z
UID:d1a07808-a437-4b8e-8b7d-d2fd94ecdd52@ClaytonBocce
DTSTART;TZID=America/Los_Angeles:20260609T183000
DTEND;TZID=America/Los_Angeles:20260609T210000
STATUS:CONFIRMED
SUMMARY:High Bocce Burners vs Sempre Bocce
URL:/League/Schedule/3207
DESCRIPTION:Regular Season match: High Bocce Burners vs Semp
 re Bocce
LOCATION:Newhall Court 8
END:VEVENT
BEGIN:VEVENT
DTSTAMP:20260426T000000Z
UID:fb9e851e-7a90-4d39-8a9a-a5582d08e7dd@ClaytonBocce
DTSTART;TZID=America/Los_Angeles:20260616T183000
DTEND;TZID=America/Los_Angeles:20260616T210000
STATUS:CONFIRMED
SUMMARY:High Bocce Burners vs Dusty Balls
URL:/League/Schedule/3207
DESCRIPTION:Regular Season match: High Bocce Burners vs Dust
 y Balls
LOCATION:Newhall Court 5
END:VEVENT
BEGIN:VEVENT
DTSTAMP:20260426T000000Z
UID:bc16378c-7078-4bd2-bb5a-627443aeef49@ClaytonBocce
DTSTART;TZID=America/Los_Angeles:20260623T183000
DTEND;TZID=America/Los_Angeles:20260623T210000
STATUS:CONFIRMED
SUMMARY:High Bocce Burners vs Bada Bing Bada Boom
URL:/League/Schedule/3207
DESCRIPTION:Regular Season match: High Bocce Burners vs Bada
  Bing Bada Boom
LOCATION:Newhall Court 6
END:VEVENT
BEGIN:VEVENT
DTSTAMP:20260426T000000Z
UID:927eeadb-c260-4963-8875-7e8f279010b5@ClaytonBocce
DTSTART;TZID=America/Los_Angeles:20260630T183000
DTEND;TZID=America/Los_Angeles:20260630T210000
STATUS:CONFIRMED
SUMMARY:High Bocce Burners vs Unity Bro's
URL:/League/Schedule/3207
DESCRIPTION:Regular Season match: High Bocce Burners vs Unit
 y Bro's
LOCATION:Newhall Court 2
END:VEVENT
BEGIN:VEVENT
DTSTAMP:20260426T000000Z
UID:70c80d9e-6d27-4a1f-b9c8-e00263d6193b@ClaytonBocce
DTSTART;TZID=America/Los_Angeles:20260714T183000
DTEND;TZID=America/Los_Angeles:20260714T210000
STATUS:CONFIRMED
SUMMARY:High Bocce Burners vs El Wapo
URL:/League/Schedule/3207
DESCRIPTION:Regular Season match: High Bocce Burners vs El W
 apo
LOCATION:Newhall Court 3
END:VEVENT
BEGIN:VEVENT
DTSTAMP:20260426T000000Z
UID:604cd76f-8350-46b5-aef3-96971d274543@ClaytonBocce
DTSTART;TZID=America/Los_Angeles:20260721T183000
DTEND;TZID=America/Los_Angeles:20260721T210000
STATUS:CONFIRMED
SUMMARY:High Bocce Burners vs BallBarians
URL:/League/Schedule/3207
DESCRIPTION:Regular Season match: High Bocce Burners vs Ball
 Barians
LOCATION:Newhall Court 4
END:VEVENT
BEGIN:VEVENT
DTSTAMP:20260426T000000Z
UID:33484c16-9b2c-4ec4-8bb5-33d69ab1ccd5@ClaytonBocce
DTSTART;TZID=America/Los_Angeles:20260728T183000
DTEND;TZID=America/Los_Angeles:20260728T210000
STATUS:CONFIRMED
SUMMARY:High Bocce Burners vs Rock N Rollers
URL:/League/Schedule/3207
DESCRIPTION:Regular Season match: High Bocce Burners vs Rock
  N Rollers
LOCATION:Newhall Court 7
END:VEVENT
BEGIN:VEVENT
DTSTAMP:20260426T000000Z
UID:3d451726-f995-4629-b246-4bbad9760899@ClaytonBocce
DTSTART;TZID=America/Los_Angeles:20260811T183000
DTEND;TZID=America/Los_Angeles:20260811T210000
STATUS:CONFIRMED
SUMMARY:High Bocce Burners vs Get To Saturday
URL:/League/Schedule/3207
DESCRIPTION:Regular Season match: High Bocce Burners vs Get 
 To Saturday
LOCATION:Newhall Court 1
END:VEVENT
BEGIN:VEVENT
DTSTAMP:20260426T000000Z
UID:ecd5613b-36b3-439f-8cc8-b510f257aa8b@ClaytonBocce
DTSTART;TZID=America/Los_Angeles:20260818T183000
DTEND;TZID=America/Los_Angeles:20260818T210000
STATUS:CONFIRMED
SUMMARY:High Bocce Burners vs Sempre Bocce
URL:/League/Schedule/3207
DESCRIPTION:Regular Season match: High Bocce Burners vs Semp
 re Bocce
LOCATION:Newhall Court 8
END:VEVENT
BEGIN:VEVENT
DTSTAMP:20260426T000000Z
UID:becbe38d-6bab-4eae-a68e-0cef4be4704f@ClaytonBocce
DTSTART;TZID=America/Los_Angeles:20260825T183000
DTEND;TZID=America/Los_Angeles:20260825T210000
STATUS:CONFIRMED
SUMMARY:High Bocce Burners vs Dusty Balls
URL:/League/Schedule/3207
DESCRIPTION:Regular Season match: High Bocce Burners vs Dust
 y Balls
LOCATION:Newhall Court 6
END:VEVENT
BEGIN:VEVENT
DTSTAMP:20260426T000000Z
UID:cb83c4f3-4fd2-41c3-a8ef-6555ec6f2bae@ClaytonBocce
DTSTART;TZID=America/Los_Angeles:20260901T183000
DTEND;TZID=America/Los_Angeles:20260901T210000
STATUS:CONFIRMED
SUMMARY:High Bocce Burners vs Bada Bing Bada Boom
URL:/League/Schedule/3207
DESCRIPTION:Regular Season match: High Bocce Burners vs Bada
  Bing Bada Boom
LOCATION:Newhall Court 1
END:VEVENT
END:VCALENDAR
