BEGIN:VCALENDAR
VERSION:2.0
PRODID:-//Clayton Bocce League
METHOD:PUBLISH
BEGIN:VTIMEZONE
TZID:America/Los_Angeles
X-LIC-LOCATION:America/Los_Angeles
BEGIN:DAYLIGHT
TZOFFSETFROM:-0800
TZOFFSETTO:-0700
TZNAME:PDT
DTSTART:20070311T020000
RRULE:FREQ=YEARLY;BYMONTH=3;BYDAY=2SU
END:DAYLIGHT
BEGIN:STANDARD
TZOFFSETFROM:-0700
TZOFFSETTO:-0800
TZNAME:PST
DTSTART:20071104T020000
RRULE:FREQ=YEARLY;BYMONTH=11;BYDAY=1SU
END:STANDARD
END:VTIMEZONE
BEGIN:VEVENT
DTSTAMP:20260426T000000Z
UID:35a126f0-e80e-42fb-81fe-15498a8027a3@ClaytonBocce
DTSTART;TZID=America/Los_Angeles:20260428T183000
DTEND;TZID=America/Los_Angeles:20260428T210000
STATUS:CONFIRMED
SUMMARY:Bocce Madness vs Wing - It!
URL:/League/Schedule/3196
DESCRIPTION:Regular Season match: Bocce Madness vs Wing - It
 !
LOCATION:Newhall Court 7
END:VEVENT
BEGIN:VEVENT
DTSTAMP:20260426T000000Z
UID:b6e8feda-b8dc-4a6a-a860-7afc6e2cbf53@ClaytonBocce
DTSTART;TZID=America/Los_Angeles:20260505T183000
DTEND;TZID=America/Los_Angeles:20260505T210000
STATUS:CONFIRMED
SUMMARY:Bocce Madness vs Pallino Chasers
URL:/League/Schedule/3196
DESCRIPTION:Regular Season match: Bocce Madness vs Pallino C
 hasers
LOCATION:Newhall Court 4
END:VEVENT
BEGIN:VEVENT
DTSTAMP:20260426T000000Z
UID:3813c4cc-53c0-4c9c-8a46-9890bff1682b@ClaytonBocce
DTSTART;TZID=America/Los_Angeles:20260512T183000
DTEND;TZID=America/Los_Angeles:20260512T210000
STATUS:CONFIRMED
SUMMARY:Bocce Madness vs Spark Plugs
URL:/League/Schedule/3196
DESCRIPTION:Regular Season match: Bocce Madness vs Spark Plu
 gs
LOCATION:Newhall Court 1
END:VEVENT
BEGIN:VEVENT
DTSTAMP:20260426T000000Z
UID:e4cb25ab-5602-48df-bdc0-f16b17586118@ClaytonBocce
DTSTART;TZID=America/Los_Angeles:20260519T183000
DTEND;TZID=America/Los_Angeles:20260519T210000
STATUS:CONFIRMED
SUMMARY:Bocce Madness vs Beginner's Luck
URL:/League/Schedule/3196
DESCRIPTION:Regular Season match: Bocce Madness vs Beginner'
 s Luck
LOCATION:Newhall Court 5
END:VEVENT
BEGIN:VEVENT
DTSTAMP:20260426T000000Z
UID:e74b3906-424d-4092-8a17-b22229d9cbef@ClaytonBocce
DTSTART;TZID=America/Los_Angeles:20260526T183000
DTEND;TZID=America/Los_Angeles:20260526T210000
STATUS:CONFIRMED
SUMMARY:Bocce Madness vs What The Hell Was That
URL:/League/Schedule/3196
DESCRIPTION:Regular Season match: Bocce Madness vs What The 
 Hell Was That
LOCATION:Newhall Court 4
END:VEVENT
BEGIN:VEVENT
DTSTAMP:20260426T000000Z
UID:df3f7295-5b21-487b-b05c-1a9487c042d3@ClaytonBocce
DTSTART;TZID=America/Los_Angeles:20260602T183000
DTEND;TZID=America/Los_Angeles:20260602T210000
STATUS:CONFIRMED
SUMMARY:Bocce Madness vs Holy Rollers
URL:/League/Schedule/3196
DESCRIPTION:Regular Season match: Bocce Madness vs Holy Roll
 ers
LOCATION:Newhall Court 8
END:VEVENT
BEGIN:VEVENT
DTSTAMP:20260426T000000Z
UID:ad4feba3-ab22-4e66-bd94-639034ea2817@ClaytonBocce
DTSTART;TZID=America/Los_Angeles:20260616T183000
DTEND;TZID=America/Los_Angeles:20260616T210000
STATUS:CONFIRMED
SUMMARY:Bocce Madness vs Good Fellas
URL:/League/Schedule/3196
DESCRIPTION:Regular Season match: Bocce Madness vs Good Fell
 as
LOCATION:Newhall Court 6
END:VEVENT
BEGIN:VEVENT
DTSTAMP:20260426T000000Z
UID:26fe5df4-8c61-418f-90d7-9dedf607a89f@ClaytonBocce
DTSTART;TZID=America/Los_Angeles:20260623T183000
DTEND;TZID=America/Los_Angeles:20260623T210000
STATUS:CONFIRMED
SUMMARY:Bocce Madness vs Pallino Pirates
URL:/League/Schedule/3196
DESCRIPTION:Regular Season match: Bocce Madness vs Pallino P
 irates
LOCATION:Newhall Court 2
END:VEVENT
BEGIN:VEVENT
DTSTAMP:20260426T000000Z
UID:050cd448-34ce-4c2b-8026-d9e3db6ebd7f@ClaytonBocce
DTSTART;TZID=America/Los_Angeles:20260630T183000
DTEND;TZID=America/Los_Angeles:20260630T210000
STATUS:CONFIRMED
SUMMARY:Bocce Madness vs Wing - It!
URL:/League/Schedule/3196
DESCRIPTION:Regular Season match: Bocce Madness vs Wing - It
 !
LOCATION:Newhall Court 8
END:VEVENT
BEGIN:VEVENT
DTSTAMP:20260426T000000Z
UID:c5f01c0e-a82f-4248-bba5-b56a46e545b1@ClaytonBocce
DTSTART;TZID=America/Los_Angeles:20260714T183000
DTEND;TZID=America/Los_Angeles:20260714T210000
STATUS:CONFIRMED
SUMMARY:Bocce Madness vs Pallino Chasers
URL:/League/Schedule/3196
DESCRIPTION:Regular Season match: Bocce Madness vs Pallino C
 hasers
LOCATION:Newhall Court 1
END:VEVENT
BEGIN:VEVENT
DTSTAMP:20260426T000000Z
UID:37a3d272-26a3-40bf-9fc2-43097a99d988@ClaytonBocce
DTSTART;TZID=America/Los_Angeles:20260721T183000
DTEND;TZID=America/Los_Angeles:20260721T210000
STATUS:CONFIRMED
SUMMARY:Bocce Madness vs Spark Plugs
URL:/League/Schedule/3196
DESCRIPTION:Regular Season match: Bocce Madness vs Spark Plu
 gs
LOCATION:Newhall Court 7
END:VEVENT
BEGIN:VEVENT
DTSTAMP:20260426T000000Z
UID:e4a83395-bc1b-4dc9-8991-64274552d53b@ClaytonBocce
DTSTART;TZID=America/Los_Angeles:20260728T183000
DTEND;TZID=America/Los_Angeles:20260728T210000
STATUS:CONFIRMED
SUMMARY:Bocce Madness vs Beginner's Luck
URL:/League/Schedule/3196
DESCRIPTION:Regular Season match: Bocce Madness vs Beginner'
 s Luck
LOCATION:Newhall Court 3
END:VEVENT
BEGIN:VEVENT
DTSTAMP:20260426T000000Z
UID:cb2187ba-3553-4988-82b8-55570db99d13@ClaytonBocce
DTSTART;TZID=America/Los_Angeles:20260804T183000
DTEND;TZID=America/Los_Angeles:20260804T210000
STATUS:CONFIRMED
SUMMARY:Bocce Madness vs What The Hell Was That
URL:/League/Schedule/3196
DESCRIPTION:Regular Season match: Bocce Madness vs What The 
 Hell Was That
LOCATION:Newhall Court 8
END:VEVENT
BEGIN:VEVENT
DTSTAMP:20260426T000000Z
UID:06e0b555-ce7d-46ae-b516-95e42587a482@ClaytonBocce
DTSTART;TZID=America/Los_Angeles:20260811T183000
DTEND;TZID=America/Los_Angeles:20260811T210000
STATUS:CONFIRMED
SUMMARY:Bocce Madness vs Holy Rollers
URL:/League/Schedule/3196
DESCRIPTION:Regular Season match: Bocce Madness vs Holy Roll
 ers
LOCATION:Newhall Court 7
END:VEVENT
BEGIN:VEVENT
DTSTAMP:20260426T000000Z
UID:f071a6c8-2b81-44a0-94a5-7552ddb3e0bc@ClaytonBocce
DTSTART;TZID=America/Los_Angeles:20260825T183000
DTEND;TZID=America/Los_Angeles:20260825T210000
STATUS:CONFIRMED
SUMMARY:Bocce Madness vs Good Fellas
URL:/League/Schedule/3196
DESCRIPTION:Regular Season match: Bocce Madness vs Good Fell
 as
LOCATION:Newhall Court 2
END:VEVENT
BEGIN:VEVENT
DTSTAMP:20260426T000000Z
UID:a9e3be65-6d6f-46b5-b7d8-d8ada2b6b927@ClaytonBocce
DTSTART;TZID=America/Los_Angeles:20260901T183000
DTEND;TZID=America/Los_Angeles:20260901T210000
STATUS:CONFIRMED
SUMMARY:Bocce Madness vs Pallino Pirates
URL:/League/Schedule/3196
DESCRIPTION:Regular Season match: Bocce Madness vs Pallino P
 irates
LOCATION:Newhall Court 3
END:VEVENT
END:VCALENDAR
