BEGIN:VCALENDAR
VERSION:2.0
PRODID:-//Clayton Bocce League
METHOD:PUBLISH
BEGIN:VTIMEZONE
TZID:America/Los_Angeles
X-LIC-LOCATION:America/Los_Angeles
BEGIN:DAYLIGHT
TZOFFSETFROM:-0800
TZOFFSETTO:-0700
TZNAME:PDT
DTSTART:20070311T020000
RRULE:FREQ=YEARLY;BYMONTH=3;BYDAY=2SU
END:DAYLIGHT
BEGIN:STANDARD
TZOFFSETFROM:-0700
TZOFFSETTO:-0800
TZNAME:PST
DTSTART:20071104T020000
RRULE:FREQ=YEARLY;BYMONTH=11;BYDAY=1SU
END:STANDARD
END:VTIMEZONE
BEGIN:VEVENT
DTSTAMP:20260426T000000Z
UID:35a126f0-e80e-42fb-81fe-15498a8027a3@ClaytonBocce
DTSTART;TZID=America/Los_Angeles:20260428T183000
DTEND;TZID=America/Los_Angeles:20260428T210000
STATUS:CONFIRMED
SUMMARY:Wing - It! vs Bocce Madness
URL:/League/Schedule/3202
DESCRIPTION:Regular Season match: Wing - It! vs Bocce Madnes
 s
LOCATION:Newhall Court 7
END:VEVENT
BEGIN:VEVENT
DTSTAMP:20260426T000000Z
UID:ad7e13d5-d4aa-44d9-bc70-6614d8234b01@ClaytonBocce
DTSTART;TZID=America/Los_Angeles:20260505T183000
DTEND;TZID=America/Los_Angeles:20260505T210000
STATUS:CONFIRMED
SUMMARY:Wing - It! vs Good Fellas
URL:/League/Schedule/3202
DESCRIPTION:Regular Season match: Wing - It! vs Good Fellas
LOCATION:Newhall Court 3
END:VEVENT
BEGIN:VEVENT
DTSTAMP:20260426T000000Z
UID:3c762e5f-b83a-4865-82d7-18e7f2000eac@ClaytonBocce
DTSTART;TZID=America/Los_Angeles:20260512T183000
DTEND;TZID=America/Los_Angeles:20260512T210000
STATUS:CONFIRMED
SUMMARY:Wing - It! vs Pallino Pirates
URL:/League/Schedule/3202
DESCRIPTION:Regular Season match: Wing - It! vs Pallino Pira
 tes
LOCATION:Newhall Court 8
END:VEVENT
BEGIN:VEVENT
DTSTAMP:20260426T000000Z
UID:06a99d44-e744-44bc-a66b-a765438726b6@ClaytonBocce
DTSTART;TZID=America/Los_Angeles:20260526T183000
DTEND;TZID=America/Los_Angeles:20260526T210000
STATUS:CONFIRMED
SUMMARY:Wing - It! vs Pallino Chasers
URL:/League/Schedule/3202
DESCRIPTION:Regular Season match: Wing - It! vs Pallino Chas
 ers
LOCATION:Newhall Court 5
END:VEVENT
BEGIN:VEVENT
DTSTAMP:20260426T000000Z
UID:4cf315a8-19d7-4423-a267-caa051b5d23d@ClaytonBocce
DTSTART;TZID=America/Los_Angeles:20260602T183000
DTEND;TZID=America/Los_Angeles:20260602T210000
STATUS:CONFIRMED
SUMMARY:Wing - It! vs Spark Plugs
URL:/League/Schedule/3202
DESCRIPTION:Regular Season match: Wing - It! vs Spark Plugs
LOCATION:Newhall Court 1
END:VEVENT
BEGIN:VEVENT
DTSTAMP:20260426T000000Z
UID:42e1e1c4-bae9-471a-a387-a1be6d23a111@ClaytonBocce
DTSTART;TZID=America/Los_Angeles:20260609T183000
DTEND;TZID=America/Los_Angeles:20260609T210000
STATUS:CONFIRMED
SUMMARY:Wing - It! vs Beginner's Luck
URL:/League/Schedule/3202
DESCRIPTION:Regular Season match: Wing - It! vs Beginner's L
 uck
LOCATION:Newhall Court 7
END:VEVENT
BEGIN:VEVENT
DTSTAMP:20260426T000000Z
UID:36c68af8-c262-4d8e-8c4a-211769b507b7@ClaytonBocce
DTSTART;TZID=America/Los_Angeles:20260616T183000
DTEND;TZID=America/Los_Angeles:20260616T210000
STATUS:CONFIRMED
SUMMARY:Wing - It! vs What The Hell Was That
URL:/League/Schedule/3202
DESCRIPTION:Regular Season match: Wing - It! vs What The Hel
 l Was That
LOCATION:Newhall Court 3
END:VEVENT
BEGIN:VEVENT
DTSTAMP:20260426T000000Z
UID:c3e43073-531d-4d41-9b2d-b81ae61cffec@ClaytonBocce
DTSTART;TZID=America/Los_Angeles:20260623T183000
DTEND;TZID=America/Los_Angeles:20260623T210000
STATUS:CONFIRMED
SUMMARY:Wing - It! vs Holy Rollers
URL:/League/Schedule/3202
DESCRIPTION:Regular Season match: Wing - It! vs Holy Rollers
LOCATION:Newhall Court 4
END:VEVENT
BEGIN:VEVENT
DTSTAMP:20260426T000000Z
UID:050cd448-34ce-4c2b-8026-d9e3db6ebd7f@ClaytonBocce
DTSTART;TZID=America/Los_Angeles:20260630T183000
DTEND;TZID=America/Los_Angeles:20260630T210000
STATUS:CONFIRMED
SUMMARY:Wing - It! vs Bocce Madness
URL:/League/Schedule/3202
DESCRIPTION:Regular Season match: Wing - It! vs Bocce Madnes
 s
LOCATION:Newhall Court 8
END:VEVENT
BEGIN:VEVENT
DTSTAMP:20260426T000000Z
UID:35d3ed1f-572d-4f58-a156-889d6a33ce9f@ClaytonBocce
DTSTART;TZID=America/Los_Angeles:20260714T183000
DTEND;TZID=America/Los_Angeles:20260714T210000
STATUS:CONFIRMED
SUMMARY:Wing - It! vs Good Fellas
URL:/League/Schedule/3202
DESCRIPTION:Regular Season match: Wing - It! vs Good Fellas
LOCATION:Newhall Court 2
END:VEVENT
BEGIN:VEVENT
DTSTAMP:20260426T000000Z
UID:968b092d-ccc5-4212-91cb-d973a7a0dc09@ClaytonBocce
DTSTART;TZID=America/Los_Angeles:20260721T183000
DTEND;TZID=America/Los_Angeles:20260721T210000
STATUS:CONFIRMED
SUMMARY:Wing - It! vs Pallino Pirates
URL:/League/Schedule/3202
DESCRIPTION:Regular Season match: Wing - It! vs Pallino Pira
 tes
LOCATION:Newhall Court 1
END:VEVENT
BEGIN:VEVENT
DTSTAMP:20260426T000000Z
UID:4bd5a49a-8575-4ada-b95c-bd0ad65c3416@ClaytonBocce
DTSTART;TZID=America/Los_Angeles:20260804T183000
DTEND;TZID=America/Los_Angeles:20260804T210000
STATUS:CONFIRMED
SUMMARY:Wing - It! vs Pallino Chasers
URL:/League/Schedule/3202
DESCRIPTION:Regular Season match: Wing - It! vs Pallino Chas
 ers
LOCATION:Newhall Court 5
END:VEVENT
BEGIN:VEVENT
DTSTAMP:20260426T000000Z
UID:59461bf6-82e0-45fb-9a3d-37a4c2dd342b@ClaytonBocce
DTSTART;TZID=America/Los_Angeles:20260811T183000
DTEND;TZID=America/Los_Angeles:20260811T210000
STATUS:CONFIRMED
SUMMARY:Wing - It! vs Spark Plugs
URL:/League/Schedule/3202
DESCRIPTION:Regular Season match: Wing - It! vs Spark Plugs
LOCATION:Newhall Court 3
END:VEVENT
BEGIN:VEVENT
DTSTAMP:20260426T000000Z
UID:034e4a42-9d8a-4864-a064-e77d9321eeca@ClaytonBocce
DTSTART;TZID=America/Los_Angeles:20260818T183000
DTEND;TZID=America/Los_Angeles:20260818T210000
STATUS:CONFIRMED
SUMMARY:Wing - It! vs Beginner's Luck
URL:/League/Schedule/3202
DESCRIPTION:Regular Season match: Wing - It! vs Beginner's L
 uck
LOCATION:Newhall Court 6
END:VEVENT
BEGIN:VEVENT
DTSTAMP:20260426T000000Z
UID:adaea299-62c3-4ca3-887c-7e9cdd6d4a17@ClaytonBocce
DTSTART;TZID=America/Los_Angeles:20260825T183000
DTEND;TZID=America/Los_Angeles:20260825T210000
STATUS:CONFIRMED
SUMMARY:Wing - It! vs What The Hell Was That
URL:/League/Schedule/3202
DESCRIPTION:Regular Season match: Wing - It! vs What The Hel
 l Was That
LOCATION:Newhall Court 8
END:VEVENT
BEGIN:VEVENT
DTSTAMP:20260426T000000Z
UID:3fe04d1f-8dc6-4f30-888c-9c2dec8a8659@ClaytonBocce
DTSTART;TZID=America/Los_Angeles:20260901T183000
DTEND;TZID=America/Los_Angeles:20260901T210000
STATUS:CONFIRMED
SUMMARY:Wing - It! vs Holy Rollers
URL:/League/Schedule/3202
DESCRIPTION:Regular Season match: Wing - It! vs Holy Rollers
LOCATION:Newhall Court 6
END:VEVENT
END:VCALENDAR
