BEGIN:VCALENDAR
VERSION:2.0
PRODID:-//Clayton Bocce League
METHOD:PUBLISH
BEGIN:VTIMEZONE
TZID:America/Los_Angeles
X-LIC-LOCATION:America/Los_Angeles
BEGIN:DAYLIGHT
TZOFFSETFROM:-0800
TZOFFSETTO:-0700
TZNAME:PDT
DTSTART:20070311T020000
RRULE:FREQ=YEARLY;BYMONTH=3;BYDAY=2SU
END:DAYLIGHT
BEGIN:STANDARD
TZOFFSETFROM:-0700
TZOFFSETTO:-0800
TZNAME:PST
DTSTART:20071104T020000
RRULE:FREQ=YEARLY;BYMONTH=11;BYDAY=1SU
END:STANDARD
END:VTIMEZONE
BEGIN:VEVENT
DTSTAMP:20260426T000000Z
UID:e1a6556a-6f50-4468-8658-329a3bcdabd6@ClaytonBocce
DTSTART;TZID=America/Los_Angeles:20260428T183000
DTEND;TZID=America/Los_Angeles:20260428T210000
STATUS:CONFIRMED
SUMMARY:Get To Saturday vs Bada Bing Bada Boom
URL:/League/Schedule/3195
DESCRIPTION:Regular Season match: Get To Saturday vs Bada Bi
 ng Bada Boom
LOCATION:Newhall Court 3
END:VEVENT
BEGIN:VEVENT
DTSTAMP:20260426T000000Z
UID:289302e0-271f-4946-85da-9db1520490c3@ClaytonBocce
DTSTART;TZID=America/Los_Angeles:20260505T183000
DTEND;TZID=America/Los_Angeles:20260505T210000
STATUS:CONFIRMED
SUMMARY:Get To Saturday vs Unity Bro's
URL:/League/Schedule/3195
DESCRIPTION:Regular Season match: Get To Saturday vs Unity B
 ro's
LOCATION:Newhall Court 7
END:VEVENT
BEGIN:VEVENT
DTSTAMP:20260426T000000Z
UID:0ca9bd40-0327-4ae6-9e93-ade0769d18bd@ClaytonBocce
DTSTART;TZID=America/Los_Angeles:20260512T183000
DTEND;TZID=America/Los_Angeles:20260512T210000
STATUS:CONFIRMED
SUMMARY:Get To Saturday vs El Wapo
URL:/League/Schedule/3195
DESCRIPTION:Regular Season match: Get To Saturday vs El Wapo
LOCATION:Newhall Court 5
END:VEVENT
BEGIN:VEVENT
DTSTAMP:20260426T000000Z
UID:de9fb62d-8ec2-4d96-9b52-02539d087101@ClaytonBocce
DTSTART;TZID=America/Los_Angeles:20260519T183000
DTEND;TZID=America/Los_Angeles:20260519T210000
STATUS:CONFIRMED
SUMMARY:Get To Saturday vs BallBarians
URL:/League/Schedule/3195
DESCRIPTION:Regular Season match: Get To Saturday vs BallBar
 ians
LOCATION:Newhall Court 4
END:VEVENT
BEGIN:VEVENT
DTSTAMP:20260426T000000Z
UID:89634171-f0cc-44e2-97c8-ab5b520c7420@ClaytonBocce
DTSTART;TZID=America/Los_Angeles:20260526T183000
DTEND;TZID=America/Los_Angeles:20260526T210000
STATUS:CONFIRMED
SUMMARY:Get To Saturday vs Rock N Rollers
URL:/League/Schedule/3195
DESCRIPTION:Regular Season match: Get To Saturday vs Rock N 
 Rollers
LOCATION:Newhall Court 6
END:VEVENT
BEGIN:VEVENT
DTSTAMP:20260426T000000Z
UID:a9c1382a-cf55-4d68-8f54-244a7d76e554@ClaytonBocce
DTSTART;TZID=America/Los_Angeles:20260602T183000
DTEND;TZID=America/Los_Angeles:20260602T210000
STATUS:CONFIRMED
SUMMARY:Get To Saturday vs High Bocce Burners
URL:/League/Schedule/3195
DESCRIPTION:Regular Season match: Get To Saturday vs High Bo
 cce Burners
LOCATION:Newhall Court 2
END:VEVENT
BEGIN:VEVENT
DTSTAMP:20260426T000000Z
UID:625ba88c-10cb-474f-88b1-7cf39f558db0@ClaytonBocce
DTSTART;TZID=America/Los_Angeles:20260616T183000
DTEND;TZID=America/Los_Angeles:20260616T210000
STATUS:CONFIRMED
SUMMARY:Get To Saturday vs Sempre Bocce
URL:/League/Schedule/3195
DESCRIPTION:Regular Season match: Get To Saturday vs Sempre 
 Bocce
LOCATION:Newhall Court 1
END:VEVENT
BEGIN:VEVENT
DTSTAMP:20260426T000000Z
UID:907709a7-501e-4cf3-96eb-f6f5dd9a2881@ClaytonBocce
DTSTART;TZID=America/Los_Angeles:20260623T183000
DTEND;TZID=America/Los_Angeles:20260623T210000
STATUS:CONFIRMED
SUMMARY:Get To Saturday vs Dusty Balls
URL:/League/Schedule/3195
DESCRIPTION:Regular Season match: Get To Saturday vs Dusty B
 alls
LOCATION:Newhall Court 8
END:VEVENT
BEGIN:VEVENT
DTSTAMP:20260426T000000Z
UID:a12502c2-4b44-49bc-bd57-5b045a0256bb@ClaytonBocce
DTSTART;TZID=America/Los_Angeles:20260630T183000
DTEND;TZID=America/Los_Angeles:20260630T210000
STATUS:CONFIRMED
SUMMARY:Get To Saturday vs Bada Bing Bada Boom
URL:/League/Schedule/3195
DESCRIPTION:Regular Season match: Get To Saturday vs Bada Bi
 ng Bada Boom
LOCATION:Newhall Court 5
END:VEVENT
BEGIN:VEVENT
DTSTAMP:20260426T000000Z
UID:f164e03d-bc8f-461d-858b-78a3b71256fb@ClaytonBocce
DTSTART;TZID=America/Los_Angeles:20260714T183000
DTEND;TZID=America/Los_Angeles:20260714T210000
STATUS:CONFIRMED
SUMMARY:Get To Saturday vs Unity Bro's
URL:/League/Schedule/3195
DESCRIPTION:Regular Season match: Get To Saturday vs Unity B
 ro's
LOCATION:Newhall Court 6
END:VEVENT
BEGIN:VEVENT
DTSTAMP:20260426T000000Z
UID:17e24c41-fc75-4995-a6f8-c93a5ee0c96d@ClaytonBocce
DTSTART;TZID=America/Los_Angeles:20260721T183000
DTEND;TZID=America/Los_Angeles:20260721T210000
STATUS:CONFIRMED
SUMMARY:Get To Saturday vs El Wapo
URL:/League/Schedule/3195
DESCRIPTION:Regular Season match: Get To Saturday vs El Wapo
LOCATION:Newhall Court 2
END:VEVENT
BEGIN:VEVENT
DTSTAMP:20260426T000000Z
UID:677d57e0-f62a-4507-bd07-552aa33b677c@ClaytonBocce
DTSTART;TZID=America/Los_Angeles:20260728T183000
DTEND;TZID=America/Los_Angeles:20260728T210000
STATUS:CONFIRMED
SUMMARY:Get To Saturday vs BallBarians
URL:/League/Schedule/3195
DESCRIPTION:Regular Season match: Get To Saturday vs BallBar
 ians
LOCATION:Newhall Court 8
END:VEVENT
BEGIN:VEVENT
DTSTAMP:20260426T000000Z
UID:a9eea1a4-af9d-4b58-8d57-8cba4063b3c1@ClaytonBocce
DTSTART;TZID=America/Los_Angeles:20260804T183000
DTEND;TZID=America/Los_Angeles:20260804T210000
STATUS:CONFIRMED
SUMMARY:Get To Saturday vs Rock N Rollers
URL:/League/Schedule/3195
DESCRIPTION:Regular Season match: Get To Saturday vs Rock N 
 Rollers
LOCATION:Newhall Court 3
END:VEVENT
BEGIN:VEVENT
DTSTAMP:20260426T000000Z
UID:3d451726-f995-4629-b246-4bbad9760899@ClaytonBocce
DTSTART;TZID=America/Los_Angeles:20260811T183000
DTEND;TZID=America/Los_Angeles:20260811T210000
STATUS:CONFIRMED
SUMMARY:Get To Saturday vs High Bocce Burners
URL:/League/Schedule/3195
DESCRIPTION:Regular Season match: Get To Saturday vs High Bo
 cce Burners
LOCATION:Newhall Court 1
END:VEVENT
BEGIN:VEVENT
DTSTAMP:20260426T000000Z
UID:81a37760-ead7-45f6-97cc-234be96664f1@ClaytonBocce
DTSTART;TZID=America/Los_Angeles:20260825T183000
DTEND;TZID=America/Los_Angeles:20260825T210000
STATUS:CONFIRMED
SUMMARY:Get To Saturday vs Sempre Bocce
URL:/League/Schedule/3195
DESCRIPTION:Regular Season match: Get To Saturday vs Sempre 
 Bocce
LOCATION:Newhall Court 7
END:VEVENT
BEGIN:VEVENT
DTSTAMP:20260426T000000Z
UID:97998102-081e-42b3-be77-534578c39dff@ClaytonBocce
DTSTART;TZID=America/Los_Angeles:20260901T183000
DTEND;TZID=America/Los_Angeles:20260901T210000
STATUS:CONFIRMED
SUMMARY:Get To Saturday vs Dusty Balls
URL:/League/Schedule/3195
DESCRIPTION:Regular Season match: Get To Saturday vs Dusty B
 alls
LOCATION:Newhall Court 4
END:VEVENT
END:VCALENDAR
