BEGIN:VCALENDAR
VERSION:2.0
PRODID:-//Clayton Bocce League
METHOD:PUBLISH
BEGIN:VTIMEZONE
TZID:America/Los_Angeles
X-LIC-LOCATION:America/Los_Angeles
BEGIN:DAYLIGHT
TZOFFSETFROM:-0800
TZOFFSETTO:-0700
TZNAME:PDT
DTSTART:20070311T020000
RRULE:FREQ=YEARLY;BYMONTH=3;BYDAY=2SU
END:DAYLIGHT
BEGIN:STANDARD
TZOFFSETFROM:-0700
TZOFFSETTO:-0800
TZNAME:PST
DTSTART:20071104T020000
RRULE:FREQ=YEARLY;BYMONTH=11;BYDAY=1SU
END:STANDARD
END:VTIMEZONE
BEGIN:VEVENT
DTSTAMP:20260426T000000Z
UID:e1a6556a-6f50-4468-8658-329a3bcdabd6@ClaytonBocce
DTSTART;TZID=America/Los_Angeles:20260428T183000
DTEND;TZID=America/Los_Angeles:20260428T210000
STATUS:CONFIRMED
SUMMARY:Bada Bing Bada Boom vs Get To Saturday
URL:/League/Schedule/3199
DESCRIPTION:Regular Season match: Bada Bing Bada Boom vs Get
  To Saturday
LOCATION:Newhall Court 3
END:VEVENT
BEGIN:VEVENT
DTSTAMP:20260426T000000Z
UID:e4d0fab1-be0a-41a9-99de-3b9b304568bc@ClaytonBocce
DTSTART;TZID=America/Los_Angeles:20260505T183000
DTEND;TZID=America/Los_Angeles:20260505T210000
STATUS:CONFIRMED
SUMMARY:Bada Bing Bada Boom vs Sempre Bocce
URL:/League/Schedule/3199
DESCRIPTION:Regular Season match: Bada Bing Bada Boom vs Sem
 pre Bocce
LOCATION:Newhall Court 5
END:VEVENT
BEGIN:VEVENT
DTSTAMP:20260426T000000Z
UID:f4acd4cf-fe84-406d-b3b3-cbe94c95057a@ClaytonBocce
DTSTART;TZID=America/Los_Angeles:20260512T183000
DTEND;TZID=America/Los_Angeles:20260512T210000
STATUS:CONFIRMED
SUMMARY:Bada Bing Bada Boom vs Dusty Balls
URL:/League/Schedule/3199
DESCRIPTION:Regular Season match: Bada Bing Bada Boom vs Dus
 ty Balls
LOCATION:Newhall Court 7
END:VEVENT
BEGIN:VEVENT
DTSTAMP:20260426T000000Z
UID:93bb2b6c-be6f-4620-9442-e2ab0ab65596@ClaytonBocce
DTSTART;TZID=America/Los_Angeles:20260526T183000
DTEND;TZID=America/Los_Angeles:20260526T210000
STATUS:CONFIRMED
SUMMARY:Bada Bing Bada Boom vs Unity Bro's
URL:/League/Schedule/3199
DESCRIPTION:Regular Season match: Bada Bing Bada Boom vs Uni
 ty Bro's
LOCATION:Newhall Court 8
END:VEVENT
BEGIN:VEVENT
DTSTAMP:20260426T000000Z
UID:cf8e83a9-1d2a-4b31-9864-32eb214f80d9@ClaytonBocce
DTSTART;TZID=America/Los_Angeles:20260602T183000
DTEND;TZID=America/Los_Angeles:20260602T210000
STATUS:CONFIRMED
SUMMARY:Bada Bing Bada Boom vs El Wapo
URL:/League/Schedule/3199
DESCRIPTION:Regular Season match: Bada Bing Bada Boom vs El 
 Wapo
LOCATION:Newhall Court 4
END:VEVENT
BEGIN:VEVENT
DTSTAMP:20260426T000000Z
UID:e95b7676-8940-4584-9f2a-a6e89d2cdc49@ClaytonBocce
DTSTART;TZID=America/Los_Angeles:20260609T183000
DTEND;TZID=America/Los_Angeles:20260609T210000
STATUS:CONFIRMED
SUMMARY:Bada Bing Bada Boom vs BallBarians
URL:/League/Schedule/3199
DESCRIPTION:Regular Season match: Bada Bing Bada Boom vs Bal
 lBarians
LOCATION:Newhall Court 1
END:VEVENT
BEGIN:VEVENT
DTSTAMP:20260426T000000Z
UID:efe507bb-ffc2-4a1d-bc2c-ea31a0e58c8a@ClaytonBocce
DTSTART;TZID=America/Los_Angeles:20260616T183000
DTEND;TZID=America/Los_Angeles:20260616T210000
STATUS:CONFIRMED
SUMMARY:Bada Bing Bada Boom vs Rock N Rollers
URL:/League/Schedule/3199
DESCRIPTION:Regular Season match: Bada Bing Bada Boom vs Roc
 k N Rollers
LOCATION:Newhall Court 2
END:VEVENT
BEGIN:VEVENT
DTSTAMP:20260426T000000Z
UID:bc16378c-7078-4bd2-bb5a-627443aeef49@ClaytonBocce
DTSTART;TZID=America/Los_Angeles:20260623T183000
DTEND;TZID=America/Los_Angeles:20260623T210000
STATUS:CONFIRMED
SUMMARY:Bada Bing Bada Boom vs High Bocce Burners
URL:/League/Schedule/3199
DESCRIPTION:Regular Season match: Bada Bing Bada Boom vs Hig
 h Bocce Burners
LOCATION:Newhall Court 6
END:VEVENT
BEGIN:VEVENT
DTSTAMP:20260426T000000Z
UID:a12502c2-4b44-49bc-bd57-5b045a0256bb@ClaytonBocce
DTSTART;TZID=America/Los_Angeles:20260630T183000
DTEND;TZID=America/Los_Angeles:20260630T210000
STATUS:CONFIRMED
SUMMARY:Bada Bing Bada Boom vs Get To Saturday
URL:/League/Schedule/3199
DESCRIPTION:Regular Season match: Bada Bing Bada Boom vs Get
  To Saturday
LOCATION:Newhall Court 5
END:VEVENT
BEGIN:VEVENT
DTSTAMP:20260426T000000Z
UID:49b188b2-88d8-442d-9cff-1ce438ab157c@ClaytonBocce
DTSTART;TZID=America/Los_Angeles:20260714T183000
DTEND;TZID=America/Los_Angeles:20260714T210000
STATUS:CONFIRMED
SUMMARY:Bada Bing Bada Boom vs Sempre Bocce
URL:/League/Schedule/3199
DESCRIPTION:Regular Season match: Bada Bing Bada Boom vs Sem
 pre Bocce
LOCATION:Newhall Court 4
END:VEVENT
BEGIN:VEVENT
DTSTAMP:20260426T000000Z
UID:78d8717f-2c88-4b06-b4ae-ec93c24a5c7d@ClaytonBocce
DTSTART;TZID=America/Los_Angeles:20260721T183000
DTEND;TZID=America/Los_Angeles:20260721T210000
STATUS:CONFIRMED
SUMMARY:Bada Bing Bada Boom vs Dusty Balls
URL:/League/Schedule/3199
DESCRIPTION:Regular Season match: Bada Bing Bada Boom vs Dus
 ty Balls
LOCATION:Newhall Court 3
END:VEVENT
BEGIN:VEVENT
DTSTAMP:20260426T000000Z
UID:44f01be6-1d76-407c-a883-337b8271e65d@ClaytonBocce
DTSTART;TZID=America/Los_Angeles:20260804T183000
DTEND;TZID=America/Los_Angeles:20260804T210000
STATUS:CONFIRMED
SUMMARY:Bada Bing Bada Boom vs Unity Bro's
URL:/League/Schedule/3199
DESCRIPTION:Regular Season match: Bada Bing Bada Boom vs Uni
 ty Bro's
LOCATION:Newhall Court 7
END:VEVENT
BEGIN:VEVENT
DTSTAMP:20260426T000000Z
UID:6563b06a-fed1-4835-817a-c4091cae9126@ClaytonBocce
DTSTART;TZID=America/Los_Angeles:20260811T183000
DTEND;TZID=America/Los_Angeles:20260811T210000
STATUS:CONFIRMED
SUMMARY:Bada Bing Bada Boom vs El Wapo
URL:/League/Schedule/3199
DESCRIPTION:Regular Season match: Bada Bing Bada Boom vs El 
 Wapo
LOCATION:Newhall Court 6
END:VEVENT
BEGIN:VEVENT
DTSTAMP:20260426T000000Z
UID:27caf1c5-174f-4d0f-a504-8388db8d5da7@ClaytonBocce
DTSTART;TZID=America/Los_Angeles:20260818T183000
DTEND;TZID=America/Los_Angeles:20260818T210000
STATUS:CONFIRMED
SUMMARY:Bada Bing Bada Boom vs BallBarians
URL:/League/Schedule/3199
DESCRIPTION:Regular Season match: Bada Bing Bada Boom vs Bal
 lBarians
LOCATION:Newhall Court 2
END:VEVENT
BEGIN:VEVENT
DTSTAMP:20260426T000000Z
UID:c8809b3c-00fb-4d64-b2d8-b618a482f96e@ClaytonBocce
DTSTART;TZID=America/Los_Angeles:20260825T183000
DTEND;TZID=America/Los_Angeles:20260825T210000
STATUS:CONFIRMED
SUMMARY:Bada Bing Bada Boom vs Rock N Rollers
URL:/League/Schedule/3199
DESCRIPTION:Regular Season match: Bada Bing Bada Boom vs Roc
 k N Rollers
LOCATION:Newhall Court 4
END:VEVENT
BEGIN:VEVENT
DTSTAMP:20260426T000000Z
UID:cb83c4f3-4fd2-41c3-a8ef-6555ec6f2bae@ClaytonBocce
DTSTART;TZID=America/Los_Angeles:20260901T183000
DTEND;TZID=America/Los_Angeles:20260901T210000
STATUS:CONFIRMED
SUMMARY:Bada Bing Bada Boom vs High Bocce Burners
URL:/League/Schedule/3199
DESCRIPTION:Regular Season match: Bada Bing Bada Boom vs Hig
 h Bocce Burners
LOCATION:Newhall Court 1
END:VEVENT
END:VCALENDAR
