BEGIN:VCALENDAR
VERSION:2.0
PRODID:-//Clayton Bocce League
METHOD:PUBLISH
BEGIN:VTIMEZONE
TZID:America/Los_Angeles
X-LIC-LOCATION:America/Los_Angeles
BEGIN:DAYLIGHT
TZOFFSETFROM:-0800
TZOFFSETTO:-0700
TZNAME:PDT
DTSTART:20070311T020000
RRULE:FREQ=YEARLY;BYMONTH=3;BYDAY=2SU
END:DAYLIGHT
BEGIN:STANDARD
TZOFFSETFROM:-0700
TZOFFSETTO:-0800
TZNAME:PST
DTSTART:20071104T020000
RRULE:FREQ=YEARLY;BYMONTH=11;BYDAY=1SU
END:STANDARD
END:VTIMEZONE
BEGIN:VEVENT
DTSTAMP:20260426T000000Z
UID:872c51a2-7bb7-4d01-b292-0cf7b986c7cf@ClaytonBocce
DTSTART;TZID=America/Los_Angeles:20260428T183000
DTEND;TZID=America/Los_Angeles:20260428T210000
STATUS:CONFIRMED
SUMMARY:Pallino Chasers vs Holy Rollers
URL:/League/Schedule/3193
DESCRIPTION:Regular Season match: Pallino Chasers vs Holy Ro
 llers
LOCATION:Newhall Court 6
END:VEVENT
BEGIN:VEVENT
DTSTAMP:20260426T000000Z
UID:b6e8feda-b8dc-4a6a-a860-7afc6e2cbf53@ClaytonBocce
DTSTART;TZID=America/Los_Angeles:20260505T183000
DTEND;TZID=America/Los_Angeles:20260505T210000
STATUS:CONFIRMED
SUMMARY:Pallino Chasers vs Bocce Madness
URL:/League/Schedule/3193
DESCRIPTION:Regular Season match: Pallino Chasers vs Bocce M
 adness
LOCATION:Newhall Court 4
END:VEVENT
BEGIN:VEVENT
DTSTAMP:20260426T000000Z
UID:8a1af02a-7252-40bb-b85f-47f70c7b685b@ClaytonBocce
DTSTART;TZID=America/Los_Angeles:20260512T183000
DTEND;TZID=America/Los_Angeles:20260512T210000
STATUS:CONFIRMED
SUMMARY:Pallino Chasers vs Good Fellas
URL:/League/Schedule/3193
DESCRIPTION:Regular Season match: Pallino Chasers vs Good Fe
 llas
LOCATION:Newhall Court 2
END:VEVENT
BEGIN:VEVENT
DTSTAMP:20260426T000000Z
UID:88fc733c-6991-4c6b-8af3-d24cdf4170e5@ClaytonBocce
DTSTART;TZID=America/Los_Angeles:20260519T183000
DTEND;TZID=America/Los_Angeles:20260519T210000
STATUS:CONFIRMED
SUMMARY:Pallino Chasers vs Pallino Pirates
URL:/League/Schedule/3193
DESCRIPTION:Regular Season match: Pallino Chasers vs Pallino
  Pirates
LOCATION:Newhall Court 3
END:VEVENT
BEGIN:VEVENT
DTSTAMP:20260426T000000Z
UID:06a99d44-e744-44bc-a66b-a765438726b6@ClaytonBocce
DTSTART;TZID=America/Los_Angeles:20260526T183000
DTEND;TZID=America/Los_Angeles:20260526T210000
STATUS:CONFIRMED
SUMMARY:Pallino Chasers vs Wing - It!
URL:/League/Schedule/3193
DESCRIPTION:Regular Season match: Pallino Chasers vs Wing - 
 It!
LOCATION:Newhall Court 5
END:VEVENT
BEGIN:VEVENT
DTSTAMP:20260426T000000Z
UID:e0361426-a328-42be-aeac-e6a273485e14@ClaytonBocce
DTSTART;TZID=America/Los_Angeles:20260609T183000
DTEND;TZID=America/Los_Angeles:20260609T210000
STATUS:CONFIRMED
SUMMARY:Pallino Chasers vs Spark Plugs
URL:/League/Schedule/3193
DESCRIPTION:Regular Season match: Pallino Chasers vs Spark P
 lugs
LOCATION:Newhall Court 2
END:VEVENT
BEGIN:VEVENT
DTSTAMP:20260426T000000Z
UID:1f46227c-1f58-46dc-9ec9-46eba8641358@ClaytonBocce
DTSTART;TZID=America/Los_Angeles:20260616T183000
DTEND;TZID=America/Los_Angeles:20260616T210000
STATUS:CONFIRMED
SUMMARY:Pallino Chasers vs Beginner's Luck
URL:/League/Schedule/3193
DESCRIPTION:Regular Season match: Pallino Chasers vs Beginne
 r's Luck
LOCATION:Newhall Court 8
END:VEVENT
BEGIN:VEVENT
DTSTAMP:20260426T000000Z
UID:12257c82-915f-4b59-85ef-a6d49330d691@ClaytonBocce
DTSTART;TZID=America/Los_Angeles:20260623T183000
DTEND;TZID=America/Los_Angeles:20260623T210000
STATUS:CONFIRMED
SUMMARY:Pallino Chasers vs What The Hell Was That
URL:/League/Schedule/3193
DESCRIPTION:Regular Season match: Pallino Chasers vs What Th
 e Hell Was That
LOCATION:Newhall Court 5
END:VEVENT
BEGIN:VEVENT
DTSTAMP:20260426T000000Z
UID:24f48fec-df0a-4b34-b8ee-a6e28a7446c9@ClaytonBocce
DTSTART;TZID=America/Los_Angeles:20260630T183000
DTEND;TZID=America/Los_Angeles:20260630T210000
STATUS:CONFIRMED
SUMMARY:Pallino Chasers vs Holy Rollers
URL:/League/Schedule/3193
DESCRIPTION:Regular Season match: Pallino Chasers vs Holy Ro
 llers
LOCATION:Newhall Court 3
END:VEVENT
BEGIN:VEVENT
DTSTAMP:20260426T000000Z
UID:c5f01c0e-a82f-4248-bba5-b56a46e545b1@ClaytonBocce
DTSTART;TZID=America/Los_Angeles:20260714T183000
DTEND;TZID=America/Los_Angeles:20260714T210000
STATUS:CONFIRMED
SUMMARY:Pallino Chasers vs Bocce Madness
URL:/League/Schedule/3193
DESCRIPTION:Regular Season match: Pallino Chasers vs Bocce M
 adness
LOCATION:Newhall Court 1
END:VEVENT
BEGIN:VEVENT
DTSTAMP:20260426T000000Z
UID:a14a7cb7-9141-416c-bf63-48f3d6656278@ClaytonBocce
DTSTART;TZID=America/Los_Angeles:20260721T183000
DTEND;TZID=America/Los_Angeles:20260721T210000
STATUS:CONFIRMED
SUMMARY:Pallino Chasers vs Good Fellas
URL:/League/Schedule/3193
DESCRIPTION:Regular Season match: Pallino Chasers vs Good Fe
 llas
LOCATION:Newhall Court 8
END:VEVENT
BEGIN:VEVENT
DTSTAMP:20260426T000000Z
UID:0325c62f-727b-4a75-aea2-7c5d593cba27@ClaytonBocce
DTSTART;TZID=America/Los_Angeles:20260728T183000
DTEND;TZID=America/Los_Angeles:20260728T210000
STATUS:CONFIRMED
SUMMARY:Pallino Chasers vs Pallino Pirates
URL:/League/Schedule/3193
DESCRIPTION:Regular Season match: Pallino Chasers vs Pallino
  Pirates
LOCATION:Newhall Court 6
END:VEVENT
BEGIN:VEVENT
DTSTAMP:20260426T000000Z
UID:4bd5a49a-8575-4ada-b95c-bd0ad65c3416@ClaytonBocce
DTSTART;TZID=America/Los_Angeles:20260804T183000
DTEND;TZID=America/Los_Angeles:20260804T210000
STATUS:CONFIRMED
SUMMARY:Pallino Chasers vs Wing - It!
URL:/League/Schedule/3193
DESCRIPTION:Regular Season match: Pallino Chasers vs Wing - 
 It!
LOCATION:Newhall Court 5
END:VEVENT
BEGIN:VEVENT
DTSTAMP:20260426T000000Z
UID:1c9108e0-129c-4418-91c4-28cab5ef1900@ClaytonBocce
DTSTART;TZID=America/Los_Angeles:20260818T183000
DTEND;TZID=America/Los_Angeles:20260818T210000
STATUS:CONFIRMED
SUMMARY:Pallino Chasers vs Spark Plugs
URL:/League/Schedule/3193
DESCRIPTION:Regular Season match: Pallino Chasers vs Spark P
 lugs
LOCATION:Newhall Court 4
END:VEVENT
BEGIN:VEVENT
DTSTAMP:20260426T000000Z
UID:7ff21957-ef76-4191-87f9-143f32fc685c@ClaytonBocce
DTSTART;TZID=America/Los_Angeles:20260825T183000
DTEND;TZID=America/Los_Angeles:20260825T210000
STATUS:CONFIRMED
SUMMARY:Pallino Chasers vs Beginner's Luck
URL:/League/Schedule/3193
DESCRIPTION:Regular Season match: Pallino Chasers vs Beginne
 r's Luck
LOCATION:Newhall Court 1
END:VEVENT
BEGIN:VEVENT
DTSTAMP:20260426T000000Z
UID:28f26bf7-5173-4613-954f-9c98d0cef37c@ClaytonBocce
DTSTART;TZID=America/Los_Angeles:20260901T183000
DTEND;TZID=America/Los_Angeles:20260901T210000
STATUS:CONFIRMED
SUMMARY:Pallino Chasers vs What The Hell Was That
URL:/League/Schedule/3193
DESCRIPTION:Regular Season match: Pallino Chasers vs What Th
 e Hell Was That
LOCATION:Newhall Court 5
END:VEVENT
END:VCALENDAR
