BEGIN:VCALENDAR
VERSION:2.0
PRODID:-//Clayton Bocce League
METHOD:PUBLISH
BEGIN:VTIMEZONE
TZID:America/Los_Angeles
X-LIC-LOCATION:America/Los_Angeles
BEGIN:DAYLIGHT
TZOFFSETFROM:-0800
TZOFFSETTO:-0700
TZNAME:PDT
DTSTART:20070311T020000
RRULE:FREQ=YEARLY;BYMONTH=3;BYDAY=2SU
END:DAYLIGHT
BEGIN:STANDARD
TZOFFSETFROM:-0700
TZOFFSETTO:-0800
TZNAME:PST
DTSTART:20071104T020000
RRULE:FREQ=YEARLY;BYMONTH=11;BYDAY=1SU
END:STANDARD
END:VTIMEZONE
BEGIN:VEVENT
DTSTAMP:20260426T000000Z
UID:872c51a2-7bb7-4d01-b292-0cf7b986c7cf@ClaytonBocce
DTSTART;TZID=America/Los_Angeles:20260428T183000
DTEND;TZID=America/Los_Angeles:20260428T210000
STATUS:CONFIRMED
SUMMARY:Holy Rollers vs Pallino Chasers
URL:/League/Schedule/3205
DESCRIPTION:Regular Season match: Holy Rollers vs Pallino Ch
 asers
LOCATION:Newhall Court 6
END:VEVENT
BEGIN:VEVENT
DTSTAMP:20260426T000000Z
UID:fe1b49e2-40f7-4847-a9f3-5d91776b9b2b@ClaytonBocce
DTSTART;TZID=America/Los_Angeles:20260505T183000
DTEND;TZID=America/Los_Angeles:20260505T210000
STATUS:CONFIRMED
SUMMARY:Holy Rollers vs Spark Plugs
URL:/League/Schedule/3205
DESCRIPTION:Regular Season match: Holy Rollers vs Spark Plug
 s
LOCATION:Newhall Court 2
END:VEVENT
BEGIN:VEVENT
DTSTAMP:20260426T000000Z
UID:0066ad5a-6917-4f6a-9e53-aa41032bcd70@ClaytonBocce
DTSTART;TZID=America/Los_Angeles:20260512T183000
DTEND;TZID=America/Los_Angeles:20260512T210000
STATUS:CONFIRMED
SUMMARY:Holy Rollers vs Beginner's Luck
URL:/League/Schedule/3205
DESCRIPTION:Regular Season match: Holy Rollers vs Beginner's
  Luck
LOCATION:Newhall Court 4
END:VEVENT
BEGIN:VEVENT
DTSTAMP:20260426T000000Z
UID:1086ca25-ba7f-407b-8c06-9bcc2c99d5e0@ClaytonBocce
DTSTART;TZID=America/Los_Angeles:20260519T183000
DTEND;TZID=America/Los_Angeles:20260519T210000
STATUS:CONFIRMED
SUMMARY:Holy Rollers vs What The Hell Was That
URL:/League/Schedule/3205
DESCRIPTION:Regular Season match: Holy Rollers vs What The H
 ell Was That
LOCATION:Newhall Court 1
END:VEVENT
BEGIN:VEVENT
DTSTAMP:20260426T000000Z
UID:df3f7295-5b21-487b-b05c-1a9487c042d3@ClaytonBocce
DTSTART;TZID=America/Los_Angeles:20260602T183000
DTEND;TZID=America/Los_Angeles:20260602T210000
STATUS:CONFIRMED
SUMMARY:Holy Rollers vs Bocce Madness
URL:/League/Schedule/3205
DESCRIPTION:Regular Season match: Holy Rollers vs Bocce Madn
 ess
LOCATION:Newhall Court 8
END:VEVENT
BEGIN:VEVENT
DTSTAMP:20260426T000000Z
UID:300ceafa-634b-402b-8257-911c2d68ca35@ClaytonBocce
DTSTART;TZID=America/Los_Angeles:20260609T183000
DTEND;TZID=America/Los_Angeles:20260609T210000
STATUS:CONFIRMED
SUMMARY:Holy Rollers vs Good Fellas
URL:/League/Schedule/3205
DESCRIPTION:Regular Season match: Holy Rollers vs Good Fella
 s
LOCATION:Newhall Court 3
END:VEVENT
BEGIN:VEVENT
DTSTAMP:20260426T000000Z
UID:a3693a4d-e900-4af0-bca3-448984d17155@ClaytonBocce
DTSTART;TZID=America/Los_Angeles:20260616T183000
DTEND;TZID=America/Los_Angeles:20260616T210000
STATUS:CONFIRMED
SUMMARY:Holy Rollers vs Pallino Pirates
URL:/League/Schedule/3205
DESCRIPTION:Regular Season match: Holy Rollers vs Pallino Pi
 rates
LOCATION:Newhall Court 7
END:VEVENT
BEGIN:VEVENT
DTSTAMP:20260426T000000Z
UID:c3e43073-531d-4d41-9b2d-b81ae61cffec@ClaytonBocce
DTSTART;TZID=America/Los_Angeles:20260623T183000
DTEND;TZID=America/Los_Angeles:20260623T210000
STATUS:CONFIRMED
SUMMARY:Holy Rollers vs Wing - It!
URL:/League/Schedule/3205
DESCRIPTION:Regular Season match: Holy Rollers vs Wing - It!
LOCATION:Newhall Court 4
END:VEVENT
BEGIN:VEVENT
DTSTAMP:20260426T000000Z
UID:24f48fec-df0a-4b34-b8ee-a6e28a7446c9@ClaytonBocce
DTSTART;TZID=America/Los_Angeles:20260630T183000
DTEND;TZID=America/Los_Angeles:20260630T210000
STATUS:CONFIRMED
SUMMARY:Holy Rollers vs Pallino Chasers
URL:/League/Schedule/3205
DESCRIPTION:Regular Season match: Holy Rollers vs Pallino Ch
 asers
LOCATION:Newhall Court 3
END:VEVENT
BEGIN:VEVENT
DTSTAMP:20260426T000000Z
UID:303c255a-c92a-4ddc-997c-a73590255d33@ClaytonBocce
DTSTART;TZID=America/Los_Angeles:20260714T183000
DTEND;TZID=America/Los_Angeles:20260714T210000
STATUS:CONFIRMED
SUMMARY:Holy Rollers vs Spark Plugs
URL:/League/Schedule/3205
DESCRIPTION:Regular Season match: Holy Rollers vs Spark Plug
 s
LOCATION:Newhall Court 8
END:VEVENT
BEGIN:VEVENT
DTSTAMP:20260426T000000Z
UID:7a9fba1d-d27d-4e99-8185-189c46624e2d@ClaytonBocce
DTSTART;TZID=America/Los_Angeles:20260721T183000
DTEND;TZID=America/Los_Angeles:20260721T210000
STATUS:CONFIRMED
SUMMARY:Holy Rollers vs Beginner's Luck
URL:/League/Schedule/3205
DESCRIPTION:Regular Season match: Holy Rollers vs Beginner's
  Luck
LOCATION:Newhall Court 6
END:VEVENT
BEGIN:VEVENT
DTSTAMP:20260426T000000Z
UID:55cb6f20-7d37-4c28-b95d-dd7587b41cca@ClaytonBocce
DTSTART;TZID=America/Los_Angeles:20260728T183000
DTEND;TZID=America/Los_Angeles:20260728T210000
STATUS:CONFIRMED
SUMMARY:Holy Rollers vs What The Hell Was That
URL:/League/Schedule/3205
DESCRIPTION:Regular Season match: Holy Rollers vs What The H
 ell Was That
LOCATION:Newhall Court 2
END:VEVENT
BEGIN:VEVENT
DTSTAMP:20260426T000000Z
UID:06e0b555-ce7d-46ae-b516-95e42587a482@ClaytonBocce
DTSTART;TZID=America/Los_Angeles:20260811T183000
DTEND;TZID=America/Los_Angeles:20260811T210000
STATUS:CONFIRMED
SUMMARY:Holy Rollers vs Bocce Madness
URL:/League/Schedule/3205
DESCRIPTION:Regular Season match: Holy Rollers vs Bocce Madn
 ess
LOCATION:Newhall Court 7
END:VEVENT
BEGIN:VEVENT
DTSTAMP:20260426T000000Z
UID:184aaf0d-62d5-4a74-babe-5f5f0ef580be@ClaytonBocce
DTSTART;TZID=America/Los_Angeles:20260818T183000
DTEND;TZID=America/Los_Angeles:20260818T210000
STATUS:CONFIRMED
SUMMARY:Holy Rollers vs Good Fellas
URL:/League/Schedule/3205
DESCRIPTION:Regular Season match: Holy Rollers vs Good Fella
 s
LOCATION:Newhall Court 3
END:VEVENT
BEGIN:VEVENT
DTSTAMP:20260426T000000Z
UID:c4d36423-4160-4b7d-9e2c-63ce5994b3ae@ClaytonBocce
DTSTART;TZID=America/Los_Angeles:20260825T183000
DTEND;TZID=America/Los_Angeles:20260825T210000
STATUS:CONFIRMED
SUMMARY:Holy Rollers vs Pallino Pirates
URL:/League/Schedule/3205
DESCRIPTION:Regular Season match: Holy Rollers vs Pallino Pi
 rates
LOCATION:Newhall Court 5
END:VEVENT
BEGIN:VEVENT
DTSTAMP:20260426T000000Z
UID:3fe04d1f-8dc6-4f30-888c-9c2dec8a8659@ClaytonBocce
DTSTART;TZID=America/Los_Angeles:20260901T183000
DTEND;TZID=America/Los_Angeles:20260901T210000
STATUS:CONFIRMED
SUMMARY:Holy Rollers vs Wing - It!
URL:/League/Schedule/3205
DESCRIPTION:Regular Season match: Holy Rollers vs Wing - It!
LOCATION:Newhall Court 6
END:VEVENT
END:VCALENDAR
