BEGIN:VCALENDAR
VERSION:2.0
PRODID:-//Clayton Bocce League
METHOD:PUBLISH
BEGIN:VTIMEZONE
TZID:America/Los_Angeles
X-LIC-LOCATION:America/Los_Angeles
BEGIN:DAYLIGHT
TZOFFSETFROM:-0800
TZOFFSETTO:-0700
TZNAME:PDT
DTSTART:20070311T020000
RRULE:FREQ=YEARLY;BYMONTH=3;BYDAY=2SU
END:DAYLIGHT
BEGIN:STANDARD
TZOFFSETFROM:-0700
TZOFFSETTO:-0800
TZNAME:PST
DTSTART:20071104T020000
RRULE:FREQ=YEARLY;BYMONTH=11;BYDAY=1SU
END:STANDARD
END:VTIMEZONE
BEGIN:VEVENT
DTSTAMP:20260426T000000Z
UID:ef65453c-30e3-4181-95c5-7fecd245b7cf@ClaytonBocce
DTSTART;TZID=America/Los_Angeles:20260428T183000
DTEND;TZID=America/Los_Angeles:20260428T210000
STATUS:CONFIRMED
SUMMARY:Pallino Pirates vs Good Fellas
URL:/League/Schedule/3201
DESCRIPTION:Regular Season match: Pallino Pirates vs Good Fe
 llas
LOCATION:Newhall Court 5
END:VEVENT
BEGIN:VEVENT
DTSTAMP:20260426T000000Z
UID:3c762e5f-b83a-4865-82d7-18e7f2000eac@ClaytonBocce
DTSTART;TZID=America/Los_Angeles:20260512T183000
DTEND;TZID=America/Los_Angeles:20260512T210000
STATUS:CONFIRMED
SUMMARY:Pallino Pirates vs Wing - It!
URL:/League/Schedule/3201
DESCRIPTION:Regular Season match: Pallino Pirates vs Wing - 
 It!
LOCATION:Newhall Court 8
END:VEVENT
BEGIN:VEVENT
DTSTAMP:20260426T000000Z
UID:88fc733c-6991-4c6b-8af3-d24cdf4170e5@ClaytonBocce
DTSTART;TZID=America/Los_Angeles:20260519T183000
DTEND;TZID=America/Los_Angeles:20260519T210000
STATUS:CONFIRMED
SUMMARY:Pallino Pirates vs Pallino Chasers
URL:/League/Schedule/3201
DESCRIPTION:Regular Season match: Pallino Pirates vs Pallino
  Chasers
LOCATION:Newhall Court 3
END:VEVENT
BEGIN:VEVENT
DTSTAMP:20260426T000000Z
UID:4222ad5e-7343-40f4-a466-3c696b0ce7be@ClaytonBocce
DTSTART;TZID=America/Los_Angeles:20260526T183000
DTEND;TZID=America/Los_Angeles:20260526T210000
STATUS:CONFIRMED
SUMMARY:Pallino Pirates vs Spark Plugs
URL:/League/Schedule/3201
DESCRIPTION:Regular Season match: Pallino Pirates vs Spark P
 lugs
LOCATION:Newhall Court 7
END:VEVENT
BEGIN:VEVENT
DTSTAMP:20260426T000000Z
UID:c016f037-c94c-4b35-912c-7f4d7c6055e7@ClaytonBocce
DTSTART;TZID=America/Los_Angeles:20260602T183000
DTEND;TZID=America/Los_Angeles:20260602T210000
STATUS:CONFIRMED
SUMMARY:Pallino Pirates vs Beginner's Luck
URL:/League/Schedule/3201
DESCRIPTION:Regular Season match: Pallino Pirates vs Beginne
 r's Luck
LOCATION:Newhall Court 5
END:VEVENT
BEGIN:VEVENT
DTSTAMP:20260426T000000Z
UID:c4aaf16b-0e38-456f-abf9-5df1540e1799@ClaytonBocce
DTSTART;TZID=America/Los_Angeles:20260609T183000
DTEND;TZID=America/Los_Angeles:20260609T210000
STATUS:CONFIRMED
SUMMARY:Pallino Pirates vs What The Hell Was That
URL:/League/Schedule/3201
DESCRIPTION:Regular Season match: Pallino Pirates vs What Th
 e Hell Was That
LOCATION:Newhall Court 6
END:VEVENT
BEGIN:VEVENT
DTSTAMP:20260426T000000Z
UID:a3693a4d-e900-4af0-bca3-448984d17155@ClaytonBocce
DTSTART;TZID=America/Los_Angeles:20260616T183000
DTEND;TZID=America/Los_Angeles:20260616T210000
STATUS:CONFIRMED
SUMMARY:Pallino Pirates vs Holy Rollers
URL:/League/Schedule/3201
DESCRIPTION:Regular Season match: Pallino Pirates vs Holy Ro
 llers
LOCATION:Newhall Court 7
END:VEVENT
BEGIN:VEVENT
DTSTAMP:20260426T000000Z
UID:26fe5df4-8c61-418f-90d7-9dedf607a89f@ClaytonBocce
DTSTART;TZID=America/Los_Angeles:20260623T183000
DTEND;TZID=America/Los_Angeles:20260623T210000
STATUS:CONFIRMED
SUMMARY:Pallino Pirates vs Bocce Madness
URL:/League/Schedule/3201
DESCRIPTION:Regular Season match: Pallino Pirates vs Bocce M
 adness
LOCATION:Newhall Court 2
END:VEVENT
BEGIN:VEVENT
DTSTAMP:20260426T000000Z
UID:5ae4fd27-7b32-4193-a582-1bcc96f3fecf@ClaytonBocce
DTSTART;TZID=America/Los_Angeles:20260630T183000
DTEND;TZID=America/Los_Angeles:20260630T210000
STATUS:CONFIRMED
SUMMARY:Pallino Pirates vs Good Fellas
URL:/League/Schedule/3201
DESCRIPTION:Regular Season match: Pallino Pirates vs Good Fe
 llas
LOCATION:Newhall Court 4
END:VEVENT
BEGIN:VEVENT
DTSTAMP:20260426T000000Z
UID:968b092d-ccc5-4212-91cb-d973a7a0dc09@ClaytonBocce
DTSTART;TZID=America/Los_Angeles:20260721T183000
DTEND;TZID=America/Los_Angeles:20260721T210000
STATUS:CONFIRMED
SUMMARY:Pallino Pirates vs Wing - It!
URL:/League/Schedule/3201
DESCRIPTION:Regular Season match: Pallino Pirates vs Wing - 
 It!
LOCATION:Newhall Court 1
END:VEVENT
BEGIN:VEVENT
DTSTAMP:20260426T000000Z
UID:0325c62f-727b-4a75-aea2-7c5d593cba27@ClaytonBocce
DTSTART;TZID=America/Los_Angeles:20260728T183000
DTEND;TZID=America/Los_Angeles:20260728T210000
STATUS:CONFIRMED
SUMMARY:Pallino Pirates vs Pallino Chasers
URL:/League/Schedule/3201
DESCRIPTION:Regular Season match: Pallino Pirates vs Pallino
  Chasers
LOCATION:Newhall Court 6
END:VEVENT
BEGIN:VEVENT
DTSTAMP:20260426T000000Z
UID:4b250f15-71ae-47a6-9819-7007e21e80ce@ClaytonBocce
DTSTART;TZID=America/Los_Angeles:20260804T183000
DTEND;TZID=America/Los_Angeles:20260804T210000
STATUS:CONFIRMED
SUMMARY:Pallino Pirates vs Spark Plugs
URL:/League/Schedule/3201
DESCRIPTION:Regular Season match: Pallino Pirates vs Spark P
 lugs
LOCATION:Newhall Court 4
END:VEVENT
BEGIN:VEVENT
DTSTAMP:20260426T000000Z
UID:404053f1-f63b-41a7-808c-1c90ab069b9c@ClaytonBocce
DTSTART;TZID=America/Los_Angeles:20260811T183000
DTEND;TZID=America/Los_Angeles:20260811T210000
STATUS:CONFIRMED
SUMMARY:Pallino Pirates vs Beginner's Luck
URL:/League/Schedule/3201
DESCRIPTION:Regular Season match: Pallino Pirates vs Beginne
 r's Luck
LOCATION:Newhall Court 8
END:VEVENT
BEGIN:VEVENT
DTSTAMP:20260426T000000Z
UID:3cd775a6-ebef-45f0-adbe-949fa0cfc05d@ClaytonBocce
DTSTART;TZID=America/Los_Angeles:20260818T183000
DTEND;TZID=America/Los_Angeles:20260818T210000
STATUS:CONFIRMED
SUMMARY:Pallino Pirates vs What The Hell Was That
URL:/League/Schedule/3201
DESCRIPTION:Regular Season match: Pallino Pirates vs What Th
 e Hell Was That
LOCATION:Newhall Court 7
END:VEVENT
BEGIN:VEVENT
DTSTAMP:20260426T000000Z
UID:c4d36423-4160-4b7d-9e2c-63ce5994b3ae@ClaytonBocce
DTSTART;TZID=America/Los_Angeles:20260825T183000
DTEND;TZID=America/Los_Angeles:20260825T210000
STATUS:CONFIRMED
SUMMARY:Pallino Pirates vs Holy Rollers
URL:/League/Schedule/3201
DESCRIPTION:Regular Season match: Pallino Pirates vs Holy Ro
 llers
LOCATION:Newhall Court 5
END:VEVENT
BEGIN:VEVENT
DTSTAMP:20260426T000000Z
UID:a9e3be65-6d6f-46b5-b7d8-d8ada2b6b927@ClaytonBocce
DTSTART;TZID=America/Los_Angeles:20260901T183000
DTEND;TZID=America/Los_Angeles:20260901T210000
STATUS:CONFIRMED
SUMMARY:Pallino Pirates vs Bocce Madness
URL:/League/Schedule/3201
DESCRIPTION:Regular Season match: Pallino Pirates vs Bocce M
 adness
LOCATION:Newhall Court 3
END:VEVENT
END:VCALENDAR
