BEGIN:VCALENDAR
VERSION:2.0
PRODID:-//Clayton Bocce League
METHOD:PUBLISH
BEGIN:VTIMEZONE
TZID:America/Los_Angeles
X-LIC-LOCATION:America/Los_Angeles
BEGIN:DAYLIGHT
TZOFFSETFROM:-0800
TZOFFSETTO:-0700
TZNAME:PDT
DTSTART:20070311T020000
RRULE:FREQ=YEARLY;BYMONTH=3;BYDAY=2SU
END:DAYLIGHT
BEGIN:STANDARD
TZOFFSETFROM:-0700
TZOFFSETTO:-0800
TZNAME:PST
DTSTART:20071104T020000
RRULE:FREQ=YEARLY;BYMONTH=11;BYDAY=1SU
END:STANDARD
END:VTIMEZONE
BEGIN:VEVENT
DTSTAMP:20260426T000000Z
UID:ef65453c-30e3-4181-95c5-7fecd245b7cf@ClaytonBocce
DTSTART;TZID=America/Los_Angeles:20260428T183000
DTEND;TZID=America/Los_Angeles:20260428T210000
STATUS:CONFIRMED
SUMMARY:Good Fellas vs Pallino Pirates
URL:/League/Schedule/3194
DESCRIPTION:Regular Season match: Good Fellas vs Pallino Pir
 ates
LOCATION:Newhall Court 5
END:VEVENT
BEGIN:VEVENT
DTSTAMP:20260426T000000Z
UID:ad7e13d5-d4aa-44d9-bc70-6614d8234b01@ClaytonBocce
DTSTART;TZID=America/Los_Angeles:20260505T183000
DTEND;TZID=America/Los_Angeles:20260505T210000
STATUS:CONFIRMED
SUMMARY:Good Fellas vs Wing - It!
URL:/League/Schedule/3194
DESCRIPTION:Regular Season match: Good Fellas vs Wing - It!
LOCATION:Newhall Court 3
END:VEVENT
BEGIN:VEVENT
DTSTAMP:20260426T000000Z
UID:8a1af02a-7252-40bb-b85f-47f70c7b685b@ClaytonBocce
DTSTART;TZID=America/Los_Angeles:20260512T183000
DTEND;TZID=America/Los_Angeles:20260512T210000
STATUS:CONFIRMED
SUMMARY:Good Fellas vs Pallino Chasers
URL:/League/Schedule/3194
DESCRIPTION:Regular Season match: Good Fellas vs Pallino Cha
 sers
LOCATION:Newhall Court 2
END:VEVENT
BEGIN:VEVENT
DTSTAMP:20260426T000000Z
UID:fd4cc23f-d0a5-4e5f-a525-ff5decb41812@ClaytonBocce
DTSTART;TZID=America/Los_Angeles:20260519T183000
DTEND;TZID=America/Los_Angeles:20260519T210000
STATUS:CONFIRMED
SUMMARY:Good Fellas vs Spark Plugs
URL:/League/Schedule/3194
DESCRIPTION:Regular Season match: Good Fellas vs Spark Plugs
LOCATION:Newhall Court 6
END:VEVENT
BEGIN:VEVENT
DTSTAMP:20260426T000000Z
UID:7edd4837-8538-46cb-9516-7ce810944fbb@ClaytonBocce
DTSTART;TZID=America/Los_Angeles:20260526T183000
DTEND;TZID=America/Los_Angeles:20260526T210000
STATUS:CONFIRMED
SUMMARY:Good Fellas vs Beginner's Luck
URL:/League/Schedule/3194
DESCRIPTION:Regular Season match: Good Fellas vs Beginner's 
 Luck
LOCATION:Newhall Court 1
END:VEVENT
BEGIN:VEVENT
DTSTAMP:20260426T000000Z
UID:d12f2edb-4665-4bda-a4b2-2f72911d1ed5@ClaytonBocce
DTSTART;TZID=America/Los_Angeles:20260602T183000
DTEND;TZID=America/Los_Angeles:20260602T210000
STATUS:CONFIRMED
SUMMARY:Good Fellas vs What The Hell Was That
URL:/League/Schedule/3194
DESCRIPTION:Regular Season match: Good Fellas vs What The He
 ll Was That
LOCATION:Newhall Court 7
END:VEVENT
BEGIN:VEVENT
DTSTAMP:20260426T000000Z
UID:300ceafa-634b-402b-8257-911c2d68ca35@ClaytonBocce
DTSTART;TZID=America/Los_Angeles:20260609T183000
DTEND;TZID=America/Los_Angeles:20260609T210000
STATUS:CONFIRMED
SUMMARY:Good Fellas vs Holy Rollers
URL:/League/Schedule/3194
DESCRIPTION:Regular Season match: Good Fellas vs Holy Roller
 s
LOCATION:Newhall Court 3
END:VEVENT
BEGIN:VEVENT
DTSTAMP:20260426T000000Z
UID:ad4feba3-ab22-4e66-bd94-639034ea2817@ClaytonBocce
DTSTART;TZID=America/Los_Angeles:20260616T183000
DTEND;TZID=America/Los_Angeles:20260616T210000
STATUS:CONFIRMED
SUMMARY:Good Fellas vs Bocce Madness
URL:/League/Schedule/3194
DESCRIPTION:Regular Season match: Good Fellas vs Bocce Madne
 ss
LOCATION:Newhall Court 6
END:VEVENT
BEGIN:VEVENT
DTSTAMP:20260426T000000Z
UID:5ae4fd27-7b32-4193-a582-1bcc96f3fecf@ClaytonBocce
DTSTART;TZID=America/Los_Angeles:20260630T183000
DTEND;TZID=America/Los_Angeles:20260630T210000
STATUS:CONFIRMED
SUMMARY:Good Fellas vs Pallino Pirates
URL:/League/Schedule/3194
DESCRIPTION:Regular Season match: Good Fellas vs Pallino Pir
 ates
LOCATION:Newhall Court 4
END:VEVENT
BEGIN:VEVENT
DTSTAMP:20260426T000000Z
UID:35d3ed1f-572d-4f58-a156-889d6a33ce9f@ClaytonBocce
DTSTART;TZID=America/Los_Angeles:20260714T183000
DTEND;TZID=America/Los_Angeles:20260714T210000
STATUS:CONFIRMED
SUMMARY:Good Fellas vs Wing - It!
URL:/League/Schedule/3194
DESCRIPTION:Regular Season match: Good Fellas vs Wing - It!
LOCATION:Newhall Court 2
END:VEVENT
BEGIN:VEVENT
DTSTAMP:20260426T000000Z
UID:a14a7cb7-9141-416c-bf63-48f3d6656278@ClaytonBocce
DTSTART;TZID=America/Los_Angeles:20260721T183000
DTEND;TZID=America/Los_Angeles:20260721T210000
STATUS:CONFIRMED
SUMMARY:Good Fellas vs Pallino Chasers
URL:/League/Schedule/3194
DESCRIPTION:Regular Season match: Good Fellas vs Pallino Cha
 sers
LOCATION:Newhall Court 8
END:VEVENT
BEGIN:VEVENT
DTSTAMP:20260426T000000Z
UID:c471b65b-deeb-42b7-afb3-51ce38fe7065@ClaytonBocce
DTSTART;TZID=America/Los_Angeles:20260728T183000
DTEND;TZID=America/Los_Angeles:20260728T210000
STATUS:CONFIRMED
SUMMARY:Good Fellas vs Spark Plugs
URL:/League/Schedule/3194
DESCRIPTION:Regular Season match: Good Fellas vs Spark Plugs
LOCATION:Newhall Court 5
END:VEVENT
BEGIN:VEVENT
DTSTAMP:20260426T000000Z
UID:4497b5e3-6917-482a-a8c9-6806fb59d4b8@ClaytonBocce
DTSTART;TZID=America/Los_Angeles:20260804T183000
DTEND;TZID=America/Los_Angeles:20260804T210000
STATUS:CONFIRMED
SUMMARY:Good Fellas vs Beginner's Luck
URL:/League/Schedule/3194
DESCRIPTION:Regular Season match: Good Fellas vs Beginner's 
 Luck
LOCATION:Newhall Court 1
END:VEVENT
BEGIN:VEVENT
DTSTAMP:20260426T000000Z
UID:f6995163-0429-4563-a502-d9bb2a2f0be4@ClaytonBocce
DTSTART;TZID=America/Los_Angeles:20260811T183000
DTEND;TZID=America/Los_Angeles:20260811T210000
STATUS:CONFIRMED
SUMMARY:Good Fellas vs What The Hell Was That
URL:/League/Schedule/3194
DESCRIPTION:Regular Season match: Good Fellas vs What The He
 ll Was That
LOCATION:Newhall Court 4
END:VEVENT
BEGIN:VEVENT
DTSTAMP:20260426T000000Z
UID:184aaf0d-62d5-4a74-babe-5f5f0ef580be@ClaytonBocce
DTSTART;TZID=America/Los_Angeles:20260818T183000
DTEND;TZID=America/Los_Angeles:20260818T210000
STATUS:CONFIRMED
SUMMARY:Good Fellas vs Holy Rollers
URL:/League/Schedule/3194
DESCRIPTION:Regular Season match: Good Fellas vs Holy Roller
 s
LOCATION:Newhall Court 3
END:VEVENT
BEGIN:VEVENT
DTSTAMP:20260426T000000Z
UID:f071a6c8-2b81-44a0-94a5-7552ddb3e0bc@ClaytonBocce
DTSTART;TZID=America/Los_Angeles:20260825T183000
DTEND;TZID=America/Los_Angeles:20260825T210000
STATUS:CONFIRMED
SUMMARY:Good Fellas vs Bocce Madness
URL:/League/Schedule/3194
DESCRIPTION:Regular Season match: Good Fellas vs Bocce Madne
 ss
LOCATION:Newhall Court 2
END:VEVENT
END:VCALENDAR
