BEGIN:VCALENDAR
VERSION:2.0
PRODID:-//Clayton Bocce League
METHOD:PUBLISH
BEGIN:VTIMEZONE
TZID:America/Los_Angeles
X-LIC-LOCATION:America/Los_Angeles
BEGIN:DAYLIGHT
TZOFFSETFROM:-0800
TZOFFSETTO:-0700
TZNAME:PDT
DTSTART:20070311T020000
RRULE:FREQ=YEARLY;BYMONTH=3;BYDAY=2SU
END:DAYLIGHT
BEGIN:STANDARD
TZOFFSETFROM:-0700
TZOFFSETTO:-0800
TZNAME:PST
DTSTART:20071104T020000
RRULE:FREQ=YEARLY;BYMONTH=11;BYDAY=1SU
END:STANDARD
END:VTIMEZONE
BEGIN:VEVENT
DTSTAMP:20260426T000000Z
UID:b882d310-76db-4226-9252-9ea6471a63cc@ClaytonBocce
DTSTART;TZID=America/Los_Angeles:20260428T183000
DTEND;TZID=America/Los_Angeles:20260428T210000
STATUS:CONFIRMED
SUMMARY:Rock N Rollers vs El Wapo
URL:/League/Schedule/3206
DESCRIPTION:Regular Season match: Rock N Rollers vs El Wapo
LOCATION:Newhall Court 2
END:VEVENT
BEGIN:VEVENT
DTSTAMP:20260426T000000Z
UID:e1fac5be-0b57-4792-93e3-7b45003cfcb0@ClaytonBocce
DTSTART;TZID=America/Los_Angeles:20260505T183000
DTEND;TZID=America/Los_Angeles:20260505T210000
STATUS:CONFIRMED
SUMMARY:Rock N Rollers vs BallBarians
URL:/League/Schedule/3206
DESCRIPTION:Regular Season match: Rock N Rollers vs BallBari
 ans
LOCATION:Newhall Court 8
END:VEVENT
BEGIN:VEVENT
DTSTAMP:20260426T000000Z
UID:be2b75ed-792f-4c0c-bb6b-af97208bcf3e@ClaytonBocce
DTSTART;TZID=America/Los_Angeles:20260519T183000
DTEND;TZID=America/Los_Angeles:20260519T210000
STATUS:CONFIRMED
SUMMARY:Rock N Rollers vs High Bocce Burners
URL:/League/Schedule/3206
DESCRIPTION:Regular Season match: Rock N Rollers vs High Boc
 ce Burners
LOCATION:Newhall Court 7
END:VEVENT
BEGIN:VEVENT
DTSTAMP:20260426T000000Z
UID:89634171-f0cc-44e2-97c8-ab5b520c7420@ClaytonBocce
DTSTART;TZID=America/Los_Angeles:20260526T183000
DTEND;TZID=America/Los_Angeles:20260526T210000
STATUS:CONFIRMED
SUMMARY:Rock N Rollers vs Get To Saturday
URL:/League/Schedule/3206
DESCRIPTION:Regular Season match: Rock N Rollers vs Get To S
 aturday
LOCATION:Newhall Court 6
END:VEVENT
BEGIN:VEVENT
DTSTAMP:20260426T000000Z
UID:efb744a9-7795-4719-8b9d-572affff0d22@ClaytonBocce
DTSTART;TZID=America/Los_Angeles:20260602T183000
DTEND;TZID=America/Los_Angeles:20260602T210000
STATUS:CONFIRMED
SUMMARY:Rock N Rollers vs Sempre Bocce
URL:/League/Schedule/3206
DESCRIPTION:Regular Season match: Rock N Rollers vs Sempre B
 occe
LOCATION:Newhall Court 3
END:VEVENT
BEGIN:VEVENT
DTSTAMP:20260426T000000Z
UID:14aa4bb5-7585-4494-9225-61b1ead0274c@ClaytonBocce
DTSTART;TZID=America/Los_Angeles:20260609T183000
DTEND;TZID=America/Los_Angeles:20260609T210000
STATUS:CONFIRMED
SUMMARY:Rock N Rollers vs Dusty Balls
URL:/League/Schedule/3206
DESCRIPTION:Regular Season match: Rock N Rollers vs Dusty Ba
 lls
LOCATION:Newhall Court 4
END:VEVENT
BEGIN:VEVENT
DTSTAMP:20260426T000000Z
UID:efe507bb-ffc2-4a1d-bc2c-ea31a0e58c8a@ClaytonBocce
DTSTART;TZID=America/Los_Angeles:20260616T183000
DTEND;TZID=America/Los_Angeles:20260616T210000
STATUS:CONFIRMED
SUMMARY:Rock N Rollers vs Bada Bing Bada Boom
URL:/League/Schedule/3206
DESCRIPTION:Regular Season match: Rock N Rollers vs Bada Bin
 g Bada Boom
LOCATION:Newhall Court 2
END:VEVENT
BEGIN:VEVENT
DTSTAMP:20260426T000000Z
UID:3114bde6-5489-4296-93d5-06a8bdfc842b@ClaytonBocce
DTSTART;TZID=America/Los_Angeles:20260623T183000
DTEND;TZID=America/Los_Angeles:20260623T210000
STATUS:CONFIRMED
SUMMARY:Rock N Rollers vs Unity Bro's
URL:/League/Schedule/3206
DESCRIPTION:Regular Season match: Rock N Rollers vs Unity Br
 o's
LOCATION:Newhall Court 1
END:VEVENT
BEGIN:VEVENT
DTSTAMP:20260426T000000Z
UID:b3590607-aae1-41c2-9e7d-80fd5d57a137@ClaytonBocce
DTSTART;TZID=America/Los_Angeles:20260630T183000
DTEND;TZID=America/Los_Angeles:20260630T210000
STATUS:CONFIRMED
SUMMARY:Rock N Rollers vs El Wapo
URL:/League/Schedule/3206
DESCRIPTION:Regular Season match: Rock N Rollers vs El Wapo
LOCATION:Newhall Court 6
END:VEVENT
BEGIN:VEVENT
DTSTAMP:20260426T000000Z
UID:39a1ff47-4baf-4fb9-9c9f-caccca269b2f@ClaytonBocce
DTSTART;TZID=America/Los_Angeles:20260714T183000
DTEND;TZID=America/Los_Angeles:20260714T210000
STATUS:CONFIRMED
SUMMARY:Rock N Rollers vs BallBarians
URL:/League/Schedule/3206
DESCRIPTION:Regular Season match: Rock N Rollers vs BallBari
 ans
LOCATION:Newhall Court 5
END:VEVENT
BEGIN:VEVENT
DTSTAMP:20260426T000000Z
UID:33484c16-9b2c-4ec4-8bb5-33d69ab1ccd5@ClaytonBocce
DTSTART;TZID=America/Los_Angeles:20260728T183000
DTEND;TZID=America/Los_Angeles:20260728T210000
STATUS:CONFIRMED
SUMMARY:Rock N Rollers vs High Bocce Burners
URL:/League/Schedule/3206
DESCRIPTION:Regular Season match: Rock N Rollers vs High Boc
 ce Burners
LOCATION:Newhall Court 7
END:VEVENT
BEGIN:VEVENT
DTSTAMP:20260426T000000Z
UID:a9eea1a4-af9d-4b58-8d57-8cba4063b3c1@ClaytonBocce
DTSTART;TZID=America/Los_Angeles:20260804T183000
DTEND;TZID=America/Los_Angeles:20260804T210000
STATUS:CONFIRMED
SUMMARY:Rock N Rollers vs Get To Saturday
URL:/League/Schedule/3206
DESCRIPTION:Regular Season match: Rock N Rollers vs Get To S
 aturday
LOCATION:Newhall Court 3
END:VEVENT
BEGIN:VEVENT
DTSTAMP:20260426T000000Z
UID:27e67a56-cdf8-47f4-8190-03e882bd2bb1@ClaytonBocce
DTSTART;TZID=America/Los_Angeles:20260811T183000
DTEND;TZID=America/Los_Angeles:20260811T210000
STATUS:CONFIRMED
SUMMARY:Rock N Rollers vs Sempre Bocce
URL:/League/Schedule/3206
DESCRIPTION:Regular Season match: Rock N Rollers vs Sempre B
 occe
LOCATION:Newhall Court 2
END:VEVENT
BEGIN:VEVENT
DTSTAMP:20260426T000000Z
UID:4d694686-13bd-41ea-82db-c41ee43d2589@ClaytonBocce
DTSTART;TZID=America/Los_Angeles:20260818T183000
DTEND;TZID=America/Los_Angeles:20260818T210000
STATUS:CONFIRMED
SUMMARY:Rock N Rollers vs Dusty Balls
URL:/League/Schedule/3206
DESCRIPTION:Regular Season match: Rock N Rollers vs Dusty Ba
 lls
LOCATION:Newhall Court 1
END:VEVENT
BEGIN:VEVENT
DTSTAMP:20260426T000000Z
UID:c8809b3c-00fb-4d64-b2d8-b618a482f96e@ClaytonBocce
DTSTART;TZID=America/Los_Angeles:20260825T183000
DTEND;TZID=America/Los_Angeles:20260825T210000
STATUS:CONFIRMED
SUMMARY:Rock N Rollers vs Bada Bing Bada Boom
URL:/League/Schedule/3206
DESCRIPTION:Regular Season match: Rock N Rollers vs Bada Bin
 g Bada Boom
LOCATION:Newhall Court 4
END:VEVENT
BEGIN:VEVENT
DTSTAMP:20260426T000000Z
UID:3d2d9699-8993-4ce6-a353-16d4893f52c5@ClaytonBocce
DTSTART;TZID=America/Los_Angeles:20260901T183000
DTEND;TZID=America/Los_Angeles:20260901T210000
STATUS:CONFIRMED
SUMMARY:Rock N Rollers vs Unity Bro's
URL:/League/Schedule/3206
DESCRIPTION:Regular Season match: Rock N Rollers vs Unity Br
 o's
LOCATION:Newhall Court 8
END:VEVENT
END:VCALENDAR
